BEGIN:VCALENDAR
VERSION:2.0
PRODID:-//Freedom Temple Ministries - ECPv6.15.20//NONSGML v1.0//EN
CALSCALE:GREGORIAN
METHOD:PUBLISH
X-WR-CALNAME:Freedom Temple Ministries
X-ORIGINAL-URL:https://ftmrockhill.org
X-WR-CALDESC:Events for Freedom Temple Ministries
REFRESH-INTERVAL;VALUE=DURATION:PT1H
X-Robots-Tag:noindex
X-PUBLISHED-TTL:PT1H
BEGIN:VTIMEZONE
TZID:America/New_York
BEGIN:DAYLIGHT
TZOFFSETFROM:-0500
TZOFFSETTO:-0400
TZNAME:EDT
DTSTART:20230312T070000
END:DAYLIGHT
BEGIN:STANDARD
TZOFFSETFROM:-0400
TZOFFSETTO:-0500
TZNAME:EST
DTSTART:20231105T060000
END:STANDARD
BEGIN:DAYLIGHT
TZOFFSETFROM:-0500
TZOFFSETTO:-0400
TZNAME:EDT
DTSTART:20240310T070000
END:DAYLIGHT
BEGIN:STANDARD
TZOFFSETFROM:-0400
TZOFFSETTO:-0500
TZNAME:EST
DTSTART:20241103T060000
END:STANDARD
BEGIN:DAYLIGHT
TZOFFSETFROM:-0500
TZOFFSETTO:-0400
TZNAME:EDT
DTSTART:20250309T070000
END:DAYLIGHT
BEGIN:STANDARD
TZOFFSETFROM:-0400
TZOFFSETTO:-0500
TZNAME:EST
DTSTART:20251102T060000
END:STANDARD
END:VTIMEZONE
BEGIN:VEVENT
DTSTART;TZID=America/New_York:20240701T080000
DTEND;TZID=America/New_York:20240731T170000
DTSTAMP:20260426T001341
CREATED:20230303T063815Z
LAST-MODIFIED:20240709T165455Z
UID:37410-1719820800-1722445200@ftmrockhill.org
SUMMARY:Birthdays & Anniversaries
DESCRIPTION:Celebrating July Birthdays & Anniversaries!
URL:https://ftmrockhill.org/event/celebrating-march-birthdays-anniversaries/
CATEGORIES:Flyers
ATTACH;FMTTYPE=image/jpeg:https://ftmrockhill.org/wp-content/uploads/2023/03/FTM-JULY-Birthdays-Annniversaries-FLYERS-scaled.jpg
END:VEVENT
BEGIN:VEVENT
DTSTART;TZID=America/New_York:20240708T080000
DTEND;TZID=America/New_York:20240731T170000
DTSTAMP:20260426T001341
CREATED:20240709T022314Z
LAST-MODIFIED:20240709T022314Z
UID:39182-1720425600-1722445200@ftmrockhill.org
SUMMARY:A.A.Y.M. Survey
DESCRIPTION:A.A.Y.M. needs your SUPPORT.  We are asking EVERYONE to complete the SURVEY!  Thank you!
URL:https://ftmrockhill.org/event/a-a-y-m-survey/
CATEGORIES:Flyers
ATTACH;FMTTYPE=image/jpeg:https://ftmrockhill.org/wp-content/uploads/2024/07/FTM-AAYM-Survey-FLYER-scaled.jpg
END:VEVENT
BEGIN:VEVENT
DTSTART;TZID=America/New_York:20240723T080000
DTEND;TZID=America/New_York:20240723T170000
DTSTAMP:20260426T001341
CREATED:20240709T022836Z
LAST-MODIFIED:20240709T022836Z
UID:39190-1721721600-1721754000@ftmrockhill.org
SUMMARY:Freedom College Tours
DESCRIPTION:Attention High School Students\, sign up for the Freedom College Tours.
URL:https://ftmrockhill.org/event/freedom-college-tours/2024-07-23/
CATEGORIES:Flyers
ATTACH;FMTTYPE=image/jpeg:https://ftmrockhill.org/wp-content/uploads/2024/07/FTM-Montessori-RISE-Above-COLLEGE-TOUR-FLYER-scaled.jpg
END:VEVENT
END:VCALENDAR