BEGIN:VCALENDAR
VERSION:2.0
PRODID:-//Freedom Temple Ministries - ECPv6.15.20//NONSGML v1.0//EN
CALSCALE:GREGORIAN
METHOD:PUBLISH
X-WR-CALNAME:Freedom Temple Ministries
X-ORIGINAL-URL:https://ftmrockhill.org
X-WR-CALDESC:Events for Freedom Temple Ministries
REFRESH-INTERVAL;VALUE=DURATION:PT1H
X-Robots-Tag:noindex
X-PUBLISHED-TTL:PT1H
BEGIN:VTIMEZONE
TZID:America/New_York
BEGIN:DAYLIGHT
TZOFFSETFROM:-0500
TZOFFSETTO:-0400
TZNAME:EDT
DTSTART:20230312T070000
END:DAYLIGHT
BEGIN:STANDARD
TZOFFSETFROM:-0400
TZOFFSETTO:-0500
TZNAME:EST
DTSTART:20231105T060000
END:STANDARD
BEGIN:DAYLIGHT
TZOFFSETFROM:-0500
TZOFFSETTO:-0400
TZNAME:EDT
DTSTART:20240310T070000
END:DAYLIGHT
BEGIN:STANDARD
TZOFFSETFROM:-0400
TZOFFSETTO:-0500
TZNAME:EST
DTSTART:20241103T060000
END:STANDARD
BEGIN:DAYLIGHT
TZOFFSETFROM:-0500
TZOFFSETTO:-0400
TZNAME:EDT
DTSTART:20250309T070000
END:DAYLIGHT
BEGIN:STANDARD
TZOFFSETFROM:-0400
TZOFFSETTO:-0500
TZNAME:EST
DTSTART:20251102T060000
END:STANDARD
END:VTIMEZONE
BEGIN:VEVENT
DTSTART;TZID=America/New_York:20240818T080000
DTEND;TZID=America/New_York:20240818T170000
DTSTAMP:20260425T222537
CREATED:20240709T170743Z
LAST-MODIFIED:20240709T170743Z
UID:39462-1723968000-1724000400@ftmrockhill.org
SUMMARY:Freedom CARES
DESCRIPTION:Freedom CARES…let us know how you and your family are doing!
URL:https://ftmrockhill.org/event/freedom-cares-2024-09-15/2024-08-18/
CATEGORIES:Flyers
ATTACH;FMTTYPE=image/jpeg:https://ftmrockhill.org/wp-content/uploads/2024/07/FTM-VOF-Choir-Rehearsals-FLYER-scaled.jpg
END:VEVENT
BEGIN:VEVENT
DTSTART;TZID=America/New_York:20240818T100000
DTEND;TZID=America/New_York:20240818T120000
DTSTAMP:20260425T222537
CREATED:20220803T200945Z
LAST-MODIFIED:20220803T200945Z
UID:39018-1723975200-1723982400@ftmrockhill.org
SUMMARY:Baptism
DESCRIPTION:Baptism held every 3rd Sunday of each month!
URL:https://ftmrockhill.org/event/baptisms/2024-08-18/
CATEGORIES:Flyers
ATTACH;FMTTYPE=image/jpeg:https://ftmrockhill.org/wp-content/uploads/2022/08/FTM-Baptism-2024-FLYER-1-scaled.jpg
END:VEVENT
BEGIN:VEVENT
DTSTART;TZID=America/New_York:20240818T100000
DTEND;TZID=America/New_York:20240818T120000
DTSTAMP:20260425T222537
CREATED:20230623T205029Z
LAST-MODIFIED:20230623T205029Z
UID:39198-1723975200-1723982400@ftmrockhill.org
SUMMARY:Casual Attire Sundays
DESCRIPTION:Casual Attire Sundays for the months of July and August 2024!
URL:https://ftmrockhill.org/event/casual-attire-sundays/2024-08-18/
CATEGORIES:Flyers
ATTACH;FMTTYPE=image/jpeg:https://ftmrockhill.org/wp-content/uploads/2023/06/FTM-Casual-Sundays-2023-FLYER-scaled.jpg
END:VEVENT
BEGIN:VEVENT
DTSTART;TZID=America/New_York:20240818T100000
DTEND;TZID=America/New_York:20240818T120000
DTSTAMP:20260425T222537
CREATED:20240814T210733Z
LAST-MODIFIED:20240814T210733Z
UID:39574-1723975200-1723982400@ftmrockhill.org
SUMMARY:Ministry Leadership Empowerment Celebration
DESCRIPTION:Ministry Leadership Empowerment Celebration\, Sunday\, August 18th at 10am!
URL:https://ftmrockhill.org/event/ministry-leadership-empowerment-celebration/
CATEGORIES:Flyers
ATTACH;FMTTYPE=image/jpeg:https://ftmrockhill.org/wp-content/uploads/2024/08/FTM-Ministry-Leadership-2024-FLYER-scaled.jpg
END:VEVENT
BEGIN:VEVENT
DTSTART;TZID=America/New_York:20240818T100000
DTEND;TZID=America/New_York:20240818T170000
DTSTAMP:20260425T222537
CREATED:20240505T222933Z
LAST-MODIFIED:20240505T222933Z
UID:39035-1723975200-1724000400@ftmrockhill.org
SUMMARY:Baby Dedication
DESCRIPTION:Baby Dedication held on the 3rd Sunday of each month!
URL:https://ftmrockhill.org/event/baby-dedications/2024-08-18/
CATEGORIES:Flyers
ATTACH;FMTTYPE=image/jpeg:https://ftmrockhill.org/wp-content/uploads/2024/05/FTM-Baby-Dedication-2024-FLYER-2-scaled.jpg
END:VEVENT
END:VCALENDAR