BEGIN:VCALENDAR
VERSION:2.0
PRODID:-//Freedom Temple Ministries - ECPv6.15.20//NONSGML v1.0//EN
CALSCALE:GREGORIAN
METHOD:PUBLISH
X-ORIGINAL-URL:https://ftmrockhill.org
X-WR-CALDESC:Events for Freedom Temple Ministries
REFRESH-INTERVAL;VALUE=DURATION:PT1H
X-Robots-Tag:noindex
X-PUBLISHED-TTL:PT1H
BEGIN:VTIMEZONE
TZID:America/New_York
BEGIN:DAYLIGHT
TZOFFSETFROM:-0500
TZOFFSETTO:-0400
TZNAME:EDT
DTSTART:20230312T070000
END:DAYLIGHT
BEGIN:STANDARD
TZOFFSETFROM:-0400
TZOFFSETTO:-0500
TZNAME:EST
DTSTART:20231105T060000
END:STANDARD
BEGIN:DAYLIGHT
TZOFFSETFROM:-0500
TZOFFSETTO:-0400
TZNAME:EDT
DTSTART:20240310T070000
END:DAYLIGHT
BEGIN:STANDARD
TZOFFSETFROM:-0400
TZOFFSETTO:-0500
TZNAME:EST
DTSTART:20241103T060000
END:STANDARD
BEGIN:DAYLIGHT
TZOFFSETFROM:-0500
TZOFFSETTO:-0400
TZNAME:EDT
DTSTART:20250309T070000
END:DAYLIGHT
BEGIN:STANDARD
TZOFFSETFROM:-0400
TZOFFSETTO:-0500
TZNAME:EST
DTSTART:20251102T060000
END:STANDARD
END:VTIMEZONE
BEGIN:VEVENT
DTSTART;TZID=America/New_York:20241127T080000
DTEND;TZID=America/New_York:20241129T170000
DTSTAMP:20260425T114254
CREATED:20241119T171346Z
LAST-MODIFIED:20241119T171346Z
UID:39708-1732694400-1732899600@ftmrockhill.org
SUMMARY:Thanksgiving Closure
DESCRIPTION:The Freedom Center & Church Offices will be closed Wednesday – Friday\, November 27th-29th in observance of the Thanksgiving Holiday.
URL:https://ftmrockhill.org/event/thanksgiving-closure-2/
CATEGORIES:Flyers
ATTACH;FMTTYPE=image/jpeg:https://ftmrockhill.org/wp-content/uploads/2024/11/FTM-Thanksgiving-Closure-2024-FLYER-scaled.jpg
END:VEVENT
BEGIN:VEVENT
DTSTART;TZID=America/New_York:20241128T080000
DTEND;TZID=America/New_York:20241128T170000
DTSTAMP:20260425T114254
CREATED:20241119T175119Z
LAST-MODIFIED:20241119T175135Z
UID:39746-1732780800-1732813200@ftmrockhill.org
SUMMARY:Happy Thanksgiving!
DESCRIPTION:
URL:https://ftmrockhill.org/event/happy-thanksgiving/
CATEGORIES:Flyers
ATTACH;FMTTYPE=image/jpeg:https://ftmrockhill.org/wp-content/uploads/2024/11/FTM-Thanksgiving-2024-FLYER-scaled.jpg
END:VEVENT
END:VCALENDAR