BEGIN:VCALENDAR
VERSION:2.0
PRODID:-//Freedom Temple Ministries - ECPv6.15.20//NONSGML v1.0//EN
CALSCALE:GREGORIAN
METHOD:PUBLISH
X-ORIGINAL-URL:https://ftmrockhill.org
X-WR-CALDESC:Events for Freedom Temple Ministries
REFRESH-INTERVAL;VALUE=DURATION:PT1H
X-Robots-Tag:noindex
X-PUBLISHED-TTL:PT1H
BEGIN:VTIMEZONE
TZID:America/New_York
BEGIN:DAYLIGHT
TZOFFSETFROM:-0500
TZOFFSETTO:-0400
TZNAME:EDT
DTSTART:20230312T070000
END:DAYLIGHT
BEGIN:STANDARD
TZOFFSETFROM:-0400
TZOFFSETTO:-0500
TZNAME:EST
DTSTART:20231105T060000
END:STANDARD
BEGIN:DAYLIGHT
TZOFFSETFROM:-0500
TZOFFSETTO:-0400
TZNAME:EDT
DTSTART:20240310T070000
END:DAYLIGHT
BEGIN:STANDARD
TZOFFSETFROM:-0400
TZOFFSETTO:-0500
TZNAME:EST
DTSTART:20241103T060000
END:STANDARD
BEGIN:DAYLIGHT
TZOFFSETFROM:-0500
TZOFFSETTO:-0400
TZNAME:EDT
DTSTART:20250309T070000
END:DAYLIGHT
BEGIN:STANDARD
TZOFFSETFROM:-0400
TZOFFSETTO:-0500
TZNAME:EST
DTSTART:20251102T060000
END:STANDARD
END:VTIMEZONE
BEGIN:VEVENT
DTSTART;TZID=America/New_York:20241207T090000
DTEND;TZID=America/New_York:20241207T110000
DTSTAMP:20260425T095032
CREATED:20160328T161633Z
LAST-MODIFIED:20160328T161633Z
UID:37100-1733562000-1733569200@ftmrockhill.org
SUMMARY:Praise Dance Rehearsal
DESCRIPTION:Praise Dance Rehearsal\nEvery Monday at 6pm and Every Saturday at 9am
URL:https://ftmrockhill.org/event/praise-dance-rehearsal-3/2024-12-07/
LOCATION:Freedom Temple Ministries\, 215 E. Main Street\, Rock Hill\, SC\, 29730\, United States
END:VEVENT
BEGIN:VEVENT
DTSTART;TZID=America/New_York:20241207T090000
DTEND;TZID=America/New_York:20241207T120000
DTSTAMP:20260425T095032
CREATED:20241119T170247Z
LAST-MODIFIED:20241119T170303Z
UID:39699-1733562000-1733572800@ftmrockhill.org
SUMMARY:Healthcare Ministry The 3D Effect
DESCRIPTION:Healthcare Ministry Workshop & Blood Drive\, The 3D Effect\, Diabetics\, Diets & Doses\, December 7th\, 9am-12pm.  Scan QR Code to register.
URL:https://ftmrockhill.org/event/healthcare-ministry-the-3d-effect/
CATEGORIES:Flyers
ATTACH;FMTTYPE=image/jpeg:https://ftmrockhill.org/wp-content/uploads/2024/11/FTM-HEALTH-Healthcare-Workshop-FLYER-2-scaled.jpg
END:VEVENT
BEGIN:VEVENT
DTSTART;TZID=America/New_York:20241207T100000
DTEND;TZID=America/New_York:20241207T120000
DTSTAMP:20260425T095032
CREATED:20241119T173618Z
LAST-MODIFIED:20241119T173641Z
UID:39729-1733565600-1733572800@ftmrockhill.org
SUMMARY:Planning Meeting & Rehearsals for "A Freedom Family Production"
DESCRIPTION:Planning Meeting and rehearsals for “A Freedom Family Christmas.” Rehearsals are on Saturdays\, November 16\, 23\, and 30\, and December 7\, 14\, and 21 from 10am to 12pm.
URL:https://ftmrockhill.org/event/planning-meeting-rehearsals-for-a-freedom-family-production/2024-12-07/
CATEGORIES:Flyers
ATTACH;FMTTYPE=image/jpeg:https://ftmrockhill.org/wp-content/uploads/2024/11/FTM-Family-Christmas-FLYER-1.jpg
END:VEVENT
END:VCALENDAR