BEGIN:VCALENDAR
VERSION:2.0
PRODID:-//Freedom Temple Ministries - ECPv6.15.20//NONSGML v1.0//EN
CALSCALE:GREGORIAN
METHOD:PUBLISH
X-WR-CALNAME:Freedom Temple Ministries
X-ORIGINAL-URL:https://ftmrockhill.org
X-WR-CALDESC:Events for Freedom Temple Ministries
REFRESH-INTERVAL;VALUE=DURATION:PT1H
X-Robots-Tag:noindex
X-PUBLISHED-TTL:PT1H
BEGIN:VTIMEZONE
TZID:America/New_York
BEGIN:DAYLIGHT
TZOFFSETFROM:-0500
TZOFFSETTO:-0400
TZNAME:EDT
DTSTART:20240310T070000
END:DAYLIGHT
BEGIN:STANDARD
TZOFFSETFROM:-0400
TZOFFSETTO:-0500
TZNAME:EST
DTSTART:20241103T060000
END:STANDARD
BEGIN:DAYLIGHT
TZOFFSETFROM:-0500
TZOFFSETTO:-0400
TZNAME:EDT
DTSTART:20250309T070000
END:DAYLIGHT
BEGIN:STANDARD
TZOFFSETFROM:-0400
TZOFFSETTO:-0500
TZNAME:EST
DTSTART:20251102T060000
END:STANDARD
BEGIN:DAYLIGHT
TZOFFSETFROM:-0500
TZOFFSETTO:-0400
TZNAME:EDT
DTSTART:20260308T070000
END:DAYLIGHT
BEGIN:STANDARD
TZOFFSETFROM:-0400
TZOFFSETTO:-0500
TZNAME:EST
DTSTART:20261101T060000
END:STANDARD
END:VTIMEZONE
BEGIN:VEVENT
DTSTART;TZID=America/New_York:20250821T080000
DTEND;TZID=America/New_York:20250821T170000
DTSTAMP:20260424T174153
CREATED:20250821T185158Z
LAST-MODIFIED:20250821T185158Z
UID:40647-1755763200-1755795600@ftmrockhill.org
SUMMARY:JOY Ministry Resumes!
DESCRIPTION:JOY Ministry resumes on Wednesday\, September 3rd at 10am!
URL:https://ftmrockhill.org/event/joy-ministry-resumes/
CATEGORIES:Flyers
ATTACH;FMTTYPE=image/jpeg:https://ftmrockhill.org/wp-content/uploads/2025/08/FTM-JOY-RETURNS-2025-4-scaled.jpg
END:VEVENT
BEGIN:VEVENT
DTSTART;TZID=America/New_York:20250821T180000
DTEND;TZID=America/New_York:20250821T183000
DTSTAMP:20260424T174153
CREATED:20240709T021107Z
LAST-MODIFIED:20260417T183300Z
UID:39980-1755799200-1755801000@ftmrockhill.org
SUMMARY:Intercessory Prayer Ministry
DESCRIPTION:Intercessory Prayer Ministry\, Weekly Prayer Calls:  Tuesdays morning 6am – 6:30 am and Thursday evenings 6pm-6:30 pm.  712.432.3900\, Access Code:  174705 \n  \n  \n  \n  \n  \n  \n 
URL:https://ftmrockhill.org/event/intercessory-prayer-ministry-summer-break/2025-08-21/
CATEGORIES:Flyers
ATTACH;FMTTYPE=image/jpeg:https://ftmrockhill.org/wp-content/uploads/2024/07/FTM-Intercessory-Prayer-2-2025-FLYER-1-scaled.jpg
END:VEVENT
BEGIN:VEVENT
DTSTART;TZID=America/New_York:20250821T183319
DTEND;TZID=America/New_York:20250821T183319
DTSTAMP:20260424T174153
CREATED:20240505T222105Z
LAST-MODIFIED:20250821T183319Z
UID:35520-1755801199-1755801199@ftmrockhill.org
SUMMARY:Freedom Montessori is Now Hiring!
DESCRIPTION:Now hiring for Freedom Montessori School – Pre-K Teachers\, Toddler Teachers\, Substitutes\, and Summer Camp Counselors.
URL:https://ftmrockhill.org/event/now-hiring-for-summer-camp/
CATEGORIES:Flyers
ATTACH;FMTTYPE=image/jpeg:https://ftmrockhill.org/wp-content/uploads/2024/05/FTM-Montessori-Job-Listing-2023-FLYER-3-scaled.jpg
END:VEVENT
BEGIN:VEVENT
DTSTART;TZID=America/New_York:20250821T183438
DTEND;TZID=America/New_York:20250821T183438
DTSTAMP:20260424T174153
CREATED:20250501T201400Z
LAST-MODIFIED:20250821T183437Z
UID:40416-1755801278-1755801278@ftmrockhill.org
SUMMARY:Freedom Montessori School Thursday Morning Tours
DESCRIPTION:Enroll NOW for the Fall 2025-26 School Year!  Peek Inside!
URL:https://ftmrockhill.org/event/freedom-montessori-school-thursday-morning-tours/
CATEGORIES:Flyers
ATTACH;FMTTYPE=image/jpeg:https://ftmrockhill.org/wp-content/uploads/2025/05/FTM-Montessori-Peek-Inside-FLYER-scaled.jpg
END:VEVENT
END:VCALENDAR