BEGIN:VCALENDAR
VERSION:2.0
PRODID:-//Freedom Temple Ministries - ECPv6.15.20//NONSGML v1.0//EN
CALSCALE:GREGORIAN
METHOD:PUBLISH
X-WR-CALNAME:Freedom Temple Ministries
X-ORIGINAL-URL:https://ftmrockhill.org
X-WR-CALDESC:Events for Freedom Temple Ministries
REFRESH-INTERVAL;VALUE=DURATION:PT1H
X-Robots-Tag:noindex
X-PUBLISHED-TTL:PT1H
BEGIN:VTIMEZONE
TZID:America/New_York
BEGIN:DAYLIGHT
TZOFFSETFROM:-0500
TZOFFSETTO:-0400
TZNAME:EDT
DTSTART:20240310T070000
END:DAYLIGHT
BEGIN:STANDARD
TZOFFSETFROM:-0400
TZOFFSETTO:-0500
TZNAME:EST
DTSTART:20241103T060000
END:STANDARD
BEGIN:DAYLIGHT
TZOFFSETFROM:-0500
TZOFFSETTO:-0400
TZNAME:EDT
DTSTART:20250309T070000
END:DAYLIGHT
BEGIN:STANDARD
TZOFFSETFROM:-0400
TZOFFSETTO:-0500
TZNAME:EST
DTSTART:20251102T060000
END:STANDARD
BEGIN:DAYLIGHT
TZOFFSETFROM:-0500
TZOFFSETTO:-0400
TZNAME:EDT
DTSTART:20260308T070000
END:DAYLIGHT
BEGIN:STANDARD
TZOFFSETFROM:-0400
TZOFFSETTO:-0500
TZNAME:EST
DTSTART:20261101T060000
END:STANDARD
END:VTIMEZONE
BEGIN:VEVENT
DTSTART;TZID=America/New_York:20251121T080000
DTEND;TZID=America/New_York:20251121T170000
DTSTAMP:20260424T085934
CREATED:20251103T164204Z
LAST-MODIFIED:20251103T164204Z
UID:40832-1763712000-1763744400@ftmrockhill.org
SUMMARY:Thanksgiving Fill-A-Bag
DESCRIPTION:Pick up a Thanksgiving Bag from the Bookstore or Vestibule\, fill it with the items on the attached list\, and return it on or before November 21st.  These Thanksgiving bags will be given to our community on Saturday\, November 22nd\, during our Freedom & Friends Giving Event!
URL:https://ftmrockhill.org/event/thanksgiving-fill-a-bag/
CATEGORIES:Flyers
ATTACH;FMTTYPE=image/jpeg:https://ftmrockhill.org/wp-content/uploads/2025/11/FTM-Thanksgiving-Bag-Giveaway-2025-FLYER-scaled.jpg
END:VEVENT
BEGIN:VEVENT
DTSTART;TZID=America/New_York:20251121T080000
DTEND;TZID=America/New_York:20251121T170000
DTSTAMP:20260424T085934
CREATED:20251103T165700Z
LAST-MODIFIED:20251103T165700Z
UID:40839-1763712000-1763744400@ftmrockhill.org
SUMMARY:Warm Weather Essentials for Our Community
DESCRIPTION:Donate your new to lightly used Coats\, Jackets\, Hoodies\, and Blankets!  These items will be given to our community during our Freedom & Friends Giving Event on November 22nd!
URL:https://ftmrockhill.org/event/warm-weather-essentials-for-our-community/
CATEGORIES:Flyers
ATTACH;FMTTYPE=image/jpeg:https://ftmrockhill.org/wp-content/uploads/2025/11/FTM-Warm-Weather-Items-FLYER-2-scaled.jpg
END:VEVENT
END:VCALENDAR