BEGIN:VCALENDAR
VERSION:2.0
PRODID:-//Freedom Temple Ministries - ECPv6.15.20//NONSGML v1.0//EN
CALSCALE:GREGORIAN
METHOD:PUBLISH
X-WR-CALNAME:Freedom Temple Ministries
X-ORIGINAL-URL:https://ftmrockhill.org
X-WR-CALDESC:Events for Freedom Temple Ministries
REFRESH-INTERVAL;VALUE=DURATION:PT1H
X-Robots-Tag:noindex
X-PUBLISHED-TTL:PT1H
BEGIN:VTIMEZONE
TZID:America/New_York
BEGIN:DAYLIGHT
TZOFFSETFROM:-0500
TZOFFSETTO:-0400
TZNAME:EDT
DTSTART:20230312T070000
END:DAYLIGHT
BEGIN:STANDARD
TZOFFSETFROM:-0400
TZOFFSETTO:-0500
TZNAME:EST
DTSTART:20231105T060000
END:STANDARD
BEGIN:DAYLIGHT
TZOFFSETFROM:-0500
TZOFFSETTO:-0400
TZNAME:EDT
DTSTART:20240310T070000
END:DAYLIGHT
BEGIN:STANDARD
TZOFFSETFROM:-0400
TZOFFSETTO:-0500
TZNAME:EST
DTSTART:20241103T060000
END:STANDARD
BEGIN:DAYLIGHT
TZOFFSETFROM:-0500
TZOFFSETTO:-0400
TZNAME:EDT
DTSTART:20250309T070000
END:DAYLIGHT
BEGIN:STANDARD
TZOFFSETFROM:-0400
TZOFFSETTO:-0500
TZNAME:EST
DTSTART:20251102T060000
END:STANDARD
BEGIN:DAYLIGHT
TZOFFSETFROM:-0500
TZOFFSETTO:-0400
TZNAME:EDT
DTSTART:20260308T070000
END:DAYLIGHT
BEGIN:STANDARD
TZOFFSETFROM:-0400
TZOFFSETTO:-0500
TZNAME:EST
DTSTART:20261101T060000
END:STANDARD
END:VTIMEZONE
BEGIN:VEVENT
DTSTART;TZID=America/New_York:20250101T100000
DTEND;TZID=America/New_York:20250101T113000
DTSTAMP:20260425T114744
CREATED:20200415T194205Z
LAST-MODIFIED:20250701T210013Z
UID:40092-1735725600-1735731000@ftmrockhill.org
SUMMARY:JOY Ministry
DESCRIPTION:JOY Ministry\, Wednesdays mornings at 10am.
URL:https://ftmrockhill.org/event/joy-ministry-mid-week/2025-01-01/
CATEGORIES:Flyers
ATTACH;FMTTYPE=image/jpeg:https://ftmrockhill.org/wp-content/uploads/2020/04/FTM-JOY-2025-2-FLYER-1-scaled.jpg
END:VEVENT
BEGIN:VEVENT
DTSTART;TZID=America/New_York:20241231T190000
DTEND;TZID=America/New_York:20241231T210000
DTSTAMP:20260425T114744
CREATED:20241119T175921Z
LAST-MODIFIED:20241119T175921Z
UID:39753-1735671600-1735678800@ftmrockhill.org
SUMMARY:Freedom's New Year's Eve Service\, December 31st
DESCRIPTION:Join us for Freedom’s New Year’s Eve Service on Tuesday\, December 31st at 7pm in the Freedom Sanctuary!
URL:https://ftmrockhill.org/event/freedoms-new-years-eve-service-december-31st/
CATEGORIES:Flyers
ATTACH;FMTTYPE=image/jpeg:https://ftmrockhill.org/wp-content/uploads/2024/11/FTM-New-Years-Eve-2024-FLYER-scaled.jpg
END:VEVENT
BEGIN:VEVENT
DTSTART;TZID=America/New_York:20241231T080000
DTEND;TZID=America/New_York:20241231T170000
DTSTAMP:20260425T114744
CREATED:20241119T181028Z
LAST-MODIFIED:20241119T181028Z
UID:39761-1735632000-1735664400@ftmrockhill.org
SUMMARY:A.C.T.I.O.N. Needs Mentors!
DESCRIPTION:Are you interested in sharing your experience\, strength & hope with our young adults?  If so\, contact LaShanna Sellars at lsellars@ftmrockhill.org.
URL:https://ftmrockhill.org/event/a-c-t-i-o-n-needs-mentors/
CATEGORIES:Flyers
ATTACH;FMTTYPE=image/jpeg:https://ftmrockhill.org/wp-content/uploads/2024/11/FTM-ACTION-Mentors-FLYER-scaled.jpg
END:VEVENT
BEGIN:VEVENT
DTSTART;TZID=America/New_York:20241230T190000
DTEND;TZID=America/New_York:20241230T210000
DTSTAMP:20260425T114744
CREATED:20160328T161754Z
LAST-MODIFIED:20160328T161754Z
UID:37175-1735585200-1735592400@ftmrockhill.org
SUMMARY:Voices of Freedom / Praise Team Rehearsals
DESCRIPTION:Voices of Freedom / Praise Team Rehearsals\nEvery Monday at 7pm at Freedom Temple Ministries
URL:https://ftmrockhill.org/event/voices-of-freedom-praise-team-rehearsals-2/2024-12-30/
LOCATION:Freedom Temple Ministries\, 215 E. Main Street\, Rock Hill\, SC\, 29730\, United States
END:VEVENT
BEGIN:VEVENT
DTSTART;TZID=America/New_York:20241230T180000
DTEND;TZID=America/New_York:20241230T200000
DTSTAMP:20260425T114744
CREATED:20160317T132653Z
LAST-MODIFIED:20160317T132653Z
UID:37174-1735581600-1735588800@ftmrockhill.org
SUMMARY:Praise Dance Rehearsal
DESCRIPTION:Praise Dance Rehearsal\nEvery Monday at 6pm and Every Saturday at 9am
URL:https://ftmrockhill.org/event/praise-dance-rehearsal/2024-12-30/
LOCATION:Freedom Temple Ministries\, 215 E. Main Street\, Rock Hill\, SC\, 29730\, United States
END:VEVENT
BEGIN:VEVENT
DTSTART;TZID=America/New_York:20241229T100000
DTEND;TZID=America/New_York:20241229T120000
DTSTAMP:20260425T114744
CREATED:20241119T175506Z
LAST-MODIFIED:20241119T175623Z
UID:39749-1735466400-1735473600@ftmrockhill.org
SUMMARY:100% Virtual Service on Sunday\, December 29th!
DESCRIPTION:There will be no in-house service on Sunday\, December 29th!  Service will be 100% Virtual.  Join us from home!
URL:https://ftmrockhill.org/event/100-virtual-service-on-december-29th/
CATEGORIES:Flyers
ATTACH;FMTTYPE=image/jpeg:https://ftmrockhill.org/wp-content/uploads/2024/11/FTM-Virtual-12-29-2024-FLYER-scaled.jpg
END:VEVENT
BEGIN:VEVENT
DTSTART;TZID=America/New_York:20241229T100000
DTEND;TZID=America/New_York:20241229T120000
DTSTAMP:20260425T114744
CREATED:20241119T172326Z
LAST-MODIFIED:20241119T172326Z
UID:39724-1735466400-1735473600@ftmrockhill.org
SUMMARY:A Freedom Christmas Affair
DESCRIPTION:Follow our events each Sunday in December 2024!
URL:https://ftmrockhill.org/event/a-freedom-christmas-affair-2/2024-12-29/
CATEGORIES:Flyers
ATTACH;FMTTYPE=image/jpeg:https://ftmrockhill.org/wp-content/uploads/2024/11/FTM-Christmas-Affair-2024-FLYER-scaled.jpg
END:VEVENT
BEGIN:VEVENT
DTSTART;TZID=America/New_York:20241228T090000
DTEND;TZID=America/New_York:20241228T110000
DTSTAMP:20260425T114744
CREATED:20160328T161633Z
LAST-MODIFIED:20160328T161633Z
UID:37173-1735376400-1735383600@ftmrockhill.org
SUMMARY:Praise Dance Rehearsal
DESCRIPTION:Praise Dance Rehearsal\nEvery Monday at 6pm and Every Saturday at 9am
URL:https://ftmrockhill.org/event/praise-dance-rehearsal-3/2024-12-28/
LOCATION:Freedom Temple Ministries\, 215 E. Main Street\, Rock Hill\, SC\, 29730\, United States
END:VEVENT
BEGIN:VEVENT
DTSTART;TZID=America/New_York:20241225T100000
DTEND;TZID=America/New_York:20241225T113000
DTSTAMP:20260425T114744
CREATED:20200415T194205Z
LAST-MODIFIED:20250701T210012Z
UID:40091-1735120800-1735126200@ftmrockhill.org
SUMMARY:JOY Ministry
DESCRIPTION:JOY Ministry\, Wednesdays mornings at 10am.
URL:https://ftmrockhill.org/event/joy-ministry-mid-week/2024-12-25/
CATEGORIES:Flyers
ATTACH;FMTTYPE=image/jpeg:https://ftmrockhill.org/wp-content/uploads/2020/04/FTM-JOY-2025-2-FLYER-1-scaled.jpg
END:VEVENT
BEGIN:VEVENT
DTSTART;TZID=America/New_York:20241223T190000
DTEND;TZID=America/New_York:20241223T210000
DTSTAMP:20260425T114744
CREATED:20160328T161754Z
LAST-MODIFIED:20160328T161754Z
UID:37172-1734980400-1734987600@ftmrockhill.org
SUMMARY:Voices of Freedom / Praise Team Rehearsals
DESCRIPTION:Voices of Freedom / Praise Team Rehearsals\nEvery Monday at 7pm at Freedom Temple Ministries
URL:https://ftmrockhill.org/event/voices-of-freedom-praise-team-rehearsals-2/2024-12-23/
LOCATION:Freedom Temple Ministries\, 215 E. Main Street\, Rock Hill\, SC\, 29730\, United States
END:VEVENT
BEGIN:VEVENT
DTSTART;TZID=America/New_York:20241223T180000
DTEND;TZID=America/New_York:20241223T200000
DTSTAMP:20260425T114744
CREATED:20160317T132653Z
LAST-MODIFIED:20160317T132653Z
UID:37171-1734976800-1734984000@ftmrockhill.org
SUMMARY:Praise Dance Rehearsal
DESCRIPTION:Praise Dance Rehearsal\nEvery Monday at 6pm and Every Saturday at 9am
URL:https://ftmrockhill.org/event/praise-dance-rehearsal/2024-12-23/
LOCATION:Freedom Temple Ministries\, 215 E. Main Street\, Rock Hill\, SC\, 29730\, United States
END:VEVENT
BEGIN:VEVENT
DTSTART;TZID=America/New_York:20241222T100000
DTEND;TZID=America/New_York:20241222T120000
DTSTAMP:20260425T114744
CREATED:20241119T174131Z
LAST-MODIFIED:20241119T174131Z
UID:39739-1734861600-1734868800@ftmrockhill.org
SUMMARY:"A Freedom Family Christmas" Production
DESCRIPTION:You are invited to Freedom Temple Ministries’ “A Freedom Family Christmas” Production on Sunday\, December 22nd at 10am in the Freedom Sanctuary.
URL:https://ftmrockhill.org/event/a-freedom-family-christmas-production-2/
CATEGORIES:Flyers
ATTACH;FMTTYPE=image/jpeg:https://ftmrockhill.org/wp-content/uploads/2024/11/FTM-Family-Christmas-Event-FLYER-scaled.jpg
END:VEVENT
BEGIN:VEVENT
DTSTART;TZID=America/New_York:20241222T100000
DTEND;TZID=America/New_York:20241222T120000
DTSTAMP:20260425T114744
CREATED:20241119T172326Z
LAST-MODIFIED:20241119T172326Z
UID:39723-1734861600-1734868800@ftmrockhill.org
SUMMARY:A Freedom Christmas Affair
DESCRIPTION:Follow our events each Sunday in December 2024!
URL:https://ftmrockhill.org/event/a-freedom-christmas-affair-2/2024-12-22/
CATEGORIES:Flyers
ATTACH;FMTTYPE=image/jpeg:https://ftmrockhill.org/wp-content/uploads/2024/11/FTM-Christmas-Affair-2024-FLYER-scaled.jpg
END:VEVENT
BEGIN:VEVENT
DTSTART;TZID=America/New_York:20241221T100000
DTEND;TZID=America/New_York:20241221T120000
DTSTAMP:20260425T114744
CREATED:20241119T173618Z
LAST-MODIFIED:20241119T173642Z
UID:39731-1734775200-1734782400@ftmrockhill.org
SUMMARY:Planning Meeting & Rehearsals for "A Freedom Family Production"
DESCRIPTION:Planning Meeting and rehearsals for “A Freedom Family Christmas.” Rehearsals are on Saturdays\, November 16\, 23\, and 30\, and December 7\, 14\, and 21 from 10am to 12pm.
URL:https://ftmrockhill.org/event/planning-meeting-rehearsals-for-a-freedom-family-production/2024-12-21/
CATEGORIES:Flyers
ATTACH;FMTTYPE=image/jpeg:https://ftmrockhill.org/wp-content/uploads/2024/11/FTM-Family-Christmas-FLYER-1.jpg
END:VEVENT
BEGIN:VEVENT
DTSTART;TZID=America/New_York:20241221T100000
DTEND;TZID=America/New_York:20241221T120000
DTSTAMP:20260425T114744
CREATED:20241119T171053Z
LAST-MODIFIED:20241119T171053Z
UID:39705-1734775200-1734782400@ftmrockhill.org
SUMMARY:"What if it's Not the Most Wonderful Time of the Year?"  Grief Seminar
DESCRIPTION:Join us for an empowering seminar on surviving the holiday season while grieving with Elder Monique Waithe on Saturday\, December 21st\, 10am—12pm in the Freedom Executive Hall.
URL:https://ftmrockhill.org/event/what-if-its-not-the-most-wonderful-time-of-the-year-grief-seminar/
CATEGORIES:Flyers
ATTACH;FMTTYPE=image/jpeg:https://ftmrockhill.org/wp-content/uploads/2024/11/FTM-Grief-Seminar-2024-FLYER-scaled.jpg
END:VEVENT
BEGIN:VEVENT
DTSTART;TZID=America/New_York:20241221T090000
DTEND;TZID=America/New_York:20241221T120000
DTSTAMP:20260425T114744
CREATED:20240505T231230Z
LAST-MODIFIED:20240521T193653Z
UID:39080-1734771600-1734782400@ftmrockhill.org
SUMMARY:Clothing Closet
DESCRIPTION:Clothing Closet open every 3rd Saturday of each month\, 9am-12pm!  Thursdays & Fridays by Appointment Only!
URL:https://ftmrockhill.org/event/clothes-closet-grand-re-opening/2024-12-21/
CATEGORIES:Flyers
ATTACH;FMTTYPE=image/jpeg:https://ftmrockhill.org/wp-content/uploads/2024/05/FTM-Clothes-Closet-GENERIC-FLYER-scaled.jpg
END:VEVENT
BEGIN:VEVENT
DTSTART;TZID=America/New_York:20241221T090000
DTEND;TZID=America/New_York:20241221T110000
DTSTAMP:20260425T114744
CREATED:20160328T161633Z
LAST-MODIFIED:20160328T161633Z
UID:37170-1734771600-1734778800@ftmrockhill.org
SUMMARY:Praise Dance Rehearsal
DESCRIPTION:Praise Dance Rehearsal\nEvery Monday at 6pm and Every Saturday at 9am
URL:https://ftmrockhill.org/event/praise-dance-rehearsal-3/2024-12-21/
LOCATION:Freedom Temple Ministries\, 215 E. Main Street\, Rock Hill\, SC\, 29730\, United States
END:VEVENT
BEGIN:VEVENT
DTSTART;TZID=America/New_York:20241218T100000
DTEND;TZID=America/New_York:20241218T113000
DTSTAMP:20260425T114744
CREATED:20200415T194205Z
LAST-MODIFIED:20250701T210012Z
UID:40086-1734516000-1734521400@ftmrockhill.org
SUMMARY:JOY Ministry
DESCRIPTION:JOY Ministry\, Wednesdays mornings at 10am.
URL:https://ftmrockhill.org/event/joy-ministry-mid-week/2024-12-18/
CATEGORIES:Flyers
ATTACH;FMTTYPE=image/jpeg:https://ftmrockhill.org/wp-content/uploads/2020/04/FTM-JOY-2025-2-FLYER-1-scaled.jpg
END:VEVENT
BEGIN:VEVENT
DTSTART;TZID=America/New_York:20241216T190000
DTEND;TZID=America/New_York:20241216T210000
DTSTAMP:20260425T114744
CREATED:20160328T161754Z
LAST-MODIFIED:20160328T161754Z
UID:37169-1734375600-1734382800@ftmrockhill.org
SUMMARY:Voices of Freedom / Praise Team Rehearsals
DESCRIPTION:Voices of Freedom / Praise Team Rehearsals\nEvery Monday at 7pm at Freedom Temple Ministries
URL:https://ftmrockhill.org/event/voices-of-freedom-praise-team-rehearsals-2/2024-12-16/
LOCATION:Freedom Temple Ministries\, 215 E. Main Street\, Rock Hill\, SC\, 29730\, United States
END:VEVENT
BEGIN:VEVENT
DTSTART;TZID=America/New_York:20241216T180000
DTEND;TZID=America/New_York:20241216T200000
DTSTAMP:20260425T114744
CREATED:20160317T132653Z
LAST-MODIFIED:20160317T132653Z
UID:37168-1734372000-1734379200@ftmrockhill.org
SUMMARY:Praise Dance Rehearsal
DESCRIPTION:Praise Dance Rehearsal\nEvery Monday at 6pm and Every Saturday at 9am
URL:https://ftmrockhill.org/event/praise-dance-rehearsal/2024-12-16/
LOCATION:Freedom Temple Ministries\, 215 E. Main Street\, Rock Hill\, SC\, 29730\, United States
END:VEVENT
BEGIN:VEVENT
DTSTART;TZID=America/New_York:20241215T100000
DTEND;TZID=America/New_York:20241215T170000
DTSTAMP:20260425T114744
CREATED:20240505T222933Z
LAST-MODIFIED:20240505T222933Z
UID:39039-1734256800-1734282000@ftmrockhill.org
SUMMARY:Baby Dedication
DESCRIPTION:Baby Dedication held on the 3rd Sunday of each month!
URL:https://ftmrockhill.org/event/baby-dedications/2024-12-15/
CATEGORIES:Flyers
ATTACH;FMTTYPE=image/jpeg:https://ftmrockhill.org/wp-content/uploads/2024/05/FTM-Baby-Dedication-2024-FLYER-2-scaled.jpg
END:VEVENT
BEGIN:VEVENT
DTSTART;TZID=America/New_York:20241215T100000
DTEND;TZID=America/New_York:20241215T120000
DTSTAMP:20260425T114744
CREATED:20241119T172326Z
LAST-MODIFIED:20241119T172326Z
UID:39722-1734256800-1734264000@ftmrockhill.org
SUMMARY:A Freedom Christmas Affair
DESCRIPTION:Follow our events each Sunday in December 2024!
URL:https://ftmrockhill.org/event/a-freedom-christmas-affair-2/2024-12-15/
CATEGORIES:Flyers
ATTACH;FMTTYPE=image/jpeg:https://ftmrockhill.org/wp-content/uploads/2024/11/FTM-Christmas-Affair-2024-FLYER-scaled.jpg
END:VEVENT
BEGIN:VEVENT
DTSTART;TZID=America/New_York:20241215T100000
DTEND;TZID=America/New_York:20241215T120000
DTSTAMP:20260425T114744
CREATED:20220803T200945Z
LAST-MODIFIED:20220803T200945Z
UID:39022-1734256800-1734264000@ftmrockhill.org
SUMMARY:Baptism
DESCRIPTION:Baptism held every 3rd Sunday of each month!
URL:https://ftmrockhill.org/event/baptisms/2024-12-15/
CATEGORIES:Flyers
ATTACH;FMTTYPE=image/jpeg:https://ftmrockhill.org/wp-content/uploads/2022/08/FTM-Baptism-2024-FLYER-1-scaled.jpg
END:VEVENT
BEGIN:VEVENT
DTSTART;TZID=America/New_York:20241214T170000
DTEND;TZID=America/New_York:20241214T190000
DTSTAMP:20260425T114744
CREATED:20241119T174852Z
LAST-MODIFIED:20241119T174906Z
UID:39742-1734195600-1734202800@ftmrockhill.org
SUMMARY:Women's Ministry's "A Relax & Renew Movie Night"
DESCRIPTION:Join the Women’s Ministry for “A Relax & Renew Movie Night” on Saturday\, December 14th\, from 5pm to 7pm in the Freedom Cafe.
URL:https://ftmrockhill.org/event/womens-ministrys-a-relax-renew-movie-night/
CATEGORIES:Flyers
ATTACH;FMTTYPE=image/jpeg:https://ftmrockhill.org/wp-content/uploads/2024/11/FTM-Womens-Movie-Night-FLYER-scaled.jpg
END:VEVENT
BEGIN:VEVENT
DTSTART;TZID=America/New_York:20241214T100000
DTEND;TZID=America/New_York:20241214T120000
DTSTAMP:20260425T114744
CREATED:20241119T173618Z
LAST-MODIFIED:20241119T173642Z
UID:39730-1734170400-1734177600@ftmrockhill.org
SUMMARY:Planning Meeting & Rehearsals for "A Freedom Family Production"
DESCRIPTION:Planning Meeting and rehearsals for “A Freedom Family Christmas.” Rehearsals are on Saturdays\, November 16\, 23\, and 30\, and December 7\, 14\, and 21 from 10am to 12pm.
URL:https://ftmrockhill.org/event/planning-meeting-rehearsals-for-a-freedom-family-production/2024-12-14/
CATEGORIES:Flyers
ATTACH;FMTTYPE=image/jpeg:https://ftmrockhill.org/wp-content/uploads/2024/11/FTM-Family-Christmas-FLYER-1.jpg
END:VEVENT
BEGIN:VEVENT
DTSTART;TZID=America/New_York:20241214T090000
DTEND;TZID=America/New_York:20241214T110000
DTSTAMP:20260425T114744
CREATED:20160328T161633Z
LAST-MODIFIED:20160328T161633Z
UID:37166-1734166800-1734174000@ftmrockhill.org
SUMMARY:Praise Dance Rehearsal
DESCRIPTION:Praise Dance Rehearsal\nEvery Monday at 6pm and Every Saturday at 9am
URL:https://ftmrockhill.org/event/praise-dance-rehearsal-3/2024-12-14/
LOCATION:Freedom Temple Ministries\, 215 E. Main Street\, Rock Hill\, SC\, 29730\, United States
END:VEVENT
BEGIN:VEVENT
DTSTART;TZID=America/New_York:20241211T100000
DTEND;TZID=America/New_York:20241211T113000
DTSTAMP:20260425T114744
CREATED:20200415T194205Z
LAST-MODIFIED:20250701T210012Z
UID:40085-1733911200-1733916600@ftmrockhill.org
SUMMARY:JOY Ministry
DESCRIPTION:JOY Ministry\, Wednesdays mornings at 10am.
URL:https://ftmrockhill.org/event/joy-ministry-mid-week/2024-12-11/
CATEGORIES:Flyers
ATTACH;FMTTYPE=image/jpeg:https://ftmrockhill.org/wp-content/uploads/2020/04/FTM-JOY-2025-2-FLYER-1-scaled.jpg
END:VEVENT
BEGIN:VEVENT
DTSTART;TZID=America/New_York:20241209T190000
DTEND;TZID=America/New_York:20241209T210000
DTSTAMP:20260425T114744
CREATED:20160328T161754Z
LAST-MODIFIED:20160328T161754Z
UID:37102-1733770800-1733778000@ftmrockhill.org
SUMMARY:Voices of Freedom / Praise Team Rehearsals
DESCRIPTION:Voices of Freedom / Praise Team Rehearsals\nEvery Monday at 7pm at Freedom Temple Ministries
URL:https://ftmrockhill.org/event/voices-of-freedom-praise-team-rehearsals-2/2024-12-09/
LOCATION:Freedom Temple Ministries\, 215 E. Main Street\, Rock Hill\, SC\, 29730\, United States
END:VEVENT
BEGIN:VEVENT
DTSTART;TZID=America/New_York:20241209T180000
DTEND;TZID=America/New_York:20241209T200000
DTSTAMP:20260425T114744
CREATED:20160317T132653Z
LAST-MODIFIED:20160317T132653Z
UID:37101-1733767200-1733774400@ftmrockhill.org
SUMMARY:Praise Dance Rehearsal
DESCRIPTION:Praise Dance Rehearsal\nEvery Monday at 6pm and Every Saturday at 9am
URL:https://ftmrockhill.org/event/praise-dance-rehearsal/2024-12-09/
LOCATION:Freedom Temple Ministries\, 215 E. Main Street\, Rock Hill\, SC\, 29730\, United States
END:VEVENT
BEGIN:VEVENT
DTSTART;TZID=America/New_York:20241208T100000
DTEND;TZID=America/New_York:20241208T120000
DTSTAMP:20260425T114744
CREATED:20241119T172326Z
LAST-MODIFIED:20241119T172326Z
UID:39721-1733652000-1733659200@ftmrockhill.org
SUMMARY:A Freedom Christmas Affair
DESCRIPTION:Follow our events each Sunday in December 2024!
URL:https://ftmrockhill.org/event/a-freedom-christmas-affair-2/2024-12-08/
CATEGORIES:Flyers
ATTACH;FMTTYPE=image/jpeg:https://ftmrockhill.org/wp-content/uploads/2024/11/FTM-Christmas-Affair-2024-FLYER-scaled.jpg
END:VEVENT
END:VCALENDAR