BEGIN:VCALENDAR
VERSION:2.0
PRODID:-//Freedom Temple Ministries - ECPv6.15.20//NONSGML v1.0//EN
CALSCALE:GREGORIAN
METHOD:PUBLISH
X-WR-CALNAME:Freedom Temple Ministries
X-ORIGINAL-URL:https://ftmrockhill.org
X-WR-CALDESC:Events for Freedom Temple Ministries
REFRESH-INTERVAL;VALUE=DURATION:PT1H
X-Robots-Tag:noindex
X-PUBLISHED-TTL:PT1H
BEGIN:VTIMEZONE
TZID:America/New_York
BEGIN:DAYLIGHT
TZOFFSETFROM:-0500
TZOFFSETTO:-0400
TZNAME:EDT
DTSTART:20230312T070000
END:DAYLIGHT
BEGIN:STANDARD
TZOFFSETFROM:-0400
TZOFFSETTO:-0500
TZNAME:EST
DTSTART:20231105T060000
END:STANDARD
BEGIN:DAYLIGHT
TZOFFSETFROM:-0500
TZOFFSETTO:-0400
TZNAME:EDT
DTSTART:20240310T070000
END:DAYLIGHT
BEGIN:STANDARD
TZOFFSETFROM:-0400
TZOFFSETTO:-0500
TZNAME:EST
DTSTART:20241103T060000
END:STANDARD
BEGIN:DAYLIGHT
TZOFFSETFROM:-0500
TZOFFSETTO:-0400
TZNAME:EDT
DTSTART:20250309T070000
END:DAYLIGHT
BEGIN:STANDARD
TZOFFSETFROM:-0400
TZOFFSETTO:-0500
TZNAME:EST
DTSTART:20251102T060000
END:STANDARD
END:VTIMEZONE
BEGIN:VEVENT
DTSTART;TZID=America/New_York:20240701T080000
DTEND;TZID=America/New_York:20240731T170000
DTSTAMP:20260426T001735
CREATED:20230303T063815Z
LAST-MODIFIED:20240709T165455Z
UID:37410-1719820800-1722445200@ftmrockhill.org
SUMMARY:Birthdays & Anniversaries
DESCRIPTION:Celebrating July Birthdays & Anniversaries!
URL:https://ftmrockhill.org/event/celebrating-march-birthdays-anniversaries/
CATEGORIES:Flyers
ATTACH;FMTTYPE=image/jpeg:https://ftmrockhill.org/wp-content/uploads/2023/03/FTM-JULY-Birthdays-Annniversaries-FLYERS-scaled.jpg
END:VEVENT
BEGIN:VEVENT
DTSTART;TZID=America/New_York:20240708T080000
DTEND;TZID=America/New_York:20240731T170000
DTSTAMP:20260426T001735
CREATED:20240709T022314Z
LAST-MODIFIED:20240709T022314Z
UID:39182-1720425600-1722445200@ftmrockhill.org
SUMMARY:A.A.Y.M. Survey
DESCRIPTION:A.A.Y.M. needs your SUPPORT.  We are asking EVERYONE to complete the SURVEY!  Thank you!
URL:https://ftmrockhill.org/event/a-a-y-m-survey/
CATEGORIES:Flyers
ATTACH;FMTTYPE=image/jpeg:https://ftmrockhill.org/wp-content/uploads/2024/07/FTM-AAYM-Survey-FLYER-scaled.jpg
END:VEVENT
BEGIN:VEVENT
DTSTART;TZID=America/New_York:20240731T100000
DTEND;TZID=America/New_York:20240731T113000
DTSTAMP:20260426T001735
CREATED:20200415T194205Z
LAST-MODIFIED:20250701T210003Z
UID:40066-1722420000-1722425400@ftmrockhill.org
SUMMARY:JOY Ministry
DESCRIPTION:JOY Ministry\, Wednesdays mornings at 10am.
URL:https://ftmrockhill.org/event/joy-ministry-mid-week/2024-07-31/
CATEGORIES:Flyers
ATTACH;FMTTYPE=image/jpeg:https://ftmrockhill.org/wp-content/uploads/2020/04/FTM-JOY-2025-2-FLYER-1-scaled.jpg
END:VEVENT
BEGIN:VEVENT
DTSTART;TZID=America/New_York:20240731T100000
DTEND;TZID=America/New_York:20240731T120000
DTSTAMP:20260426T001735
CREATED:20230713T193029Z
LAST-MODIFIED:20230713T193029Z
UID:39148-1722420000-1722427200@ftmrockhill.org
SUMMARY:JOY Ministry on Summer Break
DESCRIPTION:JOY Ministry will be on Summer Break during the months of July & August.  JOY will return on Wednesday\, September 4th.
URL:https://ftmrockhill.org/event/joy-ministry-on-summer-break/2024-07-31/
CATEGORIES:Flyers
ATTACH;FMTTYPE=image/jpeg:https://ftmrockhill.org/wp-content/uploads/2023/07/FTM-JOY-SUMMER-2024-FLYER-scaled.jpg
END:VEVENT
BEGIN:VEVENT
DTSTART;TZID=America/New_York:20240803T090000
DTEND;TZID=America/New_York:20240803T110000
DTSTAMP:20260426T001735
CREATED:20160328T161633Z
LAST-MODIFIED:20160328T161633Z
UID:36781-1722675600-1722682800@ftmrockhill.org
SUMMARY:Praise Dance Rehearsal
DESCRIPTION:Praise Dance Rehearsal\nEvery Monday at 6pm and Every Saturday at 9am
URL:https://ftmrockhill.org/event/praise-dance-rehearsal-3/2024-08-03/
LOCATION:Freedom Temple Ministries\, 215 E. Main Street\, Rock Hill\, SC\, 29730\, United States
END:VEVENT
BEGIN:VEVENT
DTSTART;TZID=America/New_York:20240804T080000
DTEND;TZID=America/New_York:20240804T170000
DTSTAMP:20260426T001735
CREATED:20240709T170743Z
LAST-MODIFIED:20240709T170743Z
UID:39460-1722758400-1722790800@ftmrockhill.org
SUMMARY:Freedom CARES
DESCRIPTION:Freedom CARES…let us know how you and your family are doing!
URL:https://ftmrockhill.org/event/freedom-cares-2024-09-15/2024-08-04/
CATEGORIES:Flyers
ATTACH;FMTTYPE=image/jpeg:https://ftmrockhill.org/wp-content/uploads/2024/07/FTM-VOF-Choir-Rehearsals-FLYER-scaled.jpg
END:VEVENT
BEGIN:VEVENT
DTSTART;TZID=America/New_York:20240804T100000
DTEND;TZID=America/New_York:20240804T120000
DTSTAMP:20260426T001735
CREATED:20200501T150021Z
LAST-MODIFIED:20240505T233931Z
UID:38993-1722765600-1722772800@ftmrockhill.org
SUMMARY:Communion Sunday
DESCRIPTION:Join us for Communion on the 1st Sunday of every month in 2024!
URL:https://ftmrockhill.org/event/communion-sunday/2024-08-04/
CATEGORIES:Flyers
ATTACH;FMTTYPE=image/jpeg:https://ftmrockhill.org/wp-content/uploads/2020/05/FTM-Communion-Sunday-2024-FLYER-1-scaled.jpg
END:VEVENT
BEGIN:VEVENT
DTSTART;TZID=America/New_York:20240804T100000
DTEND;TZID=America/New_York:20240804T120000
DTSTAMP:20260426T001735
CREATED:20230623T205029Z
LAST-MODIFIED:20230623T205029Z
UID:39196-1722765600-1722772800@ftmrockhill.org
SUMMARY:Casual Attire Sundays
DESCRIPTION:Casual Attire Sundays for the months of July and August 2024!
URL:https://ftmrockhill.org/event/casual-attire-sundays/2024-08-04/
CATEGORIES:Flyers
ATTACH;FMTTYPE=image/jpeg:https://ftmrockhill.org/wp-content/uploads/2023/06/FTM-Casual-Sundays-2023-FLYER-scaled.jpg
END:VEVENT
BEGIN:VEVENT
DTSTART;TZID=America/New_York:20240805T180000
DTEND;TZID=America/New_York:20240805T200000
DTSTAMP:20260426T001735
CREATED:20160317T132653Z
LAST-MODIFIED:20160317T132653Z
UID:36782-1722880800-1722888000@ftmrockhill.org
SUMMARY:Praise Dance Rehearsal
DESCRIPTION:Praise Dance Rehearsal\nEvery Monday at 6pm and Every Saturday at 9am
URL:https://ftmrockhill.org/event/praise-dance-rehearsal/2024-08-05/
LOCATION:Freedom Temple Ministries\, 215 E. Main Street\, Rock Hill\, SC\, 29730\, United States
END:VEVENT
BEGIN:VEVENT
DTSTART;TZID=America/New_York:20240805T190000
DTEND;TZID=America/New_York:20240805T210000
DTSTAMP:20260426T001735
CREATED:20160328T161754Z
LAST-MODIFIED:20160328T161754Z
UID:36783-1722884400-1722891600@ftmrockhill.org
SUMMARY:Voices of Freedom / Praise Team Rehearsals
DESCRIPTION:Voices of Freedom / Praise Team Rehearsals\nEvery Monday at 7pm at Freedom Temple Ministries
URL:https://ftmrockhill.org/event/voices-of-freedom-praise-team-rehearsals-2/2024-08-05/
LOCATION:Freedom Temple Ministries\, 215 E. Main Street\, Rock Hill\, SC\, 29730\, United States
END:VEVENT
BEGIN:VEVENT
DTSTART;TZID=America/New_York:20240807T100000
DTEND;TZID=America/New_York:20240807T113000
DTSTAMP:20260426T001735
CREATED:20200415T194205Z
LAST-MODIFIED:20250701T210004Z
UID:40067-1723024800-1723030200@ftmrockhill.org
SUMMARY:JOY Ministry
DESCRIPTION:JOY Ministry\, Wednesdays mornings at 10am.
URL:https://ftmrockhill.org/event/joy-ministry-mid-week/2024-08-07/
CATEGORIES:Flyers
ATTACH;FMTTYPE=image/jpeg:https://ftmrockhill.org/wp-content/uploads/2020/04/FTM-JOY-2025-2-FLYER-1-scaled.jpg
END:VEVENT
BEGIN:VEVENT
DTSTART;TZID=America/New_York:20240807T100000
DTEND;TZID=America/New_York:20240807T120000
DTSTAMP:20260426T001735
CREATED:20230713T193029Z
LAST-MODIFIED:20230713T193029Z
UID:39149-1723024800-1723032000@ftmrockhill.org
SUMMARY:JOY Ministry on Summer Break
DESCRIPTION:JOY Ministry will be on Summer Break during the months of July & August.  JOY will return on Wednesday\, September 4th.
URL:https://ftmrockhill.org/event/joy-ministry-on-summer-break/2024-08-07/
CATEGORIES:Flyers
ATTACH;FMTTYPE=image/jpeg:https://ftmrockhill.org/wp-content/uploads/2023/07/FTM-JOY-SUMMER-2024-FLYER-scaled.jpg
END:VEVENT
BEGIN:VEVENT
DTSTART;TZID=America/New_York:20240810T090000
DTEND;TZID=America/New_York:20240810T110000
DTSTAMP:20260426T001735
CREATED:20160328T161633Z
LAST-MODIFIED:20160328T161633Z
UID:36784-1723280400-1723287600@ftmrockhill.org
SUMMARY:Praise Dance Rehearsal
DESCRIPTION:Praise Dance Rehearsal\nEvery Monday at 6pm and Every Saturday at 9am
URL:https://ftmrockhill.org/event/praise-dance-rehearsal-3/2024-08-10/
LOCATION:Freedom Temple Ministries\, 215 E. Main Street\, Rock Hill\, SC\, 29730\, United States
END:VEVENT
BEGIN:VEVENT
DTSTART;TZID=America/New_York:20240811T080000
DTEND;TZID=America/New_York:20240811T170000
DTSTAMP:20260426T001735
CREATED:20240709T170743Z
LAST-MODIFIED:20240709T170743Z
UID:39461-1723363200-1723395600@ftmrockhill.org
SUMMARY:Freedom CARES
DESCRIPTION:Freedom CARES…let us know how you and your family are doing!
URL:https://ftmrockhill.org/event/freedom-cares-2024-09-15/2024-08-11/
CATEGORIES:Flyers
ATTACH;FMTTYPE=image/jpeg:https://ftmrockhill.org/wp-content/uploads/2024/07/FTM-VOF-Choir-Rehearsals-FLYER-scaled.jpg
END:VEVENT
BEGIN:VEVENT
DTSTART;TZID=America/New_York:20240811T100000
DTEND;TZID=America/New_York:20240811T120000
DTSTAMP:20260426T001735
CREATED:20230623T205029Z
LAST-MODIFIED:20230623T205029Z
UID:39197-1723370400-1723377600@ftmrockhill.org
SUMMARY:Casual Attire Sundays
DESCRIPTION:Casual Attire Sundays for the months of July and August 2024!
URL:https://ftmrockhill.org/event/casual-attire-sundays/2024-08-11/
CATEGORIES:Flyers
ATTACH;FMTTYPE=image/jpeg:https://ftmrockhill.org/wp-content/uploads/2023/06/FTM-Casual-Sundays-2023-FLYER-scaled.jpg
END:VEVENT
BEGIN:VEVENT
DTSTART;TZID=America/New_York:20240812T180000
DTEND;TZID=America/New_York:20240812T200000
DTSTAMP:20260426T001735
CREATED:20160317T132653Z
LAST-MODIFIED:20160317T132653Z
UID:36785-1723485600-1723492800@ftmrockhill.org
SUMMARY:Praise Dance Rehearsal
DESCRIPTION:Praise Dance Rehearsal\nEvery Monday at 6pm and Every Saturday at 9am
URL:https://ftmrockhill.org/event/praise-dance-rehearsal/2024-08-12/
LOCATION:Freedom Temple Ministries\, 215 E. Main Street\, Rock Hill\, SC\, 29730\, United States
END:VEVENT
BEGIN:VEVENT
DTSTART;TZID=America/New_York:20240812T190000
DTEND;TZID=America/New_York:20240812T210000
DTSTAMP:20260426T001735
CREATED:20160328T161754Z
LAST-MODIFIED:20160328T161754Z
UID:36786-1723489200-1723496400@ftmrockhill.org
SUMMARY:Voices of Freedom / Praise Team Rehearsals
DESCRIPTION:Voices of Freedom / Praise Team Rehearsals\nEvery Monday at 7pm at Freedom Temple Ministries
URL:https://ftmrockhill.org/event/voices-of-freedom-praise-team-rehearsals-2/2024-08-12/
LOCATION:Freedom Temple Ministries\, 215 E. Main Street\, Rock Hill\, SC\, 29730\, United States
END:VEVENT
BEGIN:VEVENT
DTSTART;TZID=America/New_York:20240814T100000
DTEND;TZID=America/New_York:20240814T113000
DTSTAMP:20260426T001735
CREATED:20200415T194205Z
LAST-MODIFIED:20250701T210005Z
UID:40068-1723629600-1723635000@ftmrockhill.org
SUMMARY:JOY Ministry
DESCRIPTION:JOY Ministry\, Wednesdays mornings at 10am.
URL:https://ftmrockhill.org/event/joy-ministry-mid-week/2024-08-14/
CATEGORIES:Flyers
ATTACH;FMTTYPE=image/jpeg:https://ftmrockhill.org/wp-content/uploads/2020/04/FTM-JOY-2025-2-FLYER-1-scaled.jpg
END:VEVENT
BEGIN:VEVENT
DTSTART;TZID=America/New_York:20240814T100000
DTEND;TZID=America/New_York:20240814T120000
DTSTAMP:20260426T001735
CREATED:20230713T193029Z
LAST-MODIFIED:20230713T193029Z
UID:39150-1723629600-1723636800@ftmrockhill.org
SUMMARY:JOY Ministry on Summer Break
DESCRIPTION:JOY Ministry will be on Summer Break during the months of July & August.  JOY will return on Wednesday\, September 4th.
URL:https://ftmrockhill.org/event/joy-ministry-on-summer-break/2024-08-14/
CATEGORIES:Flyers
ATTACH;FMTTYPE=image/jpeg:https://ftmrockhill.org/wp-content/uploads/2023/07/FTM-JOY-SUMMER-2024-FLYER-scaled.jpg
END:VEVENT
BEGIN:VEVENT
DTSTART;TZID=America/New_York:20240817T090000
DTEND;TZID=America/New_York:20240817T110000
DTSTAMP:20260426T001735
CREATED:20160328T161633Z
LAST-MODIFIED:20160328T161633Z
UID:36820-1723885200-1723892400@ftmrockhill.org
SUMMARY:Praise Dance Rehearsal
DESCRIPTION:Praise Dance Rehearsal\nEvery Monday at 6pm and Every Saturday at 9am
URL:https://ftmrockhill.org/event/praise-dance-rehearsal-3/2024-08-17/
LOCATION:Freedom Temple Ministries\, 215 E. Main Street\, Rock Hill\, SC\, 29730\, United States
END:VEVENT
BEGIN:VEVENT
DTSTART;TZID=America/New_York:20240817T090000
DTEND;TZID=America/New_York:20240817T120000
DTSTAMP:20260426T001735
CREATED:20240505T231230Z
LAST-MODIFIED:20240521T193651Z
UID:39076-1723885200-1723896000@ftmrockhill.org
SUMMARY:Clothing Closet
DESCRIPTION:Clothing Closet open every 3rd Saturday of each month\, 9am-12pm!  Thursdays & Fridays by Appointment Only!
URL:https://ftmrockhill.org/event/clothes-closet-grand-re-opening/2024-08-17/
CATEGORIES:Flyers
ATTACH;FMTTYPE=image/jpeg:https://ftmrockhill.org/wp-content/uploads/2024/05/FTM-Clothes-Closet-GENERIC-FLYER-scaled.jpg
END:VEVENT
BEGIN:VEVENT
DTSTART;TZID=America/New_York:20240818T080000
DTEND;TZID=America/New_York:20240818T170000
DTSTAMP:20260426T001735
CREATED:20240709T170743Z
LAST-MODIFIED:20240709T170743Z
UID:39462-1723968000-1724000400@ftmrockhill.org
SUMMARY:Freedom CARES
DESCRIPTION:Freedom CARES…let us know how you and your family are doing!
URL:https://ftmrockhill.org/event/freedom-cares-2024-09-15/2024-08-18/
CATEGORIES:Flyers
ATTACH;FMTTYPE=image/jpeg:https://ftmrockhill.org/wp-content/uploads/2024/07/FTM-VOF-Choir-Rehearsals-FLYER-scaled.jpg
END:VEVENT
BEGIN:VEVENT
DTSTART;TZID=America/New_York:20240818T100000
DTEND;TZID=America/New_York:20240818T120000
DTSTAMP:20260426T001735
CREATED:20220803T200945Z
LAST-MODIFIED:20220803T200945Z
UID:39018-1723975200-1723982400@ftmrockhill.org
SUMMARY:Baptism
DESCRIPTION:Baptism held every 3rd Sunday of each month!
URL:https://ftmrockhill.org/event/baptisms/2024-08-18/
CATEGORIES:Flyers
ATTACH;FMTTYPE=image/jpeg:https://ftmrockhill.org/wp-content/uploads/2022/08/FTM-Baptism-2024-FLYER-1-scaled.jpg
END:VEVENT
BEGIN:VEVENT
DTSTART;TZID=America/New_York:20240818T100000
DTEND;TZID=America/New_York:20240818T120000
DTSTAMP:20260426T001735
CREATED:20230623T205029Z
LAST-MODIFIED:20230623T205029Z
UID:39198-1723975200-1723982400@ftmrockhill.org
SUMMARY:Casual Attire Sundays
DESCRIPTION:Casual Attire Sundays for the months of July and August 2024!
URL:https://ftmrockhill.org/event/casual-attire-sundays/2024-08-18/
CATEGORIES:Flyers
ATTACH;FMTTYPE=image/jpeg:https://ftmrockhill.org/wp-content/uploads/2023/06/FTM-Casual-Sundays-2023-FLYER-scaled.jpg
END:VEVENT
BEGIN:VEVENT
DTSTART;TZID=America/New_York:20240818T100000
DTEND;TZID=America/New_York:20240818T120000
DTSTAMP:20260426T001735
CREATED:20240814T210733Z
LAST-MODIFIED:20240814T210733Z
UID:39574-1723975200-1723982400@ftmrockhill.org
SUMMARY:Ministry Leadership Empowerment Celebration
DESCRIPTION:Ministry Leadership Empowerment Celebration\, Sunday\, August 18th at 10am!
URL:https://ftmrockhill.org/event/ministry-leadership-empowerment-celebration/
CATEGORIES:Flyers
ATTACH;FMTTYPE=image/jpeg:https://ftmrockhill.org/wp-content/uploads/2024/08/FTM-Ministry-Leadership-2024-FLYER-scaled.jpg
END:VEVENT
BEGIN:VEVENT
DTSTART;TZID=America/New_York:20240818T100000
DTEND;TZID=America/New_York:20240818T170000
DTSTAMP:20260426T001735
CREATED:20240505T222933Z
LAST-MODIFIED:20240505T222933Z
UID:39035-1723975200-1724000400@ftmrockhill.org
SUMMARY:Baby Dedication
DESCRIPTION:Baby Dedication held on the 3rd Sunday of each month!
URL:https://ftmrockhill.org/event/baby-dedications/2024-08-18/
CATEGORIES:Flyers
ATTACH;FMTTYPE=image/jpeg:https://ftmrockhill.org/wp-content/uploads/2024/05/FTM-Baby-Dedication-2024-FLYER-2-scaled.jpg
END:VEVENT
BEGIN:VEVENT
DTSTART;TZID=America/New_York:20240819T180000
DTEND;TZID=America/New_York:20240819T200000
DTSTAMP:20260426T001735
CREATED:20160317T132653Z
LAST-MODIFIED:20160317T132653Z
UID:36822-1724090400-1724097600@ftmrockhill.org
SUMMARY:Praise Dance Rehearsal
DESCRIPTION:Praise Dance Rehearsal\nEvery Monday at 6pm and Every Saturday at 9am
URL:https://ftmrockhill.org/event/praise-dance-rehearsal/2024-08-19/
LOCATION:Freedom Temple Ministries\, 215 E. Main Street\, Rock Hill\, SC\, 29730\, United States
END:VEVENT
BEGIN:VEVENT
DTSTART;TZID=America/New_York:20240819T190000
DTEND;TZID=America/New_York:20240819T210000
DTSTAMP:20260426T001735
CREATED:20160328T161754Z
LAST-MODIFIED:20160328T161754Z
UID:36823-1724094000-1724101200@ftmrockhill.org
SUMMARY:Voices of Freedom / Praise Team Rehearsals
DESCRIPTION:Voices of Freedom / Praise Team Rehearsals\nEvery Monday at 7pm at Freedom Temple Ministries
URL:https://ftmrockhill.org/event/voices-of-freedom-praise-team-rehearsals-2/2024-08-19/
LOCATION:Freedom Temple Ministries\, 215 E. Main Street\, Rock Hill\, SC\, 29730\, United States
END:VEVENT
BEGIN:VEVENT
DTSTART;TZID=America/New_York:20240821T100000
DTEND;TZID=America/New_York:20240821T113000
DTSTAMP:20260426T001735
CREATED:20200415T194205Z
LAST-MODIFIED:20250701T210005Z
UID:40069-1724234400-1724239800@ftmrockhill.org
SUMMARY:JOY Ministry
DESCRIPTION:JOY Ministry\, Wednesdays mornings at 10am.
URL:https://ftmrockhill.org/event/joy-ministry-mid-week/2024-08-21/
CATEGORIES:Flyers
ATTACH;FMTTYPE=image/jpeg:https://ftmrockhill.org/wp-content/uploads/2020/04/FTM-JOY-2025-2-FLYER-1-scaled.jpg
END:VEVENT
BEGIN:VEVENT
DTSTART;TZID=America/New_York:20240821T100000
DTEND;TZID=America/New_York:20240821T120000
DTSTAMP:20260426T001735
CREATED:20230713T193029Z
LAST-MODIFIED:20230713T193029Z
UID:39151-1724234400-1724241600@ftmrockhill.org
SUMMARY:JOY Ministry on Summer Break
DESCRIPTION:JOY Ministry will be on Summer Break during the months of July & August.  JOY will return on Wednesday\, September 4th.
URL:https://ftmrockhill.org/event/joy-ministry-on-summer-break/2024-08-21/
CATEGORIES:Flyers
ATTACH;FMTTYPE=image/jpeg:https://ftmrockhill.org/wp-content/uploads/2023/07/FTM-JOY-SUMMER-2024-FLYER-scaled.jpg
END:VEVENT
END:VCALENDAR