BEGIN:VCALENDAR
VERSION:2.0
PRODID:-//Freedom Temple Ministries - ECPv6.15.20//NONSGML v1.0//EN
CALSCALE:GREGORIAN
METHOD:PUBLISH
X-WR-CALNAME:Freedom Temple Ministries
X-ORIGINAL-URL:https://ftmrockhill.org
X-WR-CALDESC:Events for Freedom Temple Ministries
REFRESH-INTERVAL;VALUE=DURATION:PT1H
X-Robots-Tag:noindex
X-PUBLISHED-TTL:PT1H
BEGIN:VTIMEZONE
TZID:America/New_York
BEGIN:DAYLIGHT
TZOFFSETFROM:-0500
TZOFFSETTO:-0400
TZNAME:EDT
DTSTART:20240310T070000
END:DAYLIGHT
BEGIN:STANDARD
TZOFFSETFROM:-0400
TZOFFSETTO:-0500
TZNAME:EST
DTSTART:20241103T060000
END:STANDARD
BEGIN:DAYLIGHT
TZOFFSETFROM:-0500
TZOFFSETTO:-0400
TZNAME:EDT
DTSTART:20250309T070000
END:DAYLIGHT
BEGIN:STANDARD
TZOFFSETFROM:-0400
TZOFFSETTO:-0500
TZNAME:EST
DTSTART:20251102T060000
END:STANDARD
BEGIN:DAYLIGHT
TZOFFSETFROM:-0500
TZOFFSETTO:-0400
TZNAME:EDT
DTSTART:20260308T070000
END:DAYLIGHT
BEGIN:STANDARD
TZOFFSETFROM:-0400
TZOFFSETTO:-0500
TZNAME:EST
DTSTART:20261101T060000
END:STANDARD
END:VTIMEZONE
BEGIN:VEVENT
DTSTART;TZID=America/New_York:20251028T060000
DTEND;TZID=America/New_York:20251028T063000
DTSTAMP:20260424T105001
CREATED:20240709T021107Z
LAST-MODIFIED:20260417T183307Z
UID:39999-1761631200-1761633000@ftmrockhill.org
SUMMARY:Intercessory Prayer Ministry
DESCRIPTION:Intercessory Prayer Ministry\, Weekly Prayer Calls:  Tuesdays morning 6am – 6:30 am and Thursday evenings 6pm-6:30 pm.  712.432.3900\, Access Code:  174705 \n  \n  \n  \n  \n  \n  \n 
URL:https://ftmrockhill.org/event/intercessory-prayer-ministry-summer-break/2025-10-28/
CATEGORIES:Flyers
ATTACH;FMTTYPE=image/jpeg:https://ftmrockhill.org/wp-content/uploads/2024/07/FTM-Intercessory-Prayer-2-2025-FLYER-1-scaled.jpg
END:VEVENT
BEGIN:VEVENT
DTSTART;TZID=America/New_York:20251029T100000
DTEND;TZID=America/New_York:20251029T113000
DTSTAMP:20260424T105001
CREATED:20200415T194205Z
LAST-MODIFIED:20250701T210030Z
UID:40135-1761732000-1761737400@ftmrockhill.org
SUMMARY:JOY Ministry
DESCRIPTION:JOY Ministry\, Wednesdays mornings at 10am.
URL:https://ftmrockhill.org/event/joy-ministry-mid-week/2025-10-29/
CATEGORIES:Flyers
ATTACH;FMTTYPE=image/jpeg:https://ftmrockhill.org/wp-content/uploads/2020/04/FTM-JOY-2025-2-FLYER-1-scaled.jpg
END:VEVENT
BEGIN:VEVENT
DTSTART;TZID=America/New_York:20251030T180000
DTEND;TZID=America/New_York:20251030T183000
DTSTAMP:20260424T105001
CREATED:20240709T021107Z
LAST-MODIFIED:20260417T183307Z
UID:40000-1761847200-1761849000@ftmrockhill.org
SUMMARY:Intercessory Prayer Ministry
DESCRIPTION:Intercessory Prayer Ministry\, Weekly Prayer Calls:  Tuesdays morning 6am – 6:30 am and Thursday evenings 6pm-6:30 pm.  712.432.3900\, Access Code:  174705 \n  \n  \n  \n  \n  \n  \n 
URL:https://ftmrockhill.org/event/intercessory-prayer-ministry-summer-break/2025-10-30/
CATEGORIES:Flyers
ATTACH;FMTTYPE=image/jpeg:https://ftmrockhill.org/wp-content/uploads/2024/07/FTM-Intercessory-Prayer-2-2025-FLYER-1-scaled.jpg
END:VEVENT
BEGIN:VEVENT
DTSTART;TZID=America/New_York:20251101T090000
DTEND;TZID=America/New_York:20251101T110000
DTSTAMP:20260424T105001
CREATED:20160328T161633Z
LAST-MODIFIED:20160328T161633Z
UID:38499-1761987600-1761994800@ftmrockhill.org
SUMMARY:Praise Dance Rehearsal
DESCRIPTION:Praise Dance Rehearsal\nEvery Monday at 6pm and Every Saturday at 9am
URL:https://ftmrockhill.org/event/praise-dance-rehearsal-3/2025-11-01/
LOCATION:Freedom Temple Ministries\, 215 E. Main Street\, Rock Hill\, SC\, 29730\, United States
END:VEVENT
BEGIN:VEVENT
DTSTART;TZID=America/New_York:20251102T100000
DTEND;TZID=America/New_York:20251102T120000
DTSTAMP:20260424T105001
CREATED:20200501T150021Z
LAST-MODIFIED:20200501T150021Z
UID:39009-1762077600-1762084800@ftmrockhill.org
SUMMARY:Communion Sunday
DESCRIPTION:Join us for Communion on the 1st Sunday of every month in 2024!
URL:https://ftmrockhill.org/event/communion-sunday/2025-11-02/
CATEGORIES:Flyers
ATTACH;FMTTYPE=image/jpeg:https://ftmrockhill.org/wp-content/uploads/2020/05/FTM-Communion-Sunday-2024-FLYER-1-scaled.jpg
END:VEVENT
BEGIN:VEVENT
DTSTART;TZID=America/New_York:20251103T180000
DTEND;TZID=America/New_York:20251103T200000
DTSTAMP:20260424T105001
CREATED:20160317T132653Z
LAST-MODIFIED:20160317T132653Z
UID:38500-1762192800-1762200000@ftmrockhill.org
SUMMARY:Praise Dance Rehearsal
DESCRIPTION:Praise Dance Rehearsal\nEvery Monday at 6pm and Every Saturday at 9am
URL:https://ftmrockhill.org/event/praise-dance-rehearsal/2025-11-03/
LOCATION:Freedom Temple Ministries\, 215 E. Main Street\, Rock Hill\, SC\, 29730\, United States
END:VEVENT
BEGIN:VEVENT
DTSTART;TZID=America/New_York:20251103T190000
DTEND;TZID=America/New_York:20251103T200000
DTSTAMP:20260424T105001
CREATED:20250402T183305Z
LAST-MODIFIED:20250402T183452Z
UID:40363-1762196400-1762200000@ftmrockhill.org
SUMMARY:Monday Night Prayer Call
DESCRIPTION:Monday Night Prayer Call on the 1st Monday of each month at 7pm beginning April 7th and ending on December 1st.  Dial In: 605.313.5111\, Access Code: 210681
URL:https://ftmrockhill.org/event/monday-night-prayer-call/2025-11-03/
CATEGORIES:Flyers
ATTACH;FMTTYPE=image/jpeg:https://ftmrockhill.org/wp-content/uploads/2025/04/FTM-Monday-Prayer-Call-FLYER-scaled.jpg
END:VEVENT
BEGIN:VEVENT
DTSTART;TZID=America/New_York:20251103T190000
DTEND;TZID=America/New_York:20251103T210000
DTSTAMP:20260424T105001
CREATED:20160328T161754Z
LAST-MODIFIED:20160328T161754Z
UID:38501-1762196400-1762203600@ftmrockhill.org
SUMMARY:Voices of Freedom / Praise Team Rehearsals
DESCRIPTION:Voices of Freedom / Praise Team Rehearsals\nEvery Monday at 7pm at Freedom Temple Ministries
URL:https://ftmrockhill.org/event/voices-of-freedom-praise-team-rehearsals-2/2025-11-03/
LOCATION:Freedom Temple Ministries\, 215 E. Main Street\, Rock Hill\, SC\, 29730\, United States
END:VEVENT
BEGIN:VEVENT
DTSTART;TZID=America/New_York:20251104T060000
DTEND;TZID=America/New_York:20251104T063000
DTSTAMP:20260424T105001
CREATED:20240709T021107Z
LAST-MODIFIED:20260417T183307Z
UID:40001-1762236000-1762237800@ftmrockhill.org
SUMMARY:Intercessory Prayer Ministry
DESCRIPTION:Intercessory Prayer Ministry\, Weekly Prayer Calls:  Tuesdays morning 6am – 6:30 am and Thursday evenings 6pm-6:30 pm.  712.432.3900\, Access Code:  174705 \n  \n  \n  \n  \n  \n  \n 
URL:https://ftmrockhill.org/event/intercessory-prayer-ministry-summer-break/2025-11-04/
CATEGORIES:Flyers
ATTACH;FMTTYPE=image/jpeg:https://ftmrockhill.org/wp-content/uploads/2024/07/FTM-Intercessory-Prayer-2-2025-FLYER-1-scaled.jpg
END:VEVENT
BEGIN:VEVENT
DTSTART;TZID=America/New_York:20251105T100000
DTEND;TZID=America/New_York:20251105T113000
DTSTAMP:20260424T105001
CREATED:20200415T194205Z
LAST-MODIFIED:20251103T161024Z
UID:40136-1762336800-1762342200@ftmrockhill.org
SUMMARY:JOY Ministry
DESCRIPTION:JOY Ministry\, Wednesdays mornings at 10am.
URL:https://ftmrockhill.org/event/joy-ministry-mid-week/2025-11-05/
END:VEVENT
BEGIN:VEVENT
DTSTART;TZID=America/New_York:20251106T180000
DTEND;TZID=America/New_York:20251106T183000
DTSTAMP:20260424T105001
CREATED:20240709T021107Z
LAST-MODIFIED:20260417T183308Z
UID:40002-1762452000-1762453800@ftmrockhill.org
SUMMARY:Intercessory Prayer Ministry
DESCRIPTION:Intercessory Prayer Ministry\, Weekly Prayer Calls:  Tuesdays morning 6am – 6:30 am and Thursday evenings 6pm-6:30 pm.  712.432.3900\, Access Code:  174705 \n  \n  \n  \n  \n  \n  \n 
URL:https://ftmrockhill.org/event/intercessory-prayer-ministry-summer-break/2025-11-06/
CATEGORIES:Flyers
ATTACH;FMTTYPE=image/jpeg:https://ftmrockhill.org/wp-content/uploads/2024/07/FTM-Intercessory-Prayer-2-2025-FLYER-1-scaled.jpg
END:VEVENT
BEGIN:VEVENT
DTSTART;TZID=America/New_York:20251108T090000
DTEND;TZID=America/New_York:20251108T110000
DTSTAMP:20260424T105001
CREATED:20160328T161633Z
LAST-MODIFIED:20160328T161633Z
UID:38506-1762592400-1762599600@ftmrockhill.org
SUMMARY:Praise Dance Rehearsal
DESCRIPTION:Praise Dance Rehearsal\nEvery Monday at 6pm and Every Saturday at 9am
URL:https://ftmrockhill.org/event/praise-dance-rehearsal-3/2025-11-08/
LOCATION:Freedom Temple Ministries\, 215 E. Main Street\, Rock Hill\, SC\, 29730\, United States
END:VEVENT
BEGIN:VEVENT
DTSTART;TZID=America/New_York:20251108T090000
DTEND;TZID=America/New_York:20251108T230000
DTSTAMP:20260424T105001
CREATED:20240709T173213Z
LAST-MODIFIED:20250821T185902Z
UID:40184-1762592400-1762642800@ftmrockhill.org
SUMMARY:New Member Orientation (NMO)
DESCRIPTION:New Member Orientation (NMO) is offered every 2nd Saturday of the month at 10am!  Join via Zoom.
URL:https://ftmrockhill.org/event/new-member-orientation-nmo/2025-11-08/
CATEGORIES:Flyers
ATTACH;FMTTYPE=image/jpeg:https://ftmrockhill.org/wp-content/uploads/2024/07/FTM-New-Member-Orientation-Generic-2025-FLYER-scaled.jpg
END:VEVENT
BEGIN:VEVENT
DTSTART;TZID=America/New_York:20251108T120000
DTEND;TZID=America/New_York:20251108T170000
DTSTAMP:20260424T105001
CREATED:20251103T160906Z
LAST-MODIFIED:20251103T160906Z
UID:40824-1762603200-1762621200@ftmrockhill.org
SUMMARY:Men & Youth Gathering Fellowship
DESCRIPTION:All Men & Youth are Invited!  Saturday\, November 8th at 12pm for a Fish Fry\, Football\, and Games.  Scan the QR Code or click HERE to register!
URL:https://ftmrockhill.org/event/men-youth-gathering-fellowship/
CATEGORIES:Flyers
ATTACH;FMTTYPE=image/jpeg:https://ftmrockhill.org/wp-content/uploads/2025/11/FTM-Mens-Ministry-Men-and-Youth-Event-FLYER-2-scaled.jpg
END:VEVENT
BEGIN:VEVENT
DTSTART;TZID=America/New_York:20251110T180000
DTEND;TZID=America/New_York:20251110T200000
DTSTAMP:20260424T105001
CREATED:20160317T132653Z
LAST-MODIFIED:20160317T132653Z
UID:38507-1762797600-1762804800@ftmrockhill.org
SUMMARY:Praise Dance Rehearsal
DESCRIPTION:Praise Dance Rehearsal\nEvery Monday at 6pm and Every Saturday at 9am
URL:https://ftmrockhill.org/event/praise-dance-rehearsal/2025-11-10/
LOCATION:Freedom Temple Ministries\, 215 E. Main Street\, Rock Hill\, SC\, 29730\, United States
END:VEVENT
BEGIN:VEVENT
DTSTART;TZID=America/New_York:20251110T190000
DTEND;TZID=America/New_York:20251110T210000
DTSTAMP:20260424T105001
CREATED:20160328T161754Z
LAST-MODIFIED:20160328T161754Z
UID:38508-1762801200-1762808400@ftmrockhill.org
SUMMARY:Voices of Freedom / Praise Team Rehearsals
DESCRIPTION:Voices of Freedom / Praise Team Rehearsals\nEvery Monday at 7pm at Freedom Temple Ministries
URL:https://ftmrockhill.org/event/voices-of-freedom-praise-team-rehearsals-2/2025-11-10/
LOCATION:Freedom Temple Ministries\, 215 E. Main Street\, Rock Hill\, SC\, 29730\, United States
END:VEVENT
BEGIN:VEVENT
DTSTART;TZID=America/New_York:20251111T060000
DTEND;TZID=America/New_York:20251111T063000
DTSTAMP:20260424T105001
CREATED:20240709T021107Z
LAST-MODIFIED:20260417T183308Z
UID:40003-1762840800-1762842600@ftmrockhill.org
SUMMARY:Intercessory Prayer Ministry
DESCRIPTION:Intercessory Prayer Ministry\, Weekly Prayer Calls:  Tuesdays morning 6am – 6:30 am and Thursday evenings 6pm-6:30 pm.  712.432.3900\, Access Code:  174705 \n  \n  \n  \n  \n  \n  \n 
URL:https://ftmrockhill.org/event/intercessory-prayer-ministry-summer-break/2025-11-11/
CATEGORIES:Flyers
ATTACH;FMTTYPE=image/jpeg:https://ftmrockhill.org/wp-content/uploads/2024/07/FTM-Intercessory-Prayer-2-2025-FLYER-1-scaled.jpg
END:VEVENT
BEGIN:VEVENT
DTSTART;TZID=America/New_York:20251112T100000
DTEND;TZID=America/New_York:20251112T113000
DTSTAMP:20260424T105001
CREATED:20200415T194205Z
LAST-MODIFIED:20251103T161205Z
UID:40137-1762941600-1762947000@ftmrockhill.org
SUMMARY:JOY Ministry
DESCRIPTION:JOY Ministry\, Wednesdays mornings at 10am.
URL:https://ftmrockhill.org/event/joy-ministry-mid-week/2025-11-12/
END:VEVENT
BEGIN:VEVENT
DTSTART;TZID=America/New_York:20251113T180000
DTEND;TZID=America/New_York:20251113T183000
DTSTAMP:20260424T105001
CREATED:20240709T021107Z
LAST-MODIFIED:20260417T183309Z
UID:40004-1763056800-1763058600@ftmrockhill.org
SUMMARY:Intercessory Prayer Ministry
DESCRIPTION:Intercessory Prayer Ministry\, Weekly Prayer Calls:  Tuesdays morning 6am – 6:30 am and Thursday evenings 6pm-6:30 pm.  712.432.3900\, Access Code:  174705 \n  \n  \n  \n  \n  \n  \n 
URL:https://ftmrockhill.org/event/intercessory-prayer-ministry-summer-break/2025-11-13/
CATEGORIES:Flyers
ATTACH;FMTTYPE=image/jpeg:https://ftmrockhill.org/wp-content/uploads/2024/07/FTM-Intercessory-Prayer-2-2025-FLYER-1-scaled.jpg
END:VEVENT
BEGIN:VEVENT
DTSTART;TZID=America/New_York:20251115T090000
DTEND;TZID=America/New_York:20251115T110000
DTSTAMP:20260424T105001
CREATED:20160328T161633Z
LAST-MODIFIED:20160328T161633Z
UID:38509-1763197200-1763204400@ftmrockhill.org
SUMMARY:Praise Dance Rehearsal
DESCRIPTION:Praise Dance Rehearsal\nEvery Monday at 6pm and Every Saturday at 9am
URL:https://ftmrockhill.org/event/praise-dance-rehearsal-3/2025-11-15/
LOCATION:Freedom Temple Ministries\, 215 E. Main Street\, Rock Hill\, SC\, 29730\, United States
END:VEVENT
BEGIN:VEVENT
DTSTART;TZID=America/New_York:20251117T180000
DTEND;TZID=America/New_York:20251117T200000
DTSTAMP:20260424T105001
CREATED:20160317T132653Z
LAST-MODIFIED:20160317T132653Z
UID:38511-1763402400-1763409600@ftmrockhill.org
SUMMARY:Praise Dance Rehearsal
DESCRIPTION:Praise Dance Rehearsal\nEvery Monday at 6pm and Every Saturday at 9am
URL:https://ftmrockhill.org/event/praise-dance-rehearsal/2025-11-17/
LOCATION:Freedom Temple Ministries\, 215 E. Main Street\, Rock Hill\, SC\, 29730\, United States
END:VEVENT
BEGIN:VEVENT
DTSTART;TZID=America/New_York:20251117T190000
DTEND;TZID=America/New_York:20251117T210000
DTSTAMP:20260424T105001
CREATED:20160328T161754Z
LAST-MODIFIED:20160328T161754Z
UID:38512-1763406000-1763413200@ftmrockhill.org
SUMMARY:Voices of Freedom / Praise Team Rehearsals
DESCRIPTION:Voices of Freedom / Praise Team Rehearsals\nEvery Monday at 7pm at Freedom Temple Ministries
URL:https://ftmrockhill.org/event/voices-of-freedom-praise-team-rehearsals-2/2025-11-17/
LOCATION:Freedom Temple Ministries\, 215 E. Main Street\, Rock Hill\, SC\, 29730\, United States
END:VEVENT
BEGIN:VEVENT
DTSTART;TZID=America/New_York:20251118T060000
DTEND;TZID=America/New_York:20251118T063000
DTSTAMP:20260424T105001
CREATED:20240709T021107Z
LAST-MODIFIED:20260417T183309Z
UID:40005-1763445600-1763447400@ftmrockhill.org
SUMMARY:Intercessory Prayer Ministry
DESCRIPTION:Intercessory Prayer Ministry\, Weekly Prayer Calls:  Tuesdays morning 6am – 6:30 am and Thursday evenings 6pm-6:30 pm.  712.432.3900\, Access Code:  174705 \n  \n  \n  \n  \n  \n  \n 
URL:https://ftmrockhill.org/event/intercessory-prayer-ministry-summer-break/2025-11-18/
CATEGORIES:Flyers
ATTACH;FMTTYPE=image/jpeg:https://ftmrockhill.org/wp-content/uploads/2024/07/FTM-Intercessory-Prayer-2-2025-FLYER-1-scaled.jpg
END:VEVENT
BEGIN:VEVENT
DTSTART;TZID=America/New_York:20251119T100000
DTEND;TZID=America/New_York:20251119T113000
DTSTAMP:20260424T105001
CREATED:20200415T194205Z
LAST-MODIFIED:20250701T210031Z
UID:40138-1763546400-1763551800@ftmrockhill.org
SUMMARY:JOY Ministry
DESCRIPTION:JOY Ministry\, Wednesdays mornings at 10am.
URL:https://ftmrockhill.org/event/joy-ministry-mid-week/2025-11-19/
CATEGORIES:Flyers
ATTACH;FMTTYPE=image/jpeg:https://ftmrockhill.org/wp-content/uploads/2020/04/FTM-JOY-2025-2-FLYER-1-scaled.jpg
END:VEVENT
BEGIN:VEVENT
DTSTART;TZID=America/New_York:20251120T180000
DTEND;TZID=America/New_York:20251120T183000
DTSTAMP:20260424T105001
CREATED:20240709T021107Z
LAST-MODIFIED:20260417T183309Z
UID:40006-1763661600-1763663400@ftmrockhill.org
SUMMARY:Intercessory Prayer Ministry
DESCRIPTION:Intercessory Prayer Ministry\, Weekly Prayer Calls:  Tuesdays morning 6am – 6:30 am and Thursday evenings 6pm-6:30 pm.  712.432.3900\, Access Code:  174705 \n  \n  \n  \n  \n  \n  \n 
URL:https://ftmrockhill.org/event/intercessory-prayer-ministry-summer-break/2025-11-20/
CATEGORIES:Flyers
ATTACH;FMTTYPE=image/jpeg:https://ftmrockhill.org/wp-content/uploads/2024/07/FTM-Intercessory-Prayer-2-2025-FLYER-1-scaled.jpg
END:VEVENT
BEGIN:VEVENT
DTSTART;TZID=America/New_York:20251121T080000
DTEND;TZID=America/New_York:20251121T170000
DTSTAMP:20260424T105001
CREATED:20251103T164204Z
LAST-MODIFIED:20251103T164204Z
UID:40832-1763712000-1763744400@ftmrockhill.org
SUMMARY:Thanksgiving Fill-A-Bag
DESCRIPTION:Pick up a Thanksgiving Bag from the Bookstore or Vestibule\, fill it with the items on the attached list\, and return it on or before November 21st.  These Thanksgiving bags will be given to our community on Saturday\, November 22nd\, during our Freedom & Friends Giving Event!
URL:https://ftmrockhill.org/event/thanksgiving-fill-a-bag/
CATEGORIES:Flyers
ATTACH;FMTTYPE=image/jpeg:https://ftmrockhill.org/wp-content/uploads/2025/11/FTM-Thanksgiving-Bag-Giveaway-2025-FLYER-scaled.jpg
END:VEVENT
BEGIN:VEVENT
DTSTART;TZID=America/New_York:20251121T080000
DTEND;TZID=America/New_York:20251121T170000
DTSTAMP:20260424T105001
CREATED:20251103T165700Z
LAST-MODIFIED:20251103T165700Z
UID:40839-1763712000-1763744400@ftmrockhill.org
SUMMARY:Warm Weather Essentials for Our Community
DESCRIPTION:Donate your new to lightly used Coats\, Jackets\, Hoodies\, and Blankets!  These items will be given to our community during our Freedom & Friends Giving Event on November 22nd!
URL:https://ftmrockhill.org/event/warm-weather-essentials-for-our-community/
CATEGORIES:Flyers
ATTACH;FMTTYPE=image/jpeg:https://ftmrockhill.org/wp-content/uploads/2025/11/FTM-Warm-Weather-Items-FLYER-2-scaled.jpg
END:VEVENT
BEGIN:VEVENT
DTSTART;TZID=America/New_York:20251122T090000
DTEND;TZID=America/New_York:20251122T110000
DTSTAMP:20260424T105001
CREATED:20160328T161633Z
LAST-MODIFIED:20160328T161633Z
UID:38514-1763802000-1763809200@ftmrockhill.org
SUMMARY:Praise Dance Rehearsal
DESCRIPTION:Praise Dance Rehearsal\nEvery Monday at 6pm and Every Saturday at 9am
URL:https://ftmrockhill.org/event/praise-dance-rehearsal-3/2025-11-22/
LOCATION:Freedom Temple Ministries\, 215 E. Main Street\, Rock Hill\, SC\, 29730\, United States
END:VEVENT
BEGIN:VEVENT
DTSTART;TZID=America/New_York:20251122T100000
DTEND;TZID=America/New_York:20251122T130000
DTSTAMP:20260424T105001
CREATED:20241119T165616Z
LAST-MODIFIED:20251103T162305Z
UID:39695-1763805600-1763816400@ftmrockhill.org
SUMMARY:Freedom & Friends Giving Event
DESCRIPTION:Freedom & Friends Giving Event on Saturday\, November 22nd\, 10am-1pm!  Thanksgiving Food Bags and Warm Weather Essentials will be provided to the community!
URL:https://ftmrockhill.org/event/freedom-friends-giving-event/
CATEGORIES:Flyers
ATTACH;FMTTYPE=image/jpeg:https://ftmrockhill.org/wp-content/uploads/2024/11/FTM-Giving-Event-2025-FLYER-2-scaled.jpg
END:VEVENT
BEGIN:VEVENT
DTSTART;TZID=America/New_York:20251124T180000
DTEND;TZID=America/New_York:20251124T200000
DTSTAMP:20260424T105001
CREATED:20160317T132653Z
LAST-MODIFIED:20160317T132653Z
UID:38515-1764007200-1764014400@ftmrockhill.org
SUMMARY:Praise Dance Rehearsal
DESCRIPTION:Praise Dance Rehearsal\nEvery Monday at 6pm and Every Saturday at 9am
URL:https://ftmrockhill.org/event/praise-dance-rehearsal/2025-11-24/
LOCATION:Freedom Temple Ministries\, 215 E. Main Street\, Rock Hill\, SC\, 29730\, United States
END:VEVENT
END:VCALENDAR