BEGIN:VCALENDAR
VERSION:2.0
PRODID:-//Freedom Temple Ministries - ECPv6.15.20//NONSGML v1.0//EN
CALSCALE:GREGORIAN
METHOD:PUBLISH
X-ORIGINAL-URL:https://ftmrockhill.org
X-WR-CALDESC:Events for Freedom Temple Ministries
REFRESH-INTERVAL;VALUE=DURATION:PT1H
X-Robots-Tag:noindex
X-PUBLISHED-TTL:PT1H
BEGIN:VTIMEZONE
TZID:America/New_York
BEGIN:DAYLIGHT
TZOFFSETFROM:-0500
TZOFFSETTO:-0400
TZNAME:EDT
DTSTART:20260308T070000
END:DAYLIGHT
BEGIN:STANDARD
TZOFFSETFROM:-0400
TZOFFSETTO:-0500
TZNAME:EST
DTSTART:20261101T060000
END:STANDARD
BEGIN:DAYLIGHT
TZOFFSETFROM:-0500
TZOFFSETTO:-0400
TZNAME:EDT
DTSTART:20270314T070000
END:DAYLIGHT
BEGIN:STANDARD
TZOFFSETFROM:-0400
TZOFFSETTO:-0500
TZNAME:EST
DTSTART:20271107T060000
END:STANDARD
BEGIN:DAYLIGHT
TZOFFSETFROM:-0500
TZOFFSETTO:-0400
TZNAME:EDT
DTSTART:20280312T070000
END:DAYLIGHT
BEGIN:STANDARD
TZOFFSETFROM:-0400
TZOFFSETTO:-0500
TZNAME:EST
DTSTART:20281105T060000
END:STANDARD
END:VTIMEZONE
BEGIN:VEVENT
DTSTART;TZID=America/New_York:20270612T090000
DTEND;TZID=America/New_York:20270612T110000
DTSTAMP:20260425T082159
CREATED:20160328T161633Z
LAST-MODIFIED:20160328T161633Z
UID:40486-1812790800-1812798000@ftmrockhill.org
SUMMARY:Praise Dance Rehearsal
DESCRIPTION:Praise Dance Rehearsal\nEvery Monday at 6pm and Every Saturday at 9am
URL:https://ftmrockhill.org/event/praise-dance-rehearsal-3/2027-06-12/
LOCATION:Freedom Temple Ministries\, 215 E. Main Street\, Rock Hill\, SC\, 29730\, United States
END:VEVENT
BEGIN:VEVENT
DTSTART;TZID=America/New_York:20270614T180000
DTEND;TZID=America/New_York:20270614T200000
DTSTAMP:20260425T082159
CREATED:20160317T132653Z
LAST-MODIFIED:20160317T132653Z
UID:40487-1812996000-1813003200@ftmrockhill.org
SUMMARY:Praise Dance Rehearsal
DESCRIPTION:Praise Dance Rehearsal\nEvery Monday at 6pm and Every Saturday at 9am
URL:https://ftmrockhill.org/event/praise-dance-rehearsal/2027-06-14/
LOCATION:Freedom Temple Ministries\, 215 E. Main Street\, Rock Hill\, SC\, 29730\, United States
END:VEVENT
BEGIN:VEVENT
DTSTART;TZID=America/New_York:20270614T190000
DTEND;TZID=America/New_York:20270614T210000
DTSTAMP:20260425T082159
CREATED:20160328T161754Z
LAST-MODIFIED:20160328T161754Z
UID:40488-1812999600-1813006800@ftmrockhill.org
SUMMARY:Voices of Freedom / Praise Team Rehearsals
DESCRIPTION:Voices of Freedom / Praise Team Rehearsals\nEvery Monday at 7pm at Freedom Temple Ministries
URL:https://ftmrockhill.org/event/voices-of-freedom-praise-team-rehearsals-2/2027-06-14/
LOCATION:Freedom Temple Ministries\, 215 E. Main Street\, Rock Hill\, SC\, 29730\, United States
END:VEVENT
BEGIN:VEVENT
DTSTART;TZID=America/New_York:20270619T090000
DTEND;TZID=America/New_York:20270619T110000
DTSTAMP:20260425T082159
CREATED:20160328T161633Z
LAST-MODIFIED:20160328T161633Z
UID:40489-1813395600-1813402800@ftmrockhill.org
SUMMARY:Praise Dance Rehearsal
DESCRIPTION:Praise Dance Rehearsal\nEvery Monday at 6pm and Every Saturday at 9am
URL:https://ftmrockhill.org/event/praise-dance-rehearsal-3/2027-06-19/
LOCATION:Freedom Temple Ministries\, 215 E. Main Street\, Rock Hill\, SC\, 29730\, United States
END:VEVENT
BEGIN:VEVENT
DTSTART;TZID=America/New_York:20270621T180000
DTEND;TZID=America/New_York:20270621T200000
DTSTAMP:20260425T082159
CREATED:20160317T132653Z
LAST-MODIFIED:20160317T132653Z
UID:40490-1813600800-1813608000@ftmrockhill.org
SUMMARY:Praise Dance Rehearsal
DESCRIPTION:Praise Dance Rehearsal\nEvery Monday at 6pm and Every Saturday at 9am
URL:https://ftmrockhill.org/event/praise-dance-rehearsal/2027-06-21/
LOCATION:Freedom Temple Ministries\, 215 E. Main Street\, Rock Hill\, SC\, 29730\, United States
END:VEVENT
BEGIN:VEVENT
DTSTART;TZID=America/New_York:20270621T190000
DTEND;TZID=America/New_York:20270621T210000
DTSTAMP:20260425T082159
CREATED:20160328T161754Z
LAST-MODIFIED:20160328T161754Z
UID:40491-1813604400-1813611600@ftmrockhill.org
SUMMARY:Voices of Freedom / Praise Team Rehearsals
DESCRIPTION:Voices of Freedom / Praise Team Rehearsals\nEvery Monday at 7pm at Freedom Temple Ministries
URL:https://ftmrockhill.org/event/voices-of-freedom-praise-team-rehearsals-2/2027-06-21/
LOCATION:Freedom Temple Ministries\, 215 E. Main Street\, Rock Hill\, SC\, 29730\, United States
END:VEVENT
BEGIN:VEVENT
DTSTART;TZID=America/New_York:20270626T090000
DTEND;TZID=America/New_York:20270626T110000
DTSTAMP:20260425T082159
CREATED:20160328T161633Z
LAST-MODIFIED:20160328T161633Z
UID:40492-1814000400-1814007600@ftmrockhill.org
SUMMARY:Praise Dance Rehearsal
DESCRIPTION:Praise Dance Rehearsal\nEvery Monday at 6pm and Every Saturday at 9am
URL:https://ftmrockhill.org/event/praise-dance-rehearsal-3/2027-06-26/
LOCATION:Freedom Temple Ministries\, 215 E. Main Street\, Rock Hill\, SC\, 29730\, United States
END:VEVENT
BEGIN:VEVENT
DTSTART;TZID=America/New_York:20270628T180000
DTEND;TZID=America/New_York:20270628T200000
DTSTAMP:20260425T082159
CREATED:20160317T132653Z
LAST-MODIFIED:20160317T132653Z
UID:40493-1814205600-1814212800@ftmrockhill.org
SUMMARY:Praise Dance Rehearsal
DESCRIPTION:Praise Dance Rehearsal\nEvery Monday at 6pm and Every Saturday at 9am
URL:https://ftmrockhill.org/event/praise-dance-rehearsal/2027-06-28/
LOCATION:Freedom Temple Ministries\, 215 E. Main Street\, Rock Hill\, SC\, 29730\, United States
END:VEVENT
BEGIN:VEVENT
DTSTART;TZID=America/New_York:20270628T190000
DTEND;TZID=America/New_York:20270628T210000
DTSTAMP:20260425T082159
CREATED:20160328T161754Z
LAST-MODIFIED:20160328T161754Z
UID:40494-1814209200-1814216400@ftmrockhill.org
SUMMARY:Voices of Freedom / Praise Team Rehearsals
DESCRIPTION:Voices of Freedom / Praise Team Rehearsals\nEvery Monday at 7pm at Freedom Temple Ministries
URL:https://ftmrockhill.org/event/voices-of-freedom-praise-team-rehearsals-2/2027-06-28/
LOCATION:Freedom Temple Ministries\, 215 E. Main Street\, Rock Hill\, SC\, 29730\, United States
END:VEVENT
BEGIN:VEVENT
DTSTART;TZID=America/New_York:20270703T090000
DTEND;TZID=America/New_York:20270703T110000
DTSTAMP:20260425T082159
CREATED:20160328T161633Z
LAST-MODIFIED:20160328T161633Z
UID:40600-1814605200-1814612400@ftmrockhill.org
SUMMARY:Praise Dance Rehearsal
DESCRIPTION:Praise Dance Rehearsal\nEvery Monday at 6pm and Every Saturday at 9am
URL:https://ftmrockhill.org/event/praise-dance-rehearsal-3/2027-07-03/
LOCATION:Freedom Temple Ministries\, 215 E. Main Street\, Rock Hill\, SC\, 29730\, United States
END:VEVENT
BEGIN:VEVENT
DTSTART;TZID=America/New_York:20270705T180000
DTEND;TZID=America/New_York:20270705T200000
DTSTAMP:20260425T082159
CREATED:20160317T132653Z
LAST-MODIFIED:20160317T132653Z
UID:40601-1814810400-1814817600@ftmrockhill.org
SUMMARY:Praise Dance Rehearsal
DESCRIPTION:Praise Dance Rehearsal\nEvery Monday at 6pm and Every Saturday at 9am
URL:https://ftmrockhill.org/event/praise-dance-rehearsal/2027-07-05/
LOCATION:Freedom Temple Ministries\, 215 E. Main Street\, Rock Hill\, SC\, 29730\, United States
END:VEVENT
BEGIN:VEVENT
DTSTART;TZID=America/New_York:20270705T190000
DTEND;TZID=America/New_York:20270705T210000
DTSTAMP:20260425T082159
CREATED:20160328T161754Z
LAST-MODIFIED:20160328T161754Z
UID:40602-1814814000-1814821200@ftmrockhill.org
SUMMARY:Voices of Freedom / Praise Team Rehearsals
DESCRIPTION:Voices of Freedom / Praise Team Rehearsals\nEvery Monday at 7pm at Freedom Temple Ministries
URL:https://ftmrockhill.org/event/voices-of-freedom-praise-team-rehearsals-2/2027-07-05/
LOCATION:Freedom Temple Ministries\, 215 E. Main Street\, Rock Hill\, SC\, 29730\, United States
END:VEVENT
BEGIN:VEVENT
DTSTART;TZID=America/New_York:20270710T090000
DTEND;TZID=America/New_York:20270710T110000
DTSTAMP:20260425T082159
CREATED:20160328T161633Z
LAST-MODIFIED:20160328T161633Z
UID:40603-1815210000-1815217200@ftmrockhill.org
SUMMARY:Praise Dance Rehearsal
DESCRIPTION:Praise Dance Rehearsal\nEvery Monday at 6pm and Every Saturday at 9am
URL:https://ftmrockhill.org/event/praise-dance-rehearsal-3/2027-07-10/
LOCATION:Freedom Temple Ministries\, 215 E. Main Street\, Rock Hill\, SC\, 29730\, United States
END:VEVENT
BEGIN:VEVENT
DTSTART;TZID=America/New_York:20270712T180000
DTEND;TZID=America/New_York:20270712T200000
DTSTAMP:20260425T082159
CREATED:20160317T132653Z
LAST-MODIFIED:20160317T132653Z
UID:40604-1815415200-1815422400@ftmrockhill.org
SUMMARY:Praise Dance Rehearsal
DESCRIPTION:Praise Dance Rehearsal\nEvery Monday at 6pm and Every Saturday at 9am
URL:https://ftmrockhill.org/event/praise-dance-rehearsal/2027-07-12/
LOCATION:Freedom Temple Ministries\, 215 E. Main Street\, Rock Hill\, SC\, 29730\, United States
END:VEVENT
BEGIN:VEVENT
DTSTART;TZID=America/New_York:20270712T190000
DTEND;TZID=America/New_York:20270712T210000
DTSTAMP:20260425T082159
CREATED:20160328T161754Z
LAST-MODIFIED:20160328T161754Z
UID:40605-1815418800-1815426000@ftmrockhill.org
SUMMARY:Voices of Freedom / Praise Team Rehearsals
DESCRIPTION:Voices of Freedom / Praise Team Rehearsals\nEvery Monday at 7pm at Freedom Temple Ministries
URL:https://ftmrockhill.org/event/voices-of-freedom-praise-team-rehearsals-2/2027-07-12/
LOCATION:Freedom Temple Ministries\, 215 E. Main Street\, Rock Hill\, SC\, 29730\, United States
END:VEVENT
BEGIN:VEVENT
DTSTART;TZID=America/New_York:20270717T090000
DTEND;TZID=America/New_York:20270717T110000
DTSTAMP:20260425T082159
CREATED:20160328T161633Z
LAST-MODIFIED:20160328T161633Z
UID:40606-1815814800-1815822000@ftmrockhill.org
SUMMARY:Praise Dance Rehearsal
DESCRIPTION:Praise Dance Rehearsal\nEvery Monday at 6pm and Every Saturday at 9am
URL:https://ftmrockhill.org/event/praise-dance-rehearsal-3/2027-07-17/
LOCATION:Freedom Temple Ministries\, 215 E. Main Street\, Rock Hill\, SC\, 29730\, United States
END:VEVENT
BEGIN:VEVENT
DTSTART;TZID=America/New_York:20270719T180000
DTEND;TZID=America/New_York:20270719T200000
DTSTAMP:20260425T082159
CREATED:20160317T132653Z
LAST-MODIFIED:20160317T132653Z
UID:40607-1816020000-1816027200@ftmrockhill.org
SUMMARY:Praise Dance Rehearsal
DESCRIPTION:Praise Dance Rehearsal\nEvery Monday at 6pm and Every Saturday at 9am
URL:https://ftmrockhill.org/event/praise-dance-rehearsal/2027-07-19/
LOCATION:Freedom Temple Ministries\, 215 E. Main Street\, Rock Hill\, SC\, 29730\, United States
END:VEVENT
BEGIN:VEVENT
DTSTART;TZID=America/New_York:20270719T190000
DTEND;TZID=America/New_York:20270719T210000
DTSTAMP:20260425T082159
CREATED:20160328T161754Z
LAST-MODIFIED:20160328T161754Z
UID:40608-1816023600-1816030800@ftmrockhill.org
SUMMARY:Voices of Freedom / Praise Team Rehearsals
DESCRIPTION:Voices of Freedom / Praise Team Rehearsals\nEvery Monday at 7pm at Freedom Temple Ministries
URL:https://ftmrockhill.org/event/voices-of-freedom-praise-team-rehearsals-2/2027-07-19/
LOCATION:Freedom Temple Ministries\, 215 E. Main Street\, Rock Hill\, SC\, 29730\, United States
END:VEVENT
BEGIN:VEVENT
DTSTART;TZID=America/New_York:20270724T090000
DTEND;TZID=America/New_York:20270724T110000
DTSTAMP:20260425T082159
CREATED:20160328T161633Z
LAST-MODIFIED:20160328T161633Z
UID:40609-1816419600-1816426800@ftmrockhill.org
SUMMARY:Praise Dance Rehearsal
DESCRIPTION:Praise Dance Rehearsal\nEvery Monday at 6pm and Every Saturday at 9am
URL:https://ftmrockhill.org/event/praise-dance-rehearsal-3/2027-07-24/
LOCATION:Freedom Temple Ministries\, 215 E. Main Street\, Rock Hill\, SC\, 29730\, United States
END:VEVENT
BEGIN:VEVENT
DTSTART;TZID=America/New_York:20270726T180000
DTEND;TZID=America/New_York:20270726T200000
DTSTAMP:20260425T082159
CREATED:20160317T132653Z
LAST-MODIFIED:20160317T132653Z
UID:40610-1816624800-1816632000@ftmrockhill.org
SUMMARY:Praise Dance Rehearsal
DESCRIPTION:Praise Dance Rehearsal\nEvery Monday at 6pm and Every Saturday at 9am
URL:https://ftmrockhill.org/event/praise-dance-rehearsal/2027-07-26/
LOCATION:Freedom Temple Ministries\, 215 E. Main Street\, Rock Hill\, SC\, 29730\, United States
END:VEVENT
BEGIN:VEVENT
DTSTART;TZID=America/New_York:20270726T190000
DTEND;TZID=America/New_York:20270726T210000
DTSTAMP:20260425T082159
CREATED:20160328T161754Z
LAST-MODIFIED:20160328T161754Z
UID:40611-1816628400-1816635600@ftmrockhill.org
SUMMARY:Voices of Freedom / Praise Team Rehearsals
DESCRIPTION:Voices of Freedom / Praise Team Rehearsals\nEvery Monday at 7pm at Freedom Temple Ministries
URL:https://ftmrockhill.org/event/voices-of-freedom-praise-team-rehearsals-2/2027-07-26/
LOCATION:Freedom Temple Ministries\, 215 E. Main Street\, Rock Hill\, SC\, 29730\, United States
END:VEVENT
BEGIN:VEVENT
DTSTART;TZID=America/New_York:20270731T090000
DTEND;TZID=America/New_York:20270731T110000
DTSTAMP:20260425T082159
CREATED:20160328T161633Z
LAST-MODIFIED:20160328T161633Z
UID:40612-1817024400-1817031600@ftmrockhill.org
SUMMARY:Praise Dance Rehearsal
DESCRIPTION:Praise Dance Rehearsal\nEvery Monday at 6pm and Every Saturday at 9am
URL:https://ftmrockhill.org/event/praise-dance-rehearsal-3/2027-07-31/
LOCATION:Freedom Temple Ministries\, 215 E. Main Street\, Rock Hill\, SC\, 29730\, United States
END:VEVENT
BEGIN:VEVENT
DTSTART;TZID=America/New_York:20270802T180000
DTEND;TZID=America/New_York:20270802T200000
DTSTAMP:20260425T082159
CREATED:20160317T132653Z
LAST-MODIFIED:20160317T132653Z
UID:40613-1817229600-1817236800@ftmrockhill.org
SUMMARY:Praise Dance Rehearsal
DESCRIPTION:Praise Dance Rehearsal\nEvery Monday at 6pm and Every Saturday at 9am
URL:https://ftmrockhill.org/event/praise-dance-rehearsal/2027-08-02/
LOCATION:Freedom Temple Ministries\, 215 E. Main Street\, Rock Hill\, SC\, 29730\, United States
END:VEVENT
BEGIN:VEVENT
DTSTART;TZID=America/New_York:20270802T190000
DTEND;TZID=America/New_York:20270802T210000
DTSTAMP:20260425T082159
CREATED:20160328T161754Z
LAST-MODIFIED:20160328T161754Z
UID:40614-1817233200-1817240400@ftmrockhill.org
SUMMARY:Voices of Freedom / Praise Team Rehearsals
DESCRIPTION:Voices of Freedom / Praise Team Rehearsals\nEvery Monday at 7pm at Freedom Temple Ministries
URL:https://ftmrockhill.org/event/voices-of-freedom-praise-team-rehearsals-2/2027-08-02/
LOCATION:Freedom Temple Ministries\, 215 E. Main Street\, Rock Hill\, SC\, 29730\, United States
END:VEVENT
BEGIN:VEVENT
DTSTART;TZID=America/New_York:20270807T090000
DTEND;TZID=America/New_York:20270807T110000
DTSTAMP:20260425T082159
CREATED:20160328T161633Z
LAST-MODIFIED:20160328T161633Z
UID:40631-1817629200-1817636400@ftmrockhill.org
SUMMARY:Praise Dance Rehearsal
DESCRIPTION:Praise Dance Rehearsal\nEvery Monday at 6pm and Every Saturday at 9am
URL:https://ftmrockhill.org/event/praise-dance-rehearsal-3/2027-08-07/
LOCATION:Freedom Temple Ministries\, 215 E. Main Street\, Rock Hill\, SC\, 29730\, United States
END:VEVENT
BEGIN:VEVENT
DTSTART;TZID=America/New_York:20270809T180000
DTEND;TZID=America/New_York:20270809T200000
DTSTAMP:20260425T082159
CREATED:20160317T132653Z
LAST-MODIFIED:20160317T132653Z
UID:40632-1817834400-1817841600@ftmrockhill.org
SUMMARY:Praise Dance Rehearsal
DESCRIPTION:Praise Dance Rehearsal\nEvery Monday at 6pm and Every Saturday at 9am
URL:https://ftmrockhill.org/event/praise-dance-rehearsal/2027-08-09/
LOCATION:Freedom Temple Ministries\, 215 E. Main Street\, Rock Hill\, SC\, 29730\, United States
END:VEVENT
BEGIN:VEVENT
DTSTART;TZID=America/New_York:20270809T190000
DTEND;TZID=America/New_York:20270809T210000
DTSTAMP:20260425T082159
CREATED:20160328T161754Z
LAST-MODIFIED:20160328T161754Z
UID:40633-1817838000-1817845200@ftmrockhill.org
SUMMARY:Voices of Freedom / Praise Team Rehearsals
DESCRIPTION:Voices of Freedom / Praise Team Rehearsals\nEvery Monday at 7pm at Freedom Temple Ministries
URL:https://ftmrockhill.org/event/voices-of-freedom-praise-team-rehearsals-2/2027-08-09/
LOCATION:Freedom Temple Ministries\, 215 E. Main Street\, Rock Hill\, SC\, 29730\, United States
END:VEVENT
BEGIN:VEVENT
DTSTART;TZID=America/New_York:20270814T090000
DTEND;TZID=America/New_York:20270814T110000
DTSTAMP:20260425T082159
CREATED:20160328T161633Z
LAST-MODIFIED:20160328T161633Z
UID:40634-1818234000-1818241200@ftmrockhill.org
SUMMARY:Praise Dance Rehearsal
DESCRIPTION:Praise Dance Rehearsal\nEvery Monday at 6pm and Every Saturday at 9am
URL:https://ftmrockhill.org/event/praise-dance-rehearsal-3/2027-08-14/
LOCATION:Freedom Temple Ministries\, 215 E. Main Street\, Rock Hill\, SC\, 29730\, United States
END:VEVENT
BEGIN:VEVENT
DTSTART;TZID=America/New_York:20270816T180000
DTEND;TZID=America/New_York:20270816T200000
DTSTAMP:20260425T082159
CREATED:20160317T132653Z
LAST-MODIFIED:20160317T132653Z
UID:40635-1818439200-1818446400@ftmrockhill.org
SUMMARY:Praise Dance Rehearsal
DESCRIPTION:Praise Dance Rehearsal\nEvery Monday at 6pm and Every Saturday at 9am
URL:https://ftmrockhill.org/event/praise-dance-rehearsal/2027-08-16/
LOCATION:Freedom Temple Ministries\, 215 E. Main Street\, Rock Hill\, SC\, 29730\, United States
END:VEVENT
BEGIN:VEVENT
DTSTART;TZID=America/New_York:20270816T190000
DTEND;TZID=America/New_York:20270816T210000
DTSTAMP:20260425T082159
CREATED:20160328T161754Z
LAST-MODIFIED:20160328T161754Z
UID:40636-1818442800-1818450000@ftmrockhill.org
SUMMARY:Voices of Freedom / Praise Team Rehearsals
DESCRIPTION:Voices of Freedom / Praise Team Rehearsals\nEvery Monday at 7pm at Freedom Temple Ministries
URL:https://ftmrockhill.org/event/voices-of-freedom-praise-team-rehearsals-2/2027-08-16/
LOCATION:Freedom Temple Ministries\, 215 E. Main Street\, Rock Hill\, SC\, 29730\, United States
END:VEVENT
END:VCALENDAR