BEGIN:VCALENDAR
VERSION:2.0
PRODID:-//Freedom Temple Ministries - ECPv6.15.20//NONSGML v1.0//EN
CALSCALE:GREGORIAN
METHOD:PUBLISH
X-WR-CALNAME:Freedom Temple Ministries
X-ORIGINAL-URL:https://ftmrockhill.org
X-WR-CALDESC:Events for Freedom Temple Ministries
REFRESH-INTERVAL;VALUE=DURATION:PT1H
X-Robots-Tag:noindex
X-PUBLISHED-TTL:PT1H
BEGIN:VTIMEZONE
TZID:America/New_York
BEGIN:DAYLIGHT
TZOFFSETFROM:-0500
TZOFFSETTO:-0400
TZNAME:EDT
DTSTART:20240310T070000
END:DAYLIGHT
BEGIN:STANDARD
TZOFFSETFROM:-0400
TZOFFSETTO:-0500
TZNAME:EST
DTSTART:20241103T060000
END:STANDARD
BEGIN:DAYLIGHT
TZOFFSETFROM:-0500
TZOFFSETTO:-0400
TZNAME:EDT
DTSTART:20250309T070000
END:DAYLIGHT
BEGIN:STANDARD
TZOFFSETFROM:-0400
TZOFFSETTO:-0500
TZNAME:EST
DTSTART:20251102T060000
END:STANDARD
BEGIN:DAYLIGHT
TZOFFSETFROM:-0500
TZOFFSETTO:-0400
TZNAME:EDT
DTSTART:20260308T070000
END:DAYLIGHT
BEGIN:STANDARD
TZOFFSETFROM:-0400
TZOFFSETTO:-0500
TZNAME:EST
DTSTART:20261101T060000
END:STANDARD
END:VTIMEZONE
BEGIN:VEVENT
DTSTART;TZID=America/New_York:20251005T100000
DTEND;TZID=America/New_York:20251005T120000
DTSTAMP:20260425T071203
CREATED:20200501T150021Z
LAST-MODIFIED:20200501T150021Z
UID:39008-1759658400-1759665600@ftmrockhill.org
SUMMARY:Communion Sunday
DESCRIPTION:Join us for Communion on the 1st Sunday of every month in 2024!
URL:https://ftmrockhill.org/event/communion-sunday/2025-10-05/
CATEGORIES:Flyers
ATTACH;FMTTYPE=image/jpeg:https://ftmrockhill.org/wp-content/uploads/2020/05/FTM-Communion-Sunday-2024-FLYER-1-scaled.jpg
END:VEVENT
BEGIN:VEVENT
DTSTART;TZID=America/New_York:20251004T090000
DTEND;TZID=America/New_York:20251004T110000
DTSTAMP:20260425T071203
CREATED:20160328T161633Z
LAST-MODIFIED:20160328T161633Z
UID:38482-1759568400-1759575600@ftmrockhill.org
SUMMARY:Praise Dance Rehearsal
DESCRIPTION:Praise Dance Rehearsal\nEvery Monday at 6pm and Every Saturday at 9am
URL:https://ftmrockhill.org/event/praise-dance-rehearsal-3/2025-10-04/
LOCATION:Freedom Temple Ministries\, 215 E. Main Street\, Rock Hill\, SC\, 29730\, United States
END:VEVENT
BEGIN:VEVENT
DTSTART;TZID=America/New_York:20251002T180000
DTEND;TZID=America/New_York:20251002T183000
DTSTAMP:20260425T071203
CREATED:20240709T021107Z
LAST-MODIFIED:20260417T183305Z
UID:39992-1759428000-1759429800@ftmrockhill.org
SUMMARY:Intercessory Prayer Ministry
DESCRIPTION:Intercessory Prayer Ministry\, Weekly Prayer Calls:  Tuesdays morning 6am – 6:30 am and Thursday evenings 6pm-6:30 pm.  712.432.3900\, Access Code:  174705 \n  \n  \n  \n  \n  \n  \n 
URL:https://ftmrockhill.org/event/intercessory-prayer-ministry-summer-break/2025-10-02/
CATEGORIES:Flyers
ATTACH;FMTTYPE=image/jpeg:https://ftmrockhill.org/wp-content/uploads/2024/07/FTM-Intercessory-Prayer-2-2025-FLYER-1-scaled.jpg
END:VEVENT
BEGIN:VEVENT
DTSTART;TZID=America/New_York:20251001T190000
DTEND;TZID=America/New_York:20251001T200000
DTSTAMP:20260425T071204
CREATED:20241119T183533Z
LAST-MODIFIED:20251001T212925Z
UID:39771-1759345200-1759348800@ftmrockhill.org
SUMMARY:Wednesday Word & Worship Virtual Bible Study
DESCRIPTION:Join us for Virtual Bible Study on Wednesday Word & Worship at 7pm!  Scan the QR Code or click HERE to join the Zoom!
URL:https://ftmrockhill.org/event/wednesday-word-worship-bible-study/
CATEGORIES:Flyers
ATTACH;FMTTYPE=image/jpeg:https://ftmrockhill.org/wp-content/uploads/2024/11/FTM-Word-and-Worship-2025-FLYER-2-scaled.jpg
END:VEVENT
BEGIN:VEVENT
DTSTART;TZID=America/New_York:20251001T100000
DTEND;TZID=America/New_York:20251001T113000
DTSTAMP:20260425T071204
CREATED:20200415T194205Z
LAST-MODIFIED:20250918T210547Z
UID:40131-1759312800-1759318200@ftmrockhill.org
SUMMARY:JOY Ministry
DESCRIPTION:JOY Ministry\, Wednesdays mornings at 10am.
URL:https://ftmrockhill.org/event/joy-ministry-mid-week/2025-10-01/
ATTACH;FMTTYPE=image/jpeg:https://ftmrockhill.org/wp-content/uploads/2020/04/FTM-JOY-2025-2-FLYER-1-scaled.jpg
END:VEVENT
BEGIN:VEVENT
DTSTART;TZID=America/New_York:20250930T060000
DTEND;TZID=America/New_York:20250930T063000
DTSTAMP:20260425T071204
CREATED:20240709T021107Z
LAST-MODIFIED:20260417T183304Z
UID:39991-1759212000-1759213800@ftmrockhill.org
SUMMARY:Intercessory Prayer Ministry
DESCRIPTION:Intercessory Prayer Ministry\, Weekly Prayer Calls:  Tuesdays morning 6am – 6:30 am and Thursday evenings 6pm-6:30 pm.  712.432.3900\, Access Code:  174705 \n  \n  \n  \n  \n  \n  \n 
URL:https://ftmrockhill.org/event/intercessory-prayer-ministry-summer-break/2025-09-30/
CATEGORIES:Flyers
ATTACH;FMTTYPE=image/jpeg:https://ftmrockhill.org/wp-content/uploads/2024/07/FTM-Intercessory-Prayer-2-2025-FLYER-1-scaled.jpg
END:VEVENT
BEGIN:VEVENT
DTSTART;TZID=America/New_York:20250929T190000
DTEND;TZID=America/New_York:20250929T210000
DTSTAMP:20260425T071204
CREATED:20160328T161754Z
LAST-MODIFIED:20160328T161754Z
UID:38481-1759172400-1759179600@ftmrockhill.org
SUMMARY:Voices of Freedom / Praise Team Rehearsals
DESCRIPTION:Voices of Freedom / Praise Team Rehearsals\nEvery Monday at 7pm at Freedom Temple Ministries
URL:https://ftmrockhill.org/event/voices-of-freedom-praise-team-rehearsals-2/2025-09-29/
LOCATION:Freedom Temple Ministries\, 215 E. Main Street\, Rock Hill\, SC\, 29730\, United States
END:VEVENT
BEGIN:VEVENT
DTSTART;TZID=America/New_York:20250929T180000
DTEND;TZID=America/New_York:20250929T200000
DTSTAMP:20260425T071204
CREATED:20160317T132653Z
LAST-MODIFIED:20160317T132653Z
UID:38480-1759168800-1759176000@ftmrockhill.org
SUMMARY:Praise Dance Rehearsal
DESCRIPTION:Praise Dance Rehearsal\nEvery Monday at 6pm and Every Saturday at 9am
URL:https://ftmrockhill.org/event/praise-dance-rehearsal/2025-09-29/
LOCATION:Freedom Temple Ministries\, 215 E. Main Street\, Rock Hill\, SC\, 29730\, United States
END:VEVENT
BEGIN:VEVENT
DTSTART;TZID=America/New_York:20250927T090000
DTEND;TZID=America/New_York:20250927T110000
DTSTAMP:20260425T071204
CREATED:20160328T161633Z
LAST-MODIFIED:20160328T161633Z
UID:38468-1758963600-1758970800@ftmrockhill.org
SUMMARY:Praise Dance Rehearsal
DESCRIPTION:Praise Dance Rehearsal\nEvery Monday at 6pm and Every Saturday at 9am
URL:https://ftmrockhill.org/event/praise-dance-rehearsal-3/2025-09-27/
LOCATION:Freedom Temple Ministries\, 215 E. Main Street\, Rock Hill\, SC\, 29730\, United States
END:VEVENT
BEGIN:VEVENT
DTSTART;TZID=America/New_York:20250925T180000
DTEND;TZID=America/New_York:20250925T183000
DTSTAMP:20260425T071204
CREATED:20240709T021107Z
LAST-MODIFIED:20260417T183304Z
UID:39990-1758823200-1758825000@ftmrockhill.org
SUMMARY:Intercessory Prayer Ministry
DESCRIPTION:Intercessory Prayer Ministry\, Weekly Prayer Calls:  Tuesdays morning 6am – 6:30 am and Thursday evenings 6pm-6:30 pm.  712.432.3900\, Access Code:  174705 \n  \n  \n  \n  \n  \n  \n 
URL:https://ftmrockhill.org/event/intercessory-prayer-ministry-summer-break/2025-09-25/
CATEGORIES:Flyers
ATTACH;FMTTYPE=image/jpeg:https://ftmrockhill.org/wp-content/uploads/2024/07/FTM-Intercessory-Prayer-2-2025-FLYER-1-scaled.jpg
END:VEVENT
BEGIN:VEVENT
DTSTART;TZID=America/New_York:20250924T100000
DTEND;TZID=America/New_York:20250924T113000
DTSTAMP:20260425T071204
CREATED:20200415T194205Z
LAST-MODIFIED:20250918T200013Z
UID:40130-1758708000-1758713400@ftmrockhill.org
SUMMARY:JOY Ministry
DESCRIPTION:JOY Ministry\, Wednesdays mornings at 10am.
URL:https://ftmrockhill.org/event/joy-ministry-mid-week/2025-09-24/
CATEGORIES:Flyers
ATTACH;FMTTYPE=image/jpeg:https://ftmrockhill.org/wp-content/uploads/2020/04/FTM-JOY-MINISTRY-2025-FLYER-1-scaled.jpg
END:VEVENT
BEGIN:VEVENT
DTSTART;TZID=America/New_York:20250923T060000
DTEND;TZID=America/New_York:20250923T063000
DTSTAMP:20260425T071204
CREATED:20240709T021107Z
LAST-MODIFIED:20260417T183303Z
UID:39989-1758607200-1758609000@ftmrockhill.org
SUMMARY:Intercessory Prayer Ministry
DESCRIPTION:Intercessory Prayer Ministry\, Weekly Prayer Calls:  Tuesdays morning 6am – 6:30 am and Thursday evenings 6pm-6:30 pm.  712.432.3900\, Access Code:  174705 \n  \n  \n  \n  \n  \n  \n 
URL:https://ftmrockhill.org/event/intercessory-prayer-ministry-summer-break/2025-09-23/
CATEGORIES:Flyers
ATTACH;FMTTYPE=image/jpeg:https://ftmrockhill.org/wp-content/uploads/2024/07/FTM-Intercessory-Prayer-2-2025-FLYER-1-scaled.jpg
END:VEVENT
BEGIN:VEVENT
DTSTART;TZID=America/New_York:20250922T190000
DTEND;TZID=America/New_York:20250922T210000
DTSTAMP:20260425T071204
CREATED:20160328T161754Z
LAST-MODIFIED:20160328T161754Z
UID:38450-1758567600-1758574800@ftmrockhill.org
SUMMARY:Voices of Freedom / Praise Team Rehearsals
DESCRIPTION:Voices of Freedom / Praise Team Rehearsals\nEvery Monday at 7pm at Freedom Temple Ministries
URL:https://ftmrockhill.org/event/voices-of-freedom-praise-team-rehearsals-2/2025-09-22/
LOCATION:Freedom Temple Ministries\, 215 E. Main Street\, Rock Hill\, SC\, 29730\, United States
END:VEVENT
BEGIN:VEVENT
DTSTART;TZID=America/New_York:20250922T180000
DTEND;TZID=America/New_York:20250922T200000
DTSTAMP:20260425T071204
CREATED:20160317T132653Z
LAST-MODIFIED:20160317T132653Z
UID:38449-1758564000-1758571200@ftmrockhill.org
SUMMARY:Praise Dance Rehearsal
DESCRIPTION:Praise Dance Rehearsal\nEvery Monday at 6pm and Every Saturday at 9am
URL:https://ftmrockhill.org/event/praise-dance-rehearsal/2025-09-22/
LOCATION:Freedom Temple Ministries\, 215 E. Main Street\, Rock Hill\, SC\, 29730\, United States
END:VEVENT
BEGIN:VEVENT
DTSTART;TZID=America/New_York:20250921T100000
DTEND;TZID=America/New_York:20250921T120000
DTSTAMP:20260425T071204
CREATED:20220803T200945Z
LAST-MODIFIED:20220803T200945Z
UID:39031-1758448800-1758456000@ftmrockhill.org
SUMMARY:Baptism
DESCRIPTION:Baptism held every 3rd Sunday of each month!
URL:https://ftmrockhill.org/event/baptisms/2025-09-21/
CATEGORIES:Flyers
ATTACH;FMTTYPE=image/jpeg:https://ftmrockhill.org/wp-content/uploads/2022/08/FTM-Baptism-2024-FLYER-1-scaled.jpg
END:VEVENT
BEGIN:VEVENT
DTSTART;TZID=America/New_York:20250920T090000
DTEND;TZID=America/New_York:20250920T110000
DTSTAMP:20260425T071204
CREATED:20160328T161633Z
LAST-MODIFIED:20160328T161633Z
UID:38447-1758358800-1758366000@ftmrockhill.org
SUMMARY:Praise Dance Rehearsal
DESCRIPTION:Praise Dance Rehearsal\nEvery Monday at 6pm and Every Saturday at 9am
URL:https://ftmrockhill.org/event/praise-dance-rehearsal-3/2025-09-20/
LOCATION:Freedom Temple Ministries\, 215 E. Main Street\, Rock Hill\, SC\, 29730\, United States
END:VEVENT
BEGIN:VEVENT
DTSTART;TZID=America/New_York:20250918T180000
DTEND;TZID=America/New_York:20250918T183000
DTSTAMP:20260425T071204
CREATED:20240709T021107Z
LAST-MODIFIED:20260417T183303Z
UID:39988-1758218400-1758220200@ftmrockhill.org
SUMMARY:Intercessory Prayer Ministry
DESCRIPTION:Intercessory Prayer Ministry\, Weekly Prayer Calls:  Tuesdays morning 6am – 6:30 am and Thursday evenings 6pm-6:30 pm.  712.432.3900\, Access Code:  174705 \n  \n  \n  \n  \n  \n  \n 
URL:https://ftmrockhill.org/event/intercessory-prayer-ministry-summer-break/2025-09-18/
CATEGORIES:Flyers
ATTACH;FMTTYPE=image/jpeg:https://ftmrockhill.org/wp-content/uploads/2024/07/FTM-Intercessory-Prayer-2-2025-FLYER-1-scaled.jpg
END:VEVENT
BEGIN:VEVENT
DTSTART;TZID=America/New_York:20250918T080000
DTEND;TZID=America/New_York:20250918T170000
DTSTAMP:20260425T071204
CREATED:20250918T210243Z
LAST-MODIFIED:20250918T210415Z
UID:40767-1758182400-1758214800@ftmrockhill.org
SUMMARY:Freedom's 25th Anniversary Merchandise
DESCRIPTION:Freedom’s 25th Anniversary Merchandise – Order today at the FTM Store!
URL:https://ftmrockhill.org/event/freedoms-25th-anniversary-merchandise/
CATEGORIES:Flyers
ATTACH;FMTTYPE=image/jpeg:https://ftmrockhill.org/wp-content/uploads/2025/09/FTM-Celebrating-Freedom-MERCH-FLYER-scaled.jpg
END:VEVENT
BEGIN:VEVENT
DTSTART;TZID=America/New_York:20250917T100000
DTEND;TZID=America/New_York:20250917T113000
DTSTAMP:20260425T071204
CREATED:20200415T194205Z
LAST-MODIFIED:20250701T210027Z
UID:40129-1758103200-1758108600@ftmrockhill.org
SUMMARY:JOY Ministry
DESCRIPTION:JOY Ministry\, Wednesdays mornings at 10am.
URL:https://ftmrockhill.org/event/joy-ministry-mid-week/2025-09-17/
CATEGORIES:Flyers
ATTACH;FMTTYPE=image/jpeg:https://ftmrockhill.org/wp-content/uploads/2020/04/FTM-JOY-2025-2-FLYER-1-scaled.jpg
END:VEVENT
BEGIN:VEVENT
DTSTART;TZID=America/New_York:20250916T060000
DTEND;TZID=America/New_York:20250916T063000
DTSTAMP:20260425T071204
CREATED:20240709T021107Z
LAST-MODIFIED:20260417T183303Z
UID:39987-1758002400-1758004200@ftmrockhill.org
SUMMARY:Intercessory Prayer Ministry
DESCRIPTION:Intercessory Prayer Ministry\, Weekly Prayer Calls:  Tuesdays morning 6am – 6:30 am and Thursday evenings 6pm-6:30 pm.  712.432.3900\, Access Code:  174705 \n  \n  \n  \n  \n  \n  \n 
URL:https://ftmrockhill.org/event/intercessory-prayer-ministry-summer-break/2025-09-16/
CATEGORIES:Flyers
ATTACH;FMTTYPE=image/jpeg:https://ftmrockhill.org/wp-content/uploads/2024/07/FTM-Intercessory-Prayer-2-2025-FLYER-1-scaled.jpg
END:VEVENT
BEGIN:VEVENT
DTSTART;TZID=America/New_York:20250915T190000
DTEND;TZID=America/New_York:20250915T210000
DTSTAMP:20260425T071204
CREATED:20160328T161754Z
LAST-MODIFIED:20160328T161754Z
UID:38446-1757962800-1757970000@ftmrockhill.org
SUMMARY:Voices of Freedom / Praise Team Rehearsals
DESCRIPTION:Voices of Freedom / Praise Team Rehearsals\nEvery Monday at 7pm at Freedom Temple Ministries
URL:https://ftmrockhill.org/event/voices-of-freedom-praise-team-rehearsals-2/2025-09-15/
LOCATION:Freedom Temple Ministries\, 215 E. Main Street\, Rock Hill\, SC\, 29730\, United States
END:VEVENT
BEGIN:VEVENT
DTSTART;TZID=America/New_York:20250915T180000
DTEND;TZID=America/New_York:20250915T200000
DTSTAMP:20260425T071204
CREATED:20160317T132653Z
LAST-MODIFIED:20160317T132653Z
UID:38445-1757959200-1757966400@ftmrockhill.org
SUMMARY:Praise Dance Rehearsal
DESCRIPTION:Praise Dance Rehearsal\nEvery Monday at 6pm and Every Saturday at 9am
URL:https://ftmrockhill.org/event/praise-dance-rehearsal/2025-09-15/
LOCATION:Freedom Temple Ministries\, 215 E. Main Street\, Rock Hill\, SC\, 29730\, United States
END:VEVENT
BEGIN:VEVENT
DTSTART;TZID=America/New_York:20250913T090000
DTEND;TZID=America/New_York:20250913T230000
DTSTAMP:20260425T071204
CREATED:20240709T173213Z
LAST-MODIFIED:20250821T185902Z
UID:40183-1757754000-1757804400@ftmrockhill.org
SUMMARY:New Member Orientation (NMO)
DESCRIPTION:New Member Orientation (NMO) is offered every 2nd Saturday of the month at 10am!  Join via Zoom.
URL:https://ftmrockhill.org/event/new-member-orientation-nmo/2025-09-13/
CATEGORIES:Flyers
ATTACH;FMTTYPE=image/jpeg:https://ftmrockhill.org/wp-content/uploads/2024/07/FTM-New-Member-Orientation-Generic-2025-FLYER-scaled.jpg
END:VEVENT
BEGIN:VEVENT
DTSTART;TZID=America/New_York:20250913T090000
DTEND;TZID=America/New_York:20250913T110000
DTSTAMP:20260425T071204
CREATED:20160328T161633Z
LAST-MODIFIED:20160328T161633Z
UID:38444-1757754000-1757761200@ftmrockhill.org
SUMMARY:Praise Dance Rehearsal
DESCRIPTION:Praise Dance Rehearsal\nEvery Monday at 6pm and Every Saturday at 9am
URL:https://ftmrockhill.org/event/praise-dance-rehearsal-3/2025-09-13/
LOCATION:Freedom Temple Ministries\, 215 E. Main Street\, Rock Hill\, SC\, 29730\, United States
END:VEVENT
BEGIN:VEVENT
DTSTART;TZID=America/New_York:20250911T180000
DTEND;TZID=America/New_York:20250911T183000
DTSTAMP:20260425T071204
CREATED:20240709T021107Z
LAST-MODIFIED:20260417T183302Z
UID:39986-1757613600-1757615400@ftmrockhill.org
SUMMARY:Intercessory Prayer Ministry
DESCRIPTION:Intercessory Prayer Ministry\, Weekly Prayer Calls:  Tuesdays morning 6am – 6:30 am and Thursday evenings 6pm-6:30 pm.  712.432.3900\, Access Code:  174705 \n  \n  \n  \n  \n  \n  \n 
URL:https://ftmrockhill.org/event/intercessory-prayer-ministry-summer-break/2025-09-11/
CATEGORIES:Flyers
ATTACH;FMTTYPE=image/jpeg:https://ftmrockhill.org/wp-content/uploads/2024/07/FTM-Intercessory-Prayer-2-2025-FLYER-1-scaled.jpg
END:VEVENT
BEGIN:VEVENT
DTSTART;TZID=America/New_York:20250910T100000
DTEND;TZID=America/New_York:20250910T113000
DTSTAMP:20260425T071204
CREATED:20200415T194205Z
LAST-MODIFIED:20250701T210027Z
UID:40128-1757498400-1757503800@ftmrockhill.org
SUMMARY:JOY Ministry
DESCRIPTION:JOY Ministry\, Wednesdays mornings at 10am.
URL:https://ftmrockhill.org/event/joy-ministry-mid-week/2025-09-10/
CATEGORIES:Flyers
ATTACH;FMTTYPE=image/jpeg:https://ftmrockhill.org/wp-content/uploads/2020/04/FTM-JOY-2025-2-FLYER-1-scaled.jpg
END:VEVENT
BEGIN:VEVENT
DTSTART;TZID=America/New_York:20250909T060000
DTEND;TZID=America/New_York:20250909T063000
DTSTAMP:20260425T071204
CREATED:20240709T021107Z
LAST-MODIFIED:20260417T183302Z
UID:39985-1757397600-1757399400@ftmrockhill.org
SUMMARY:Intercessory Prayer Ministry
DESCRIPTION:Intercessory Prayer Ministry\, Weekly Prayer Calls:  Tuesdays morning 6am – 6:30 am and Thursday evenings 6pm-6:30 pm.  712.432.3900\, Access Code:  174705 \n  \n  \n  \n  \n  \n  \n 
URL:https://ftmrockhill.org/event/intercessory-prayer-ministry-summer-break/2025-09-09/
CATEGORIES:Flyers
ATTACH;FMTTYPE=image/jpeg:https://ftmrockhill.org/wp-content/uploads/2024/07/FTM-Intercessory-Prayer-2-2025-FLYER-1-scaled.jpg
END:VEVENT
BEGIN:VEVENT
DTSTART;TZID=America/New_York:20250908T190000
DTEND;TZID=America/New_York:20250908T210000
DTSTAMP:20260425T071204
CREATED:20160328T161754Z
LAST-MODIFIED:20160328T161754Z
UID:38361-1757358000-1757365200@ftmrockhill.org
SUMMARY:Voices of Freedom / Praise Team Rehearsals
DESCRIPTION:Voices of Freedom / Praise Team Rehearsals\nEvery Monday at 7pm at Freedom Temple Ministries
URL:https://ftmrockhill.org/event/voices-of-freedom-praise-team-rehearsals-2/2025-09-08/
LOCATION:Freedom Temple Ministries\, 215 E. Main Street\, Rock Hill\, SC\, 29730\, United States
END:VEVENT
BEGIN:VEVENT
DTSTART;TZID=America/New_York:20250908T180000
DTEND;TZID=America/New_York:20250908T200000
DTSTAMP:20260425T071204
CREATED:20160317T132653Z
LAST-MODIFIED:20160317T132653Z
UID:38360-1757354400-1757361600@ftmrockhill.org
SUMMARY:Praise Dance Rehearsal
DESCRIPTION:Praise Dance Rehearsal\nEvery Monday at 6pm and Every Saturday at 9am
URL:https://ftmrockhill.org/event/praise-dance-rehearsal/2025-09-08/
LOCATION:Freedom Temple Ministries\, 215 E. Main Street\, Rock Hill\, SC\, 29730\, United States
END:VEVENT
BEGIN:VEVENT
DTSTART;TZID=America/New_York:20250907T100000
DTEND;TZID=America/New_York:20250907T120000
DTSTAMP:20260425T071204
CREATED:20200501T150021Z
LAST-MODIFIED:20200501T150021Z
UID:39007-1757239200-1757246400@ftmrockhill.org
SUMMARY:Communion Sunday
DESCRIPTION:Join us for Communion on the 1st Sunday of every month in 2024!
URL:https://ftmrockhill.org/event/communion-sunday/2025-09-07/
CATEGORIES:Flyers
ATTACH;FMTTYPE=image/jpeg:https://ftmrockhill.org/wp-content/uploads/2020/05/FTM-Communion-Sunday-2024-FLYER-1-scaled.jpg
END:VEVENT
END:VCALENDAR