BEGIN:VCALENDAR
VERSION:2.0
PRODID:-//Freedom Temple Ministries - ECPv6.15.20//NONSGML v1.0//EN
CALSCALE:GREGORIAN
METHOD:PUBLISH
X-WR-CALNAME:Freedom Temple Ministries
X-ORIGINAL-URL:https://ftmrockhill.org
X-WR-CALDESC:Events for Freedom Temple Ministries
REFRESH-INTERVAL;VALUE=DURATION:PT1H
X-Robots-Tag:noindex
X-PUBLISHED-TTL:PT1H
BEGIN:VTIMEZONE
TZID:America/New_York
BEGIN:DAYLIGHT
TZOFFSETFROM:-0500
TZOFFSETTO:-0400
TZNAME:EDT
DTSTART:20260308T070000
END:DAYLIGHT
BEGIN:STANDARD
TZOFFSETFROM:-0400
TZOFFSETTO:-0500
TZNAME:EST
DTSTART:20261101T060000
END:STANDARD
BEGIN:DAYLIGHT
TZOFFSETFROM:-0500
TZOFFSETTO:-0400
TZNAME:EDT
DTSTART:20270314T070000
END:DAYLIGHT
BEGIN:STANDARD
TZOFFSETFROM:-0400
TZOFFSETTO:-0500
TZNAME:EST
DTSTART:20271107T060000
END:STANDARD
BEGIN:DAYLIGHT
TZOFFSETFROM:-0500
TZOFFSETTO:-0400
TZNAME:EDT
DTSTART:20280312T070000
END:DAYLIGHT
BEGIN:STANDARD
TZOFFSETFROM:-0400
TZOFFSETTO:-0500
TZNAME:EST
DTSTART:20281105T060000
END:STANDARD
BEGIN:DAYLIGHT
TZOFFSETFROM:-0500
TZOFFSETTO:-0400
TZNAME:EDT
DTSTART:20290311T070000
END:DAYLIGHT
BEGIN:STANDARD
TZOFFSETFROM:-0400
TZOFFSETTO:-0500
TZNAME:EST
DTSTART:20291104T060000
END:STANDARD
END:VTIMEZONE
BEGIN:VEVENT
DTSTART;TZID=America/New_York:20271129T180000
DTEND;TZID=America/New_York:20271129T200000
DTSTAMP:20260425T201416
CREATED:20160317T132653Z
LAST-MODIFIED:20160317T132653Z
UID:40958-1827511200-1827518400@ftmrockhill.org
SUMMARY:Praise Dance Rehearsal
DESCRIPTION:Praise Dance Rehearsal\nEvery Monday at 6pm and Every Saturday at 9am
URL:https://ftmrockhill.org/event/praise-dance-rehearsal/2027-11-29/
LOCATION:Freedom Temple Ministries\, 215 E. Main Street\, Rock Hill\, SC\, 29730\, United States
END:VEVENT
BEGIN:VEVENT
DTSTART;TZID=America/New_York:20271129T190000
DTEND;TZID=America/New_York:20271129T210000
DTSTAMP:20260425T201416
CREATED:20160328T161754Z
LAST-MODIFIED:20160328T161754Z
UID:40988-1827514800-1827522000@ftmrockhill.org
SUMMARY:Voices of Freedom / Praise Team Rehearsals
DESCRIPTION:Voices of Freedom / Praise Team Rehearsals\nEvery Monday at 7pm at Freedom Temple Ministries
URL:https://ftmrockhill.org/event/voices-of-freedom-praise-team-rehearsals-2/2027-11-29/
LOCATION:Freedom Temple Ministries\, 215 E. Main Street\, Rock Hill\, SC\, 29730\, United States
END:VEVENT
BEGIN:VEVENT
DTSTART;TZID=America/New_York:20271204T090000
DTEND;TZID=America/New_York:20271204T110000
DTSTAMP:20260425T201416
CREATED:20160328T161633Z
LAST-MODIFIED:20160328T161633Z
UID:40929-1827910800-1827918000@ftmrockhill.org
SUMMARY:Praise Dance Rehearsal
DESCRIPTION:Praise Dance Rehearsal\nEvery Monday at 6pm and Every Saturday at 9am
URL:https://ftmrockhill.org/event/praise-dance-rehearsal-3/2027-12-04/
LOCATION:Freedom Temple Ministries\, 215 E. Main Street\, Rock Hill\, SC\, 29730\, United States
END:VEVENT
BEGIN:VEVENT
DTSTART;TZID=America/New_York:20271206T180000
DTEND;TZID=America/New_York:20271206T200000
DTSTAMP:20260425T201416
CREATED:20160317T132653Z
LAST-MODIFIED:20160317T132653Z
UID:40959-1828116000-1828123200@ftmrockhill.org
SUMMARY:Praise Dance Rehearsal
DESCRIPTION:Praise Dance Rehearsal\nEvery Monday at 6pm and Every Saturday at 9am
URL:https://ftmrockhill.org/event/praise-dance-rehearsal/2027-12-06/
LOCATION:Freedom Temple Ministries\, 215 E. Main Street\, Rock Hill\, SC\, 29730\, United States
END:VEVENT
BEGIN:VEVENT
DTSTART;TZID=America/New_York:20271206T190000
DTEND;TZID=America/New_York:20271206T210000
DTSTAMP:20260425T201416
CREATED:20160328T161754Z
LAST-MODIFIED:20160328T161754Z
UID:40989-1828119600-1828126800@ftmrockhill.org
SUMMARY:Voices of Freedom / Praise Team Rehearsals
DESCRIPTION:Voices of Freedom / Praise Team Rehearsals\nEvery Monday at 7pm at Freedom Temple Ministries
URL:https://ftmrockhill.org/event/voices-of-freedom-praise-team-rehearsals-2/2027-12-06/
LOCATION:Freedom Temple Ministries\, 215 E. Main Street\, Rock Hill\, SC\, 29730\, United States
END:VEVENT
BEGIN:VEVENT
DTSTART;TZID=America/New_York:20271211T090000
DTEND;TZID=America/New_York:20271211T110000
DTSTAMP:20260425T201416
CREATED:20160328T161633Z
LAST-MODIFIED:20160328T161633Z
UID:40930-1828515600-1828522800@ftmrockhill.org
SUMMARY:Praise Dance Rehearsal
DESCRIPTION:Praise Dance Rehearsal\nEvery Monday at 6pm and Every Saturday at 9am
URL:https://ftmrockhill.org/event/praise-dance-rehearsal-3/2027-12-11/
LOCATION:Freedom Temple Ministries\, 215 E. Main Street\, Rock Hill\, SC\, 29730\, United States
END:VEVENT
BEGIN:VEVENT
DTSTART;TZID=America/New_York:20271213T180000
DTEND;TZID=America/New_York:20271213T200000
DTSTAMP:20260425T201416
CREATED:20160317T132653Z
LAST-MODIFIED:20160317T132653Z
UID:40960-1828720800-1828728000@ftmrockhill.org
SUMMARY:Praise Dance Rehearsal
DESCRIPTION:Praise Dance Rehearsal\nEvery Monday at 6pm and Every Saturday at 9am
URL:https://ftmrockhill.org/event/praise-dance-rehearsal/2027-12-13/
LOCATION:Freedom Temple Ministries\, 215 E. Main Street\, Rock Hill\, SC\, 29730\, United States
END:VEVENT
BEGIN:VEVENT
DTSTART;TZID=America/New_York:20271213T190000
DTEND;TZID=America/New_York:20271213T210000
DTSTAMP:20260425T201416
CREATED:20160328T161754Z
LAST-MODIFIED:20160328T161754Z
UID:40990-1828724400-1828731600@ftmrockhill.org
SUMMARY:Voices of Freedom / Praise Team Rehearsals
DESCRIPTION:Voices of Freedom / Praise Team Rehearsals\nEvery Monday at 7pm at Freedom Temple Ministries
URL:https://ftmrockhill.org/event/voices-of-freedom-praise-team-rehearsals-2/2027-12-13/
LOCATION:Freedom Temple Ministries\, 215 E. Main Street\, Rock Hill\, SC\, 29730\, United States
END:VEVENT
BEGIN:VEVENT
DTSTART;TZID=America/New_York:20271218T090000
DTEND;TZID=America/New_York:20271218T110000
DTSTAMP:20260425T201416
CREATED:20160328T161633Z
LAST-MODIFIED:20160328T161633Z
UID:40931-1829120400-1829127600@ftmrockhill.org
SUMMARY:Praise Dance Rehearsal
DESCRIPTION:Praise Dance Rehearsal\nEvery Monday at 6pm and Every Saturday at 9am
URL:https://ftmrockhill.org/event/praise-dance-rehearsal-3/2027-12-18/
LOCATION:Freedom Temple Ministries\, 215 E. Main Street\, Rock Hill\, SC\, 29730\, United States
END:VEVENT
BEGIN:VEVENT
DTSTART;TZID=America/New_York:20271220T180000
DTEND;TZID=America/New_York:20271220T200000
DTSTAMP:20260425T201416
CREATED:20160317T132653Z
LAST-MODIFIED:20160317T132653Z
UID:40961-1829325600-1829332800@ftmrockhill.org
SUMMARY:Praise Dance Rehearsal
DESCRIPTION:Praise Dance Rehearsal\nEvery Monday at 6pm and Every Saturday at 9am
URL:https://ftmrockhill.org/event/praise-dance-rehearsal/2027-12-20/
LOCATION:Freedom Temple Ministries\, 215 E. Main Street\, Rock Hill\, SC\, 29730\, United States
END:VEVENT
BEGIN:VEVENT
DTSTART;TZID=America/New_York:20271220T190000
DTEND;TZID=America/New_York:20271220T210000
DTSTAMP:20260425T201416
CREATED:20160328T161754Z
LAST-MODIFIED:20160328T161754Z
UID:40991-1829329200-1829336400@ftmrockhill.org
SUMMARY:Voices of Freedom / Praise Team Rehearsals
DESCRIPTION:Voices of Freedom / Praise Team Rehearsals\nEvery Monday at 7pm at Freedom Temple Ministries
URL:https://ftmrockhill.org/event/voices-of-freedom-praise-team-rehearsals-2/2027-12-20/
LOCATION:Freedom Temple Ministries\, 215 E. Main Street\, Rock Hill\, SC\, 29730\, United States
END:VEVENT
BEGIN:VEVENT
DTSTART;TZID=America/New_York:20271225T090000
DTEND;TZID=America/New_York:20271225T110000
DTSTAMP:20260425T201416
CREATED:20160328T161633Z
LAST-MODIFIED:20160328T161633Z
UID:40932-1829725200-1829732400@ftmrockhill.org
SUMMARY:Praise Dance Rehearsal
DESCRIPTION:Praise Dance Rehearsal\nEvery Monday at 6pm and Every Saturday at 9am
URL:https://ftmrockhill.org/event/praise-dance-rehearsal-3/2027-12-25/
LOCATION:Freedom Temple Ministries\, 215 E. Main Street\, Rock Hill\, SC\, 29730\, United States
END:VEVENT
BEGIN:VEVENT
DTSTART;TZID=America/New_York:20271227T180000
DTEND;TZID=America/New_York:20271227T200000
DTSTAMP:20260425T201416
CREATED:20160317T132653Z
LAST-MODIFIED:20160317T132653Z
UID:40962-1829930400-1829937600@ftmrockhill.org
SUMMARY:Praise Dance Rehearsal
DESCRIPTION:Praise Dance Rehearsal\nEvery Monday at 6pm and Every Saturday at 9am
URL:https://ftmrockhill.org/event/praise-dance-rehearsal/2027-12-27/
LOCATION:Freedom Temple Ministries\, 215 E. Main Street\, Rock Hill\, SC\, 29730\, United States
END:VEVENT
BEGIN:VEVENT
DTSTART;TZID=America/New_York:20271227T190000
DTEND;TZID=America/New_York:20271227T210000
DTSTAMP:20260425T201416
CREATED:20160328T161754Z
LAST-MODIFIED:20160328T161754Z
UID:40992-1829934000-1829941200@ftmrockhill.org
SUMMARY:Voices of Freedom / Praise Team Rehearsals
DESCRIPTION:Voices of Freedom / Praise Team Rehearsals\nEvery Monday at 7pm at Freedom Temple Ministries
URL:https://ftmrockhill.org/event/voices-of-freedom-praise-team-rehearsals-2/2027-12-27/
LOCATION:Freedom Temple Ministries\, 215 E. Main Street\, Rock Hill\, SC\, 29730\, United States
END:VEVENT
BEGIN:VEVENT
DTSTART;TZID=America/New_York:20280101T090000
DTEND;TZID=America/New_York:20280101T110000
DTSTAMP:20260425T201416
CREATED:20160328T161633Z
LAST-MODIFIED:20160328T161633Z
UID:40933-1830330000-1830337200@ftmrockhill.org
SUMMARY:Praise Dance Rehearsal
DESCRIPTION:Praise Dance Rehearsal\nEvery Monday at 6pm and Every Saturday at 9am
URL:https://ftmrockhill.org/event/praise-dance-rehearsal-3/2028-01-01/
LOCATION:Freedom Temple Ministries\, 215 E. Main Street\, Rock Hill\, SC\, 29730\, United States
END:VEVENT
BEGIN:VEVENT
DTSTART;TZID=America/New_York:20280103T180000
DTEND;TZID=America/New_York:20280103T200000
DTSTAMP:20260425T201416
CREATED:20160317T132653Z
LAST-MODIFIED:20160317T132653Z
UID:40963-1830535200-1830542400@ftmrockhill.org
SUMMARY:Praise Dance Rehearsal
DESCRIPTION:Praise Dance Rehearsal\nEvery Monday at 6pm and Every Saturday at 9am
URL:https://ftmrockhill.org/event/praise-dance-rehearsal/2028-01-03/
LOCATION:Freedom Temple Ministries\, 215 E. Main Street\, Rock Hill\, SC\, 29730\, United States
END:VEVENT
BEGIN:VEVENT
DTSTART;TZID=America/New_York:20280103T190000
DTEND;TZID=America/New_York:20280103T210000
DTSTAMP:20260425T201416
CREATED:20160328T161754Z
LAST-MODIFIED:20160328T161754Z
UID:40993-1830538800-1830546000@ftmrockhill.org
SUMMARY:Voices of Freedom / Praise Team Rehearsals
DESCRIPTION:Voices of Freedom / Praise Team Rehearsals\nEvery Monday at 7pm at Freedom Temple Ministries
URL:https://ftmrockhill.org/event/voices-of-freedom-praise-team-rehearsals-2/2028-01-03/
LOCATION:Freedom Temple Ministries\, 215 E. Main Street\, Rock Hill\, SC\, 29730\, United States
END:VEVENT
BEGIN:VEVENT
DTSTART;TZID=America/New_York:20280108T090000
DTEND;TZID=America/New_York:20280108T110000
DTSTAMP:20260425T201416
CREATED:20160328T161633Z
LAST-MODIFIED:20160328T161633Z
UID:40934-1830934800-1830942000@ftmrockhill.org
SUMMARY:Praise Dance Rehearsal
DESCRIPTION:Praise Dance Rehearsal\nEvery Monday at 6pm and Every Saturday at 9am
URL:https://ftmrockhill.org/event/praise-dance-rehearsal-3/2028-01-08/
LOCATION:Freedom Temple Ministries\, 215 E. Main Street\, Rock Hill\, SC\, 29730\, United States
END:VEVENT
BEGIN:VEVENT
DTSTART;TZID=America/New_York:20280110T180000
DTEND;TZID=America/New_York:20280110T200000
DTSTAMP:20260425T201416
CREATED:20160317T132653Z
LAST-MODIFIED:20160317T132653Z
UID:40964-1831140000-1831147200@ftmrockhill.org
SUMMARY:Praise Dance Rehearsal
DESCRIPTION:Praise Dance Rehearsal\nEvery Monday at 6pm and Every Saturday at 9am
URL:https://ftmrockhill.org/event/praise-dance-rehearsal/2028-01-10/
LOCATION:Freedom Temple Ministries\, 215 E. Main Street\, Rock Hill\, SC\, 29730\, United States
END:VEVENT
BEGIN:VEVENT
DTSTART;TZID=America/New_York:20280110T190000
DTEND;TZID=America/New_York:20280110T210000
DTSTAMP:20260425T201416
CREATED:20160328T161754Z
LAST-MODIFIED:20160328T161754Z
UID:40994-1831143600-1831150800@ftmrockhill.org
SUMMARY:Voices of Freedom / Praise Team Rehearsals
DESCRIPTION:Voices of Freedom / Praise Team Rehearsals\nEvery Monday at 7pm at Freedom Temple Ministries
URL:https://ftmrockhill.org/event/voices-of-freedom-praise-team-rehearsals-2/2028-01-10/
LOCATION:Freedom Temple Ministries\, 215 E. Main Street\, Rock Hill\, SC\, 29730\, United States
END:VEVENT
BEGIN:VEVENT
DTSTART;TZID=America/New_York:20280115T090000
DTEND;TZID=America/New_York:20280115T110000
DTSTAMP:20260425T201416
CREATED:20160328T161633Z
LAST-MODIFIED:20160328T161633Z
UID:40935-1831539600-1831546800@ftmrockhill.org
SUMMARY:Praise Dance Rehearsal
DESCRIPTION:Praise Dance Rehearsal\nEvery Monday at 6pm and Every Saturday at 9am
URL:https://ftmrockhill.org/event/praise-dance-rehearsal-3/2028-01-15/
LOCATION:Freedom Temple Ministries\, 215 E. Main Street\, Rock Hill\, SC\, 29730\, United States
END:VEVENT
BEGIN:VEVENT
DTSTART;TZID=America/New_York:20280117T180000
DTEND;TZID=America/New_York:20280117T200000
DTSTAMP:20260425T201416
CREATED:20160317T132653Z
LAST-MODIFIED:20160317T132653Z
UID:40965-1831744800-1831752000@ftmrockhill.org
SUMMARY:Praise Dance Rehearsal
DESCRIPTION:Praise Dance Rehearsal\nEvery Monday at 6pm and Every Saturday at 9am
URL:https://ftmrockhill.org/event/praise-dance-rehearsal/2028-01-17/
LOCATION:Freedom Temple Ministries\, 215 E. Main Street\, Rock Hill\, SC\, 29730\, United States
END:VEVENT
BEGIN:VEVENT
DTSTART;TZID=America/New_York:20280117T190000
DTEND;TZID=America/New_York:20280117T210000
DTSTAMP:20260425T201416
CREATED:20160328T161754Z
LAST-MODIFIED:20160328T161754Z
UID:40995-1831748400-1831755600@ftmrockhill.org
SUMMARY:Voices of Freedom / Praise Team Rehearsals
DESCRIPTION:Voices of Freedom / Praise Team Rehearsals\nEvery Monday at 7pm at Freedom Temple Ministries
URL:https://ftmrockhill.org/event/voices-of-freedom-praise-team-rehearsals-2/2028-01-17/
LOCATION:Freedom Temple Ministries\, 215 E. Main Street\, Rock Hill\, SC\, 29730\, United States
END:VEVENT
BEGIN:VEVENT
DTSTART;TZID=America/New_York:20280122T090000
DTEND;TZID=America/New_York:20280122T110000
DTSTAMP:20260425T201416
CREATED:20160328T161633Z
LAST-MODIFIED:20160328T161633Z
UID:40936-1832144400-1832151600@ftmrockhill.org
SUMMARY:Praise Dance Rehearsal
DESCRIPTION:Praise Dance Rehearsal\nEvery Monday at 6pm and Every Saturday at 9am
URL:https://ftmrockhill.org/event/praise-dance-rehearsal-3/2028-01-22/
LOCATION:Freedom Temple Ministries\, 215 E. Main Street\, Rock Hill\, SC\, 29730\, United States
END:VEVENT
BEGIN:VEVENT
DTSTART;TZID=America/New_York:20280124T180000
DTEND;TZID=America/New_York:20280124T200000
DTSTAMP:20260425T201416
CREATED:20160317T132653Z
LAST-MODIFIED:20160317T132653Z
UID:40966-1832349600-1832356800@ftmrockhill.org
SUMMARY:Praise Dance Rehearsal
DESCRIPTION:Praise Dance Rehearsal\nEvery Monday at 6pm and Every Saturday at 9am
URL:https://ftmrockhill.org/event/praise-dance-rehearsal/2028-01-24/
LOCATION:Freedom Temple Ministries\, 215 E. Main Street\, Rock Hill\, SC\, 29730\, United States
END:VEVENT
BEGIN:VEVENT
DTSTART;TZID=America/New_York:20280124T190000
DTEND;TZID=America/New_York:20280124T210000
DTSTAMP:20260425T201416
CREATED:20160328T161754Z
LAST-MODIFIED:20160328T161754Z
UID:40996-1832353200-1832360400@ftmrockhill.org
SUMMARY:Voices of Freedom / Praise Team Rehearsals
DESCRIPTION:Voices of Freedom / Praise Team Rehearsals\nEvery Monday at 7pm at Freedom Temple Ministries
URL:https://ftmrockhill.org/event/voices-of-freedom-praise-team-rehearsals-2/2028-01-24/
LOCATION:Freedom Temple Ministries\, 215 E. Main Street\, Rock Hill\, SC\, 29730\, United States
END:VEVENT
BEGIN:VEVENT
DTSTART;TZID=America/New_York:20280129T090000
DTEND;TZID=America/New_York:20280129T110000
DTSTAMP:20260425T201416
CREATED:20160328T161633Z
LAST-MODIFIED:20160328T161633Z
UID:40937-1832749200-1832756400@ftmrockhill.org
SUMMARY:Praise Dance Rehearsal
DESCRIPTION:Praise Dance Rehearsal\nEvery Monday at 6pm and Every Saturday at 9am
URL:https://ftmrockhill.org/event/praise-dance-rehearsal-3/2028-01-29/
LOCATION:Freedom Temple Ministries\, 215 E. Main Street\, Rock Hill\, SC\, 29730\, United States
END:VEVENT
BEGIN:VEVENT
DTSTART;TZID=America/New_York:20280131T180000
DTEND;TZID=America/New_York:20280131T200000
DTSTAMP:20260425T201416
CREATED:20160317T132653Z
LAST-MODIFIED:20160317T132653Z
UID:40967-1832954400-1832961600@ftmrockhill.org
SUMMARY:Praise Dance Rehearsal
DESCRIPTION:Praise Dance Rehearsal\nEvery Monday at 6pm and Every Saturday at 9am
URL:https://ftmrockhill.org/event/praise-dance-rehearsal/2028-01-31/
LOCATION:Freedom Temple Ministries\, 215 E. Main Street\, Rock Hill\, SC\, 29730\, United States
END:VEVENT
BEGIN:VEVENT
DTSTART;TZID=America/New_York:20280131T190000
DTEND;TZID=America/New_York:20280131T210000
DTSTAMP:20260425T201416
CREATED:20160328T161754Z
LAST-MODIFIED:20160328T161754Z
UID:40997-1832958000-1832965200@ftmrockhill.org
SUMMARY:Voices of Freedom / Praise Team Rehearsals
DESCRIPTION:Voices of Freedom / Praise Team Rehearsals\nEvery Monday at 7pm at Freedom Temple Ministries
URL:https://ftmrockhill.org/event/voices-of-freedom-praise-team-rehearsals-2/2028-01-31/
LOCATION:Freedom Temple Ministries\, 215 E. Main Street\, Rock Hill\, SC\, 29730\, United States
END:VEVENT
BEGIN:VEVENT
DTSTART;TZID=America/New_York:20280205T090000
DTEND;TZID=America/New_York:20280205T110000
DTSTAMP:20260425T201416
CREATED:20160328T161633Z
LAST-MODIFIED:20160328T161633Z
UID:40938-1833354000-1833361200@ftmrockhill.org
SUMMARY:Praise Dance Rehearsal
DESCRIPTION:Praise Dance Rehearsal\nEvery Monday at 6pm and Every Saturday at 9am
URL:https://ftmrockhill.org/event/praise-dance-rehearsal-3/2028-02-05/
LOCATION:Freedom Temple Ministries\, 215 E. Main Street\, Rock Hill\, SC\, 29730\, United States
END:VEVENT
END:VCALENDAR