BEGIN:VCALENDAR
VERSION:2.0
PRODID:-//Freedom Temple Ministries - ECPv6.15.20//NONSGML v1.0//EN
CALSCALE:GREGORIAN
METHOD:PUBLISH
X-WR-CALNAME:Freedom Temple Ministries
X-ORIGINAL-URL:https://ftmrockhill.org
X-WR-CALDESC:Events for Freedom Temple Ministries
REFRESH-INTERVAL;VALUE=DURATION:PT1H
X-Robots-Tag:noindex
X-PUBLISHED-TTL:PT1H
BEGIN:VTIMEZONE
TZID:America/New_York
BEGIN:DAYLIGHT
TZOFFSETFROM:-0500
TZOFFSETTO:-0400
TZNAME:EDT
DTSTART:20240310T070000
END:DAYLIGHT
BEGIN:STANDARD
TZOFFSETFROM:-0400
TZOFFSETTO:-0500
TZNAME:EST
DTSTART:20241103T060000
END:STANDARD
BEGIN:DAYLIGHT
TZOFFSETFROM:-0500
TZOFFSETTO:-0400
TZNAME:EDT
DTSTART:20250309T070000
END:DAYLIGHT
BEGIN:STANDARD
TZOFFSETFROM:-0400
TZOFFSETTO:-0500
TZNAME:EST
DTSTART:20251102T060000
END:STANDARD
BEGIN:DAYLIGHT
TZOFFSETFROM:-0500
TZOFFSETTO:-0400
TZNAME:EDT
DTSTART:20260308T070000
END:DAYLIGHT
BEGIN:STANDARD
TZOFFSETFROM:-0400
TZOFFSETTO:-0500
TZNAME:EST
DTSTART:20261101T060000
END:STANDARD
END:VTIMEZONE
BEGIN:VEVENT
DTSTART;TZID=America/New_York:20250723T100000
DTEND;TZID=America/New_York:20250723T113000
DTSTAMP:20260425T085713
CREATED:20200415T194205Z
LAST-MODIFIED:20250701T210024Z
UID:40121-1753264800-1753270200@ftmrockhill.org
SUMMARY:JOY Ministry
DESCRIPTION:JOY Ministry\, Wednesdays mornings at 10am.
URL:https://ftmrockhill.org/event/joy-ministry-mid-week/2025-07-23/
CATEGORIES:Flyers
ATTACH;FMTTYPE=image/jpeg:https://ftmrockhill.org/wp-content/uploads/2020/04/FTM-JOY-2025-2-FLYER-1-scaled.jpg
END:VEVENT
BEGIN:VEVENT
DTSTART;TZID=America/New_York:20250722T060000
DTEND;TZID=America/New_York:20250722T063000
DTSTAMP:20260425T085713
CREATED:20240709T021107Z
LAST-MODIFIED:20260417T183257Z
UID:39971-1753164000-1753165800@ftmrockhill.org
SUMMARY:Intercessory Prayer Ministry
DESCRIPTION:Intercessory Prayer Ministry\, Weekly Prayer Calls:  Tuesdays morning 6am – 6:30 am and Thursday evenings 6pm-6:30 pm.  712.432.3900\, Access Code:  174705 \n  \n  \n  \n  \n  \n  \n 
URL:https://ftmrockhill.org/event/intercessory-prayer-ministry-summer-break/2025-07-22/
CATEGORIES:Flyers
ATTACH;FMTTYPE=image/jpeg:https://ftmrockhill.org/wp-content/uploads/2024/07/FTM-Intercessory-Prayer-2-2025-FLYER-1-scaled.jpg
END:VEVENT
BEGIN:VEVENT
DTSTART;TZID=America/New_York:20250721T190000
DTEND;TZID=America/New_York:20250721T210000
DTSTAMP:20260425T085713
CREATED:20160328T161754Z
LAST-MODIFIED:20160328T161754Z
UID:38185-1753124400-1753131600@ftmrockhill.org
SUMMARY:Voices of Freedom / Praise Team Rehearsals
DESCRIPTION:Voices of Freedom / Praise Team Rehearsals\nEvery Monday at 7pm at Freedom Temple Ministries
URL:https://ftmrockhill.org/event/voices-of-freedom-praise-team-rehearsals-2/2025-07-21/
LOCATION:Freedom Temple Ministries\, 215 E. Main Street\, Rock Hill\, SC\, 29730\, United States
END:VEVENT
BEGIN:VEVENT
DTSTART;TZID=America/New_York:20250721T180000
DTEND;TZID=America/New_York:20250721T200000
DTSTAMP:20260425T085713
CREATED:20160317T132653Z
LAST-MODIFIED:20160317T132653Z
UID:38184-1753120800-1753128000@ftmrockhill.org
SUMMARY:Praise Dance Rehearsal
DESCRIPTION:Praise Dance Rehearsal\nEvery Monday at 6pm and Every Saturday at 9am
URL:https://ftmrockhill.org/event/praise-dance-rehearsal/2025-07-21/
LOCATION:Freedom Temple Ministries\, 215 E. Main Street\, Rock Hill\, SC\, 29730\, United States
END:VEVENT
BEGIN:VEVENT
DTSTART;TZID=America/New_York:20250720T100000
DTEND;TZID=America/New_York:20250720T120000
DTSTAMP:20260425T085713
CREATED:20220803T200945Z
LAST-MODIFIED:20220803T200945Z
UID:39029-1753005600-1753012800@ftmrockhill.org
SUMMARY:Baptism
DESCRIPTION:Baptism held every 3rd Sunday of each month!
URL:https://ftmrockhill.org/event/baptisms/2025-07-20/
CATEGORIES:Flyers
ATTACH;FMTTYPE=image/jpeg:https://ftmrockhill.org/wp-content/uploads/2022/08/FTM-Baptism-2024-FLYER-1-scaled.jpg
END:VEVENT
BEGIN:VEVENT
DTSTART;TZID=America/New_York:20250719T090000
DTEND;TZID=America/New_York:20250719T110000
DTSTAMP:20260425T085713
CREATED:20160328T161633Z
LAST-MODIFIED:20160328T161633Z
UID:38182-1752915600-1752922800@ftmrockhill.org
SUMMARY:Praise Dance Rehearsal
DESCRIPTION:Praise Dance Rehearsal\nEvery Monday at 6pm and Every Saturday at 9am
URL:https://ftmrockhill.org/event/praise-dance-rehearsal-3/2025-07-19/
LOCATION:Freedom Temple Ministries\, 215 E. Main Street\, Rock Hill\, SC\, 29730\, United States
END:VEVENT
BEGIN:VEVENT
DTSTART;TZID=America/New_York:20250717T180000
DTEND;TZID=America/New_York:20250717T183000
DTSTAMP:20260425T085713
CREATED:20240709T021107Z
LAST-MODIFIED:20260417T183257Z
UID:39970-1752775200-1752777000@ftmrockhill.org
SUMMARY:Intercessory Prayer Ministry
DESCRIPTION:Intercessory Prayer Ministry\, Weekly Prayer Calls:  Tuesdays morning 6am – 6:30 am and Thursday evenings 6pm-6:30 pm.  712.432.3900\, Access Code:  174705 \n  \n  \n  \n  \n  \n  \n 
URL:https://ftmrockhill.org/event/intercessory-prayer-ministry-summer-break/2025-07-17/
CATEGORIES:Flyers
ATTACH;FMTTYPE=image/jpeg:https://ftmrockhill.org/wp-content/uploads/2024/07/FTM-Intercessory-Prayer-2-2025-FLYER-1-scaled.jpg
END:VEVENT
BEGIN:VEVENT
DTSTART;TZID=America/New_York:20250716T100000
DTEND;TZID=America/New_York:20250716T113000
DTSTAMP:20260425T085713
CREATED:20200415T194205Z
LAST-MODIFIED:20250701T210024Z
UID:40120-1752660000-1752665400@ftmrockhill.org
SUMMARY:JOY Ministry
DESCRIPTION:JOY Ministry\, Wednesdays mornings at 10am.
URL:https://ftmrockhill.org/event/joy-ministry-mid-week/2025-07-16/
CATEGORIES:Flyers
ATTACH;FMTTYPE=image/jpeg:https://ftmrockhill.org/wp-content/uploads/2020/04/FTM-JOY-2025-2-FLYER-1-scaled.jpg
END:VEVENT
BEGIN:VEVENT
DTSTART;TZID=America/New_York:20250715T183000
DTEND;TZID=America/New_York:20250715T193000
DTSTAMP:20260425T085713
CREATED:20240709T025205Z
LAST-MODIFIED:20250904T004959Z
UID:40159-1752604200-1752607800@ftmrockhill.org
SUMMARY:Voices of Freedom Choir Rehearsals
DESCRIPTION:Voice of Freedom Choir Rehearsals are every Tuesday at 6:30 pm.  Join the CHOIR!
URL:https://ftmrockhill.org/event/voices-of-freedom-choir-rehearsals/2025-07-15/
ATTACH;FMTTYPE=image/jpeg:https://ftmrockhill.org/wp-content/uploads/2024/07/FTM-VOF-Choir-Rehearsals-FLYERS-scaled.jpg
END:VEVENT
BEGIN:VEVENT
DTSTART;TZID=America/New_York:20250715T060000
DTEND;TZID=America/New_York:20250715T063000
DTSTAMP:20260425T085713
CREATED:20240709T021107Z
LAST-MODIFIED:20260417T183256Z
UID:39969-1752559200-1752561000@ftmrockhill.org
SUMMARY:Intercessory Prayer Ministry
DESCRIPTION:Intercessory Prayer Ministry\, Weekly Prayer Calls:  Tuesdays morning 6am – 6:30 am and Thursday evenings 6pm-6:30 pm.  712.432.3900\, Access Code:  174705 \n  \n  \n  \n  \n  \n  \n 
URL:https://ftmrockhill.org/event/intercessory-prayer-ministry-summer-break/2025-07-15/
CATEGORIES:Flyers
ATTACH;FMTTYPE=image/jpeg:https://ftmrockhill.org/wp-content/uploads/2024/07/FTM-Intercessory-Prayer-2-2025-FLYER-1-scaled.jpg
END:VEVENT
BEGIN:VEVENT
DTSTART;TZID=America/New_York:20250714T190000
DTEND;TZID=America/New_York:20250714T210000
DTSTAMP:20260425T085713
CREATED:20160328T161754Z
LAST-MODIFIED:20160328T161754Z
UID:38181-1752519600-1752526800@ftmrockhill.org
SUMMARY:Voices of Freedom / Praise Team Rehearsals
DESCRIPTION:Voices of Freedom / Praise Team Rehearsals\nEvery Monday at 7pm at Freedom Temple Ministries
URL:https://ftmrockhill.org/event/voices-of-freedom-praise-team-rehearsals-2/2025-07-14/
LOCATION:Freedom Temple Ministries\, 215 E. Main Street\, Rock Hill\, SC\, 29730\, United States
END:VEVENT
BEGIN:VEVENT
DTSTART;TZID=America/New_York:20250714T180000
DTEND;TZID=America/New_York:20250714T200000
DTSTAMP:20260425T085713
CREATED:20160317T132653Z
LAST-MODIFIED:20160317T132653Z
UID:38180-1752516000-1752523200@ftmrockhill.org
SUMMARY:Praise Dance Rehearsal
DESCRIPTION:Praise Dance Rehearsal\nEvery Monday at 6pm and Every Saturday at 9am
URL:https://ftmrockhill.org/event/praise-dance-rehearsal/2025-07-14/
LOCATION:Freedom Temple Ministries\, 215 E. Main Street\, Rock Hill\, SC\, 29730\, United States
END:VEVENT
BEGIN:VEVENT
DTSTART;TZID=America/New_York:20250714T080000
DTEND;TZID=America/New_York:20250718T170000
DTSTAMP:20260425T085713
CREATED:20250218T211122Z
LAST-MODIFIED:20250701T204856Z
UID:40240-1752480000-1752858000@ftmrockhill.org
SUMMARY:96th International Holy Convocation & Outcry 2025
DESCRIPTION:96th International Holy Convocation & Outcry 2025\, July 14th – July 18th in Orlando\, Florida.
URL:https://ftmrockhill.org/event/96th-international-holy-convocation-outcry-2025/
ATTACH;FMTTYPE=image/jpeg:https://ftmrockhill.org/wp-content/uploads/2025/02/MCHCA-96th-Convocation.jpg
END:VEVENT
BEGIN:VEVENT
DTSTART;TZID=America/New_York:20250712T090000
DTEND;TZID=America/New_York:20250712T230000
DTSTAMP:20260425T085713
CREATED:20240709T173213Z
LAST-MODIFIED:20250821T185902Z
UID:40182-1752310800-1752361200@ftmrockhill.org
SUMMARY:New Member Orientation (NMO)
DESCRIPTION:New Member Orientation (NMO) is offered every 2nd Saturday of the month at 10am!  Join via Zoom.
URL:https://ftmrockhill.org/event/new-member-orientation-nmo/2025-07-12/
CATEGORIES:Flyers
ATTACH;FMTTYPE=image/jpeg:https://ftmrockhill.org/wp-content/uploads/2024/07/FTM-New-Member-Orientation-Generic-2025-FLYER-scaled.jpg
END:VEVENT
BEGIN:VEVENT
DTSTART;TZID=America/New_York:20250712T090000
DTEND;TZID=America/New_York:20250712T110000
DTSTAMP:20260425T085713
CREATED:20160328T161633Z
LAST-MODIFIED:20160328T161633Z
UID:38066-1752310800-1752318000@ftmrockhill.org
SUMMARY:Praise Dance Rehearsal
DESCRIPTION:Praise Dance Rehearsal\nEvery Monday at 6pm and Every Saturday at 9am
URL:https://ftmrockhill.org/event/praise-dance-rehearsal-3/2025-07-12/
LOCATION:Freedom Temple Ministries\, 215 E. Main Street\, Rock Hill\, SC\, 29730\, United States
END:VEVENT
BEGIN:VEVENT
DTSTART;TZID=America/New_York:20250710T180000
DTEND;TZID=America/New_York:20250710T183000
DTSTAMP:20260425T085713
CREATED:20240709T021107Z
LAST-MODIFIED:20260417T183256Z
UID:39968-1752170400-1752172200@ftmrockhill.org
SUMMARY:Intercessory Prayer Ministry
DESCRIPTION:Intercessory Prayer Ministry\, Weekly Prayer Calls:  Tuesdays morning 6am – 6:30 am and Thursday evenings 6pm-6:30 pm.  712.432.3900\, Access Code:  174705 \n  \n  \n  \n  \n  \n  \n 
URL:https://ftmrockhill.org/event/intercessory-prayer-ministry-summer-break/2025-07-10/
CATEGORIES:Flyers
ATTACH;FMTTYPE=image/jpeg:https://ftmrockhill.org/wp-content/uploads/2024/07/FTM-Intercessory-Prayer-2-2025-FLYER-1-scaled.jpg
END:VEVENT
BEGIN:VEVENT
DTSTART;TZID=America/New_York:20250709T100000
DTEND;TZID=America/New_York:20250709T113000
DTSTAMP:20260425T085713
CREATED:20200415T194205Z
LAST-MODIFIED:20250701T210024Z
UID:40119-1752055200-1752060600@ftmrockhill.org
SUMMARY:JOY Ministry
DESCRIPTION:JOY Ministry\, Wednesdays mornings at 10am.
URL:https://ftmrockhill.org/event/joy-ministry-mid-week/2025-07-09/
CATEGORIES:Flyers
ATTACH;FMTTYPE=image/jpeg:https://ftmrockhill.org/wp-content/uploads/2020/04/FTM-JOY-2025-2-FLYER-1-scaled.jpg
END:VEVENT
BEGIN:VEVENT
DTSTART;TZID=America/New_York:20250708T060000
DTEND;TZID=America/New_York:20250708T063000
DTSTAMP:20260425T085713
CREATED:20240709T021107Z
LAST-MODIFIED:20260417T183256Z
UID:39967-1751954400-1751956200@ftmrockhill.org
SUMMARY:Intercessory Prayer Ministry
DESCRIPTION:Intercessory Prayer Ministry\, Weekly Prayer Calls:  Tuesdays morning 6am – 6:30 am and Thursday evenings 6pm-6:30 pm.  712.432.3900\, Access Code:  174705 \n  \n  \n  \n  \n  \n  \n 
URL:https://ftmrockhill.org/event/intercessory-prayer-ministry-summer-break/2025-07-08/
CATEGORIES:Flyers
ATTACH;FMTTYPE=image/jpeg:https://ftmrockhill.org/wp-content/uploads/2024/07/FTM-Intercessory-Prayer-2-2025-FLYER-1-scaled.jpg
END:VEVENT
BEGIN:VEVENT
DTSTART;TZID=America/New_York:20250707T190000
DTEND;TZID=America/New_York:20250707T210000
DTSTAMP:20260425T085713
CREATED:20160328T161754Z
LAST-MODIFIED:20160328T161754Z
UID:38052-1751914800-1751922000@ftmrockhill.org
SUMMARY:Voices of Freedom / Praise Team Rehearsals
DESCRIPTION:Voices of Freedom / Praise Team Rehearsals\nEvery Monday at 7pm at Freedom Temple Ministries
URL:https://ftmrockhill.org/event/voices-of-freedom-praise-team-rehearsals-2/2025-07-07/
LOCATION:Freedom Temple Ministries\, 215 E. Main Street\, Rock Hill\, SC\, 29730\, United States
END:VEVENT
BEGIN:VEVENT
DTSTART;TZID=America/New_York:20250707T190000
DTEND;TZID=America/New_York:20250707T200000
DTSTAMP:20260425T085713
CREATED:20250402T183305Z
LAST-MODIFIED:20250402T183451Z
UID:40359-1751914800-1751918400@ftmrockhill.org
SUMMARY:Monday Night Prayer Call
DESCRIPTION:Monday Night Prayer Call on the 1st Monday of each month at 7pm beginning April 7th and ending on December 1st.  Dial In: 605.313.5111\, Access Code: 210681
URL:https://ftmrockhill.org/event/monday-night-prayer-call/2025-07-07/
CATEGORIES:Flyers
ATTACH;FMTTYPE=image/jpeg:https://ftmrockhill.org/wp-content/uploads/2025/04/FTM-Monday-Prayer-Call-FLYER-scaled.jpg
END:VEVENT
BEGIN:VEVENT
DTSTART;TZID=America/New_York:20250707T180000
DTEND;TZID=America/New_York:20250707T200000
DTSTAMP:20260425T085713
CREATED:20160317T132653Z
LAST-MODIFIED:20160317T132653Z
UID:38051-1751911200-1751918400@ftmrockhill.org
SUMMARY:Praise Dance Rehearsal
DESCRIPTION:Praise Dance Rehearsal\nEvery Monday at 6pm and Every Saturday at 9am
URL:https://ftmrockhill.org/event/praise-dance-rehearsal/2025-07-07/
LOCATION:Freedom Temple Ministries\, 215 E. Main Street\, Rock Hill\, SC\, 29730\, United States
END:VEVENT
BEGIN:VEVENT
DTSTART;TZID=America/New_York:20250706T100000
DTEND;TZID=America/New_York:20250706T120000
DTSTAMP:20260425T085713
CREATED:20200501T150021Z
LAST-MODIFIED:20200501T150021Z
UID:39005-1751796000-1751803200@ftmrockhill.org
SUMMARY:Communion Sunday
DESCRIPTION:Join us for Communion on the 1st Sunday of every month in 2024!
URL:https://ftmrockhill.org/event/communion-sunday/2025-07-06/
CATEGORIES:Flyers
ATTACH;FMTTYPE=image/jpeg:https://ftmrockhill.org/wp-content/uploads/2020/05/FTM-Communion-Sunday-2024-FLYER-1-scaled.jpg
END:VEVENT
BEGIN:VEVENT
DTSTART;TZID=America/New_York:20250705T090000
DTEND;TZID=America/New_York:20250705T110000
DTSTAMP:20260425T085713
CREATED:20160328T161633Z
LAST-MODIFIED:20160328T161633Z
UID:38050-1751706000-1751713200@ftmrockhill.org
SUMMARY:Praise Dance Rehearsal
DESCRIPTION:Praise Dance Rehearsal\nEvery Monday at 6pm and Every Saturday at 9am
URL:https://ftmrockhill.org/event/praise-dance-rehearsal-3/2025-07-05/
LOCATION:Freedom Temple Ministries\, 215 E. Main Street\, Rock Hill\, SC\, 29730\, United States
END:VEVENT
BEGIN:VEVENT
DTSTART;TZID=America/New_York:20250704T080000
DTEND;TZID=America/New_York:20250704T170000
DTSTAMP:20260425T085713
CREATED:20250701T204246Z
LAST-MODIFIED:20250701T204645Z
UID:40503-1751616000-1751648400@ftmrockhill.org
SUMMARY:Celebrating July 4th!
DESCRIPTION:
URL:https://ftmrockhill.org/event/celebrating-july-4th/
CATEGORIES:Flyers
ATTACH;FMTTYPE=image/jpeg:https://ftmrockhill.org/wp-content/uploads/2025/07/FTM-4th-of-July-2023-FLYER-1-scaled.jpg
END:VEVENT
BEGIN:VEVENT
DTSTART;TZID=America/New_York:20250703T180000
DTEND;TZID=America/New_York:20250703T183000
DTSTAMP:20260425T085713
CREATED:20240709T021107Z
LAST-MODIFIED:20260417T183255Z
UID:39966-1751565600-1751567400@ftmrockhill.org
SUMMARY:Intercessory Prayer Ministry
DESCRIPTION:Intercessory Prayer Ministry\, Weekly Prayer Calls:  Tuesdays morning 6am – 6:30 am and Thursday evenings 6pm-6:30 pm.  712.432.3900\, Access Code:  174705 \n  \n  \n  \n  \n  \n  \n 
URL:https://ftmrockhill.org/event/intercessory-prayer-ministry-summer-break/2025-07-03/
CATEGORIES:Flyers
ATTACH;FMTTYPE=image/jpeg:https://ftmrockhill.org/wp-content/uploads/2024/07/FTM-Intercessory-Prayer-2-2025-FLYER-1-scaled.jpg
END:VEVENT
BEGIN:VEVENT
DTSTART;TZID=America/New_York:20250702T100000
DTEND;TZID=America/New_York:20250702T113000
DTSTAMP:20260425T085713
CREATED:20200415T194205Z
LAST-MODIFIED:20250701T210023Z
UID:40118-1751450400-1751455800@ftmrockhill.org
SUMMARY:JOY Ministry
DESCRIPTION:JOY Ministry\, Wednesdays mornings at 10am.
URL:https://ftmrockhill.org/event/joy-ministry-mid-week/2025-07-02/
CATEGORIES:Flyers
ATTACH;FMTTYPE=image/jpeg:https://ftmrockhill.org/wp-content/uploads/2020/04/FTM-JOY-2025-2-FLYER-1-scaled.jpg
END:VEVENT
BEGIN:VEVENT
DTSTART;TZID=America/New_York:20250701T183000
DTEND;TZID=America/New_York:20250701T193000
DTSTAMP:20260425T085713
CREATED:20240709T025205Z
LAST-MODIFIED:20250904T004957Z
UID:40158-1751394600-1751398200@ftmrockhill.org
SUMMARY:Voices of Freedom Choir Rehearsals
DESCRIPTION:Voice of Freedom Choir Rehearsals are every Tuesday at 6:30 pm.  Join the CHOIR!
URL:https://ftmrockhill.org/event/voices-of-freedom-choir-rehearsals/2025-07-01/
ATTACH;FMTTYPE=image/jpeg:https://ftmrockhill.org/wp-content/uploads/2024/07/FTM-VOF-Choir-Rehearsals-FLYERS-scaled.jpg
END:VEVENT
BEGIN:VEVENT
DTSTART;TZID=America/New_York:20250701T060000
DTEND;TZID=America/New_York:20250701T063000
DTSTAMP:20260425T085713
CREATED:20240709T021107Z
LAST-MODIFIED:20260417T183255Z
UID:39965-1751349600-1751351400@ftmrockhill.org
SUMMARY:Intercessory Prayer Ministry
DESCRIPTION:Intercessory Prayer Ministry\, Weekly Prayer Calls:  Tuesdays morning 6am – 6:30 am and Thursday evenings 6pm-6:30 pm.  712.432.3900\, Access Code:  174705 \n  \n  \n  \n  \n  \n  \n 
URL:https://ftmrockhill.org/event/intercessory-prayer-ministry-summer-break/2025-07-01/
CATEGORIES:Flyers
ATTACH;FMTTYPE=image/jpeg:https://ftmrockhill.org/wp-content/uploads/2024/07/FTM-Intercessory-Prayer-2-2025-FLYER-1-scaled.jpg
END:VEVENT
BEGIN:VEVENT
DTSTART;TZID=America/New_York:20250630T190000
DTEND;TZID=America/New_York:20250630T210000
DTSTAMP:20260425T085713
CREATED:20160328T161754Z
LAST-MODIFIED:20160328T161754Z
UID:38049-1751310000-1751317200@ftmrockhill.org
SUMMARY:Voices of Freedom / Praise Team Rehearsals
DESCRIPTION:Voices of Freedom / Praise Team Rehearsals\nEvery Monday at 7pm at Freedom Temple Ministries
URL:https://ftmrockhill.org/event/voices-of-freedom-praise-team-rehearsals-2/2025-06-30/
LOCATION:Freedom Temple Ministries\, 215 E. Main Street\, Rock Hill\, SC\, 29730\, United States
END:VEVENT
BEGIN:VEVENT
DTSTART;TZID=America/New_York:20250630T180000
DTEND;TZID=America/New_York:20250630T200000
DTSTAMP:20260425T085713
CREATED:20160317T132653Z
LAST-MODIFIED:20160317T132653Z
UID:38048-1751306400-1751313600@ftmrockhill.org
SUMMARY:Praise Dance Rehearsal
DESCRIPTION:Praise Dance Rehearsal\nEvery Monday at 6pm and Every Saturday at 9am
URL:https://ftmrockhill.org/event/praise-dance-rehearsal/2025-06-30/
LOCATION:Freedom Temple Ministries\, 215 E. Main Street\, Rock Hill\, SC\, 29730\, United States
END:VEVENT
END:VCALENDAR