BEGIN:VCALENDAR
VERSION:2.0
PRODID:-//Freedom Temple Ministries - ECPv6.15.20//NONSGML v1.0//EN
CALSCALE:GREGORIAN
METHOD:PUBLISH
X-ORIGINAL-URL:https://ftmrockhill.org
X-WR-CALDESC:Events for Freedom Temple Ministries
REFRESH-INTERVAL;VALUE=DURATION:PT1H
X-Robots-Tag:noindex
X-PUBLISHED-TTL:PT1H
BEGIN:VTIMEZONE
TZID:America/New_York
BEGIN:DAYLIGHT
TZOFFSETFROM:-0500
TZOFFSETTO:-0400
TZNAME:EDT
DTSTART:20240310T070000
END:DAYLIGHT
BEGIN:STANDARD
TZOFFSETFROM:-0400
TZOFFSETTO:-0500
TZNAME:EST
DTSTART:20241103T060000
END:STANDARD
BEGIN:DAYLIGHT
TZOFFSETFROM:-0500
TZOFFSETTO:-0400
TZNAME:EDT
DTSTART:20250309T070000
END:DAYLIGHT
BEGIN:STANDARD
TZOFFSETFROM:-0400
TZOFFSETTO:-0500
TZNAME:EST
DTSTART:20251102T060000
END:STANDARD
BEGIN:DAYLIGHT
TZOFFSETFROM:-0500
TZOFFSETTO:-0400
TZNAME:EDT
DTSTART:20260308T070000
END:DAYLIGHT
BEGIN:STANDARD
TZOFFSETFROM:-0400
TZOFFSETTO:-0500
TZNAME:EST
DTSTART:20261101T060000
END:STANDARD
END:VTIMEZONE
BEGIN:VEVENT
DTSTART;TZID=America/New_York:20250325T103000
DTEND;TZID=America/New_York:20250325T120000
DTSTAMP:20260425T071011
CREATED:20250218T205500Z
LAST-MODIFIED:20250218T205500Z
UID:40227-1742898600-1742904000@ftmrockhill.org
SUMMARY:Volunteer Meeting for Second Harvest Food Truck
DESCRIPTION:Volunteers Meeting for the Second Harvest Food Truck\, March 25th at 10:30 am.  Dial into (605) 313-5111\, Access Code: 210681.
URL:https://ftmrockhill.org/event/volunteer-meeting-for-second-harvest-food-truck/
CATEGORIES:Flyers
ATTACH;FMTTYPE=image/jpeg:https://ftmrockhill.org/wp-content/uploads/2025/02/FTM-Food-Truck-Volunteers-FLYER-scaled.jpg
END:VEVENT
BEGIN:VEVENT
DTSTART;TZID=America/New_York:20250325T183000
DTEND;TZID=America/New_York:20250325T193000
DTSTAMP:20260425T071011
CREATED:20240709T025205Z
LAST-MODIFIED:20250904T004955Z
UID:40151-1742927400-1742931000@ftmrockhill.org
SUMMARY:Voices of Freedom Choir Rehearsals
DESCRIPTION:Voice of Freedom Choir Rehearsals are every Tuesday at 6:30 pm.  Join the CHOIR!
URL:https://ftmrockhill.org/event/voices-of-freedom-choir-rehearsals/2025-03-25/
ATTACH;FMTTYPE=image/jpeg:https://ftmrockhill.org/wp-content/uploads/2024/07/FTM-VOF-Choir-Rehearsals-FLYERS-scaled.jpg
END:VEVENT
BEGIN:VEVENT
DTSTART;TZID=America/New_York:20250326T100000
DTEND;TZID=America/New_York:20250326T113000
DTSTAMP:20260425T071011
CREATED:20200415T194205Z
LAST-MODIFIED:20250701T210018Z
UID:40104-1742983200-1742988600@ftmrockhill.org
SUMMARY:JOY Ministry
DESCRIPTION:JOY Ministry\, Wednesdays mornings at 10am.
URL:https://ftmrockhill.org/event/joy-ministry-mid-week/2025-03-26/
CATEGORIES:Flyers
ATTACH;FMTTYPE=image/jpeg:https://ftmrockhill.org/wp-content/uploads/2020/04/FTM-JOY-2025-2-FLYER-1-scaled.jpg
END:VEVENT
BEGIN:VEVENT
DTSTART;TZID=America/New_York:20250326T190000
DTEND;TZID=America/New_York:20250326T200000
DTSTAMP:20260425T071011
CREATED:20241119T171852Z
LAST-MODIFIED:20250218T210817Z
UID:39711-1743015600-1743019200@ftmrockhill.org
SUMMARY:Christian Education & Y.A.Y.A.'s "Family Fun Night"
DESCRIPTION:“Family Fun Night\,” Wednesday\, March 26th in the Freedom Cafe.  Join us for fun\, food & fellowship!
URL:https://ftmrockhill.org/event/christian-education-y-a-y-a-s-family-fun-night/
CATEGORIES:Flyers
ATTACH;FMTTYPE=image/jpeg:https://ftmrockhill.org/wp-content/uploads/2024/11/FTM-AAYM-Family-Fun-Night3-26-25-FLYER-scaled.jpg
END:VEVENT
BEGIN:VEVENT
DTSTART;TZID=America/New_York:20250327T180000
DTEND;TZID=America/New_York:20250327T183000
DTSTAMP:20260425T071011
CREATED:20240709T021107Z
LAST-MODIFIED:20250110T233807Z
UID:39938-1743098400-1743100200@ftmrockhill.org
SUMMARY:Intercessory Prayer Ministry
DESCRIPTION:Intercessory Prayer Ministry\, Weekly Prayer Calls:  Tuesdays morning 6am – 6:30 am and Thursday evenings 6pm-6:30 pm.  712.432.3900\, Access Code:  174705 \n  \n  \n  \n  \n  \n  \n 
URL:https://ftmrockhill.org/event/intercessory-prayer-ministry-summer-break/2025-03-27/
CATEGORIES:Flyers
ATTACH;FMTTYPE=image/jpeg:https://ftmrockhill.org/wp-content/uploads/2024/07/FTM-Intercessory-Prayer-2-2025-FLYER-1-scaled.jpg
END:VEVENT
BEGIN:VEVENT
DTSTART;TZID=America/New_York:20250328T100000
DTEND;TZID=America/New_York:20250328T130000
DTSTAMP:20260425T071011
CREATED:20250218T204830Z
LAST-MODIFIED:20250218T204916Z
UID:40224-1743156000-1743166800@ftmrockhill.org
SUMMARY:Second Harvest Food Truck
DESCRIPTION:Second Harvest Food Truck\, Friday\, March 28th\, 10am – 1pm at Freedom Temple Ministries.  Serving our Community.
URL:https://ftmrockhill.org/event/second-harvest-food-truck/
CATEGORIES:Flyers
ATTACH;FMTTYPE=image/jpeg:https://ftmrockhill.org/wp-content/uploads/2025/02/FTM-Food-Truck-FLYER-2-scaled.jpg
END:VEVENT
BEGIN:VEVENT
DTSTART;TZID=America/New_York:20250329T090000
DTEND;TZID=America/New_York:20250329T110000
DTSTAMP:20260425T071011
CREATED:20160328T161633Z
LAST-MODIFIED:20160328T161633Z
UID:37756-1743238800-1743246000@ftmrockhill.org
SUMMARY:Praise Dance Rehearsal
DESCRIPTION:Praise Dance Rehearsal\nEvery Monday at 6pm and Every Saturday at 9am
URL:https://ftmrockhill.org/event/praise-dance-rehearsal-3/2025-03-29/
LOCATION:Freedom Temple Ministries\, 215 E. Main Street\, Rock Hill\, SC\, 29730\, United States
END:VEVENT
BEGIN:VEVENT
DTSTART;TZID=America/New_York:20250329T140000
DTEND;TZID=America/New_York:20250329T160000
DTSTAMP:20260425T071011
CREATED:20250218T205826Z
LAST-MODIFIED:20250218T205826Z
UID:40230-1743256800-1743264000@ftmrockhill.org
SUMMARY:Marriage Ministry Evening of Bowling
DESCRIPTION:Join the Marriage Ministry for an Evening of Bowling on Saturday\, March 29th at 2pm.  Piedmont Social House in Charlotte\, NC.
URL:https://ftmrockhill.org/event/marriage-ministry-evening-of-bowling/
CATEGORIES:Flyers
ATTACH;FMTTYPE=image/jpeg:https://ftmrockhill.org/wp-content/uploads/2025/02/FTM-Marriage-Ministry-BOWLING-FLYERS-scaled.jpg
END:VEVENT
BEGIN:VEVENT
DTSTART;TZID=America/New_York:20250331T180000
DTEND;TZID=America/New_York:20250331T200000
DTSTAMP:20260425T071011
CREATED:20160317T132653Z
LAST-MODIFIED:20160317T132653Z
UID:37757-1743444000-1743451200@ftmrockhill.org
SUMMARY:Praise Dance Rehearsal
DESCRIPTION:Praise Dance Rehearsal\nEvery Monday at 6pm and Every Saturday at 9am
URL:https://ftmrockhill.org/event/praise-dance-rehearsal/2025-03-31/
LOCATION:Freedom Temple Ministries\, 215 E. Main Street\, Rock Hill\, SC\, 29730\, United States
END:VEVENT
BEGIN:VEVENT
DTSTART;TZID=America/New_York:20250331T190000
DTEND;TZID=America/New_York:20250331T210000
DTSTAMP:20260425T071011
CREATED:20160328T161754Z
LAST-MODIFIED:20160328T161754Z
UID:37758-1743447600-1743454800@ftmrockhill.org
SUMMARY:Voices of Freedom / Praise Team Rehearsals
DESCRIPTION:Voices of Freedom / Praise Team Rehearsals\nEvery Monday at 7pm at Freedom Temple Ministries
URL:https://ftmrockhill.org/event/voices-of-freedom-praise-team-rehearsals-2/2025-03-31/
LOCATION:Freedom Temple Ministries\, 215 E. Main Street\, Rock Hill\, SC\, 29730\, United States
END:VEVENT
BEGIN:VEVENT
DTSTART;TZID=America/New_York:20250401T060000
DTEND;TZID=America/New_York:20250401T063000
DTSTAMP:20260425T071011
CREATED:20240709T021107Z
LAST-MODIFIED:20250110T233808Z
UID:39939-1743487200-1743489000@ftmrockhill.org
SUMMARY:Intercessory Prayer Ministry
DESCRIPTION:Intercessory Prayer Ministry\, Weekly Prayer Calls:  Tuesdays morning 6am – 6:30 am and Thursday evenings 6pm-6:30 pm.  712.432.3900\, Access Code:  174705 \n  \n  \n  \n  \n  \n  \n 
URL:https://ftmrockhill.org/event/intercessory-prayer-ministry-summer-break/2025-04-01/
CATEGORIES:Flyers
ATTACH;FMTTYPE=image/jpeg:https://ftmrockhill.org/wp-content/uploads/2024/07/FTM-Intercessory-Prayer-2-2025-FLYER-1-scaled.jpg
END:VEVENT
BEGIN:VEVENT
DTSTART;TZID=America/New_York:20250402T100000
DTEND;TZID=America/New_York:20250402T113000
DTSTAMP:20260425T071011
CREATED:20200415T194205Z
LAST-MODIFIED:20250701T210018Z
UID:40105-1743588000-1743593400@ftmrockhill.org
SUMMARY:JOY Ministry
DESCRIPTION:JOY Ministry\, Wednesdays mornings at 10am.
URL:https://ftmrockhill.org/event/joy-ministry-mid-week/2025-04-02/
CATEGORIES:Flyers
ATTACH;FMTTYPE=image/jpeg:https://ftmrockhill.org/wp-content/uploads/2020/04/FTM-JOY-2025-2-FLYER-1-scaled.jpg
END:VEVENT
BEGIN:VEVENT
DTSTART;TZID=America/New_York:20250403T180000
DTEND;TZID=America/New_York:20250403T183000
DTSTAMP:20260425T071011
CREATED:20240709T021107Z
LAST-MODIFIED:20250110T233808Z
UID:39940-1743703200-1743705000@ftmrockhill.org
SUMMARY:Intercessory Prayer Ministry
DESCRIPTION:Intercessory Prayer Ministry\, Weekly Prayer Calls:  Tuesdays morning 6am – 6:30 am and Thursday evenings 6pm-6:30 pm.  712.432.3900\, Access Code:  174705 \n  \n  \n  \n  \n  \n  \n 
URL:https://ftmrockhill.org/event/intercessory-prayer-ministry-summer-break/2025-04-03/
CATEGORIES:Flyers
ATTACH;FMTTYPE=image/jpeg:https://ftmrockhill.org/wp-content/uploads/2024/07/FTM-Intercessory-Prayer-2-2025-FLYER-1-scaled.jpg
END:VEVENT
BEGIN:VEVENT
DTSTART;TZID=America/New_York:20250405T090000
DTEND;TZID=America/New_York:20250405T110000
DTSTAMP:20260425T071011
CREATED:20160328T161633Z
LAST-MODIFIED:20160328T161633Z
UID:37759-1743843600-1743850800@ftmrockhill.org
SUMMARY:Praise Dance Rehearsal
DESCRIPTION:Praise Dance Rehearsal\nEvery Monday at 6pm and Every Saturday at 9am
URL:https://ftmrockhill.org/event/praise-dance-rehearsal-3/2025-04-05/
LOCATION:Freedom Temple Ministries\, 215 E. Main Street\, Rock Hill\, SC\, 29730\, United States
END:VEVENT
BEGIN:VEVENT
DTSTART;TZID=America/New_York:20250405T100000
DTEND;TZID=America/New_York:20250405T230000
DTSTAMP:20260425T071011
CREATED:20250218T210409Z
LAST-MODIFIED:20250218T210409Z
UID:40234-1743847200-1743894000@ftmrockhill.org
SUMMARY:Freedom Fun Walk
DESCRIPTION:Freedom Fun Walk in Cherry Park\, Saturday\, April 5th at 10am.
URL:https://ftmrockhill.org/event/freedom-fun-walk/
CATEGORIES:Flyers
ATTACH;FMTTYPE=image/jpeg:https://ftmrockhill.org/wp-content/uploads/2025/02/FTM-Healthcare-FUN-WALK-FLYER-scaled.jpg
END:VEVENT
BEGIN:VEVENT
DTSTART;TZID=America/New_York:20250406T100000
DTEND;TZID=America/New_York:20250406T120000
DTSTAMP:20260425T071011
CREATED:20200501T150021Z
LAST-MODIFIED:20200501T150021Z
UID:39002-1743933600-1743940800@ftmrockhill.org
SUMMARY:Communion Sunday
DESCRIPTION:Join us for Communion on the 1st Sunday of every month in 2024!
URL:https://ftmrockhill.org/event/communion-sunday/2025-04-06/
CATEGORIES:Flyers
ATTACH;FMTTYPE=image/jpeg:https://ftmrockhill.org/wp-content/uploads/2020/05/FTM-Communion-Sunday-2024-FLYER-1-scaled.jpg
END:VEVENT
BEGIN:VEVENT
DTSTART;TZID=America/New_York:20250407T180000
DTEND;TZID=America/New_York:20250407T200000
DTSTAMP:20260425T071011
CREATED:20160317T132653Z
LAST-MODIFIED:20160317T132653Z
UID:37760-1744048800-1744056000@ftmrockhill.org
SUMMARY:Praise Dance Rehearsal
DESCRIPTION:Praise Dance Rehearsal\nEvery Monday at 6pm and Every Saturday at 9am
URL:https://ftmrockhill.org/event/praise-dance-rehearsal/2025-04-07/
LOCATION:Freedom Temple Ministries\, 215 E. Main Street\, Rock Hill\, SC\, 29730\, United States
END:VEVENT
BEGIN:VEVENT
DTSTART;TZID=America/New_York:20250407T190000
DTEND;TZID=America/New_York:20250407T200000
DTSTAMP:20260425T071011
CREATED:20250402T183305Z
LAST-MODIFIED:20250402T183449Z
UID:40355-1744052400-1744056000@ftmrockhill.org
SUMMARY:Monday Night Prayer Call
DESCRIPTION:Monday Night Prayer Call on the 1st Monday of each month at 7pm beginning April 7th and ending on December 1st.  Dial In: 605.313.5111\, Access Code: 210681
URL:https://ftmrockhill.org/event/monday-night-prayer-call/2025-04-07/
CATEGORIES:Flyers
ATTACH;FMTTYPE=image/jpeg:https://ftmrockhill.org/wp-content/uploads/2025/04/FTM-Monday-Prayer-Call-FLYER-scaled.jpg
END:VEVENT
BEGIN:VEVENT
DTSTART;TZID=America/New_York:20250407T190000
DTEND;TZID=America/New_York:20250407T210000
DTSTAMP:20260425T071011
CREATED:20160328T161754Z
LAST-MODIFIED:20160328T161754Z
UID:37761-1744052400-1744059600@ftmrockhill.org
SUMMARY:Voices of Freedom / Praise Team Rehearsals
DESCRIPTION:Voices of Freedom / Praise Team Rehearsals\nEvery Monday at 7pm at Freedom Temple Ministries
URL:https://ftmrockhill.org/event/voices-of-freedom-praise-team-rehearsals-2/2025-04-07/
LOCATION:Freedom Temple Ministries\, 215 E. Main Street\, Rock Hill\, SC\, 29730\, United States
END:VEVENT
BEGIN:VEVENT
DTSTART;TZID=America/New_York:20250408T060000
DTEND;TZID=America/New_York:20250408T063000
DTSTAMP:20260425T071011
CREATED:20240709T021107Z
LAST-MODIFIED:20250110T233809Z
UID:39941-1744092000-1744093800@ftmrockhill.org
SUMMARY:Intercessory Prayer Ministry
DESCRIPTION:Intercessory Prayer Ministry\, Weekly Prayer Calls:  Tuesdays morning 6am – 6:30 am and Thursday evenings 6pm-6:30 pm.  712.432.3900\, Access Code:  174705 \n  \n  \n  \n  \n  \n  \n 
URL:https://ftmrockhill.org/event/intercessory-prayer-ministry-summer-break/2025-04-08/
CATEGORIES:Flyers
ATTACH;FMTTYPE=image/jpeg:https://ftmrockhill.org/wp-content/uploads/2024/07/FTM-Intercessory-Prayer-2-2025-FLYER-1-scaled.jpg
END:VEVENT
BEGIN:VEVENT
DTSTART;TZID=America/New_York:20250408T183000
DTEND;TZID=America/New_York:20250408T193000
DTSTAMP:20260425T071011
CREATED:20240709T025205Z
LAST-MODIFIED:20250904T004955Z
UID:40152-1744137000-1744140600@ftmrockhill.org
SUMMARY:Voices of Freedom Choir Rehearsals
DESCRIPTION:Voice of Freedom Choir Rehearsals are every Tuesday at 6:30 pm.  Join the CHOIR!
URL:https://ftmrockhill.org/event/voices-of-freedom-choir-rehearsals/2025-04-08/
ATTACH;FMTTYPE=image/jpeg:https://ftmrockhill.org/wp-content/uploads/2024/07/FTM-VOF-Choir-Rehearsals-FLYERS-scaled.jpg
END:VEVENT
BEGIN:VEVENT
DTSTART;TZID=America/New_York:20250409T100000
DTEND;TZID=America/New_York:20250409T113000
DTSTAMP:20260425T071011
CREATED:20200415T194205Z
LAST-MODIFIED:20250701T210018Z
UID:40106-1744192800-1744198200@ftmrockhill.org
SUMMARY:JOY Ministry
DESCRIPTION:JOY Ministry\, Wednesdays mornings at 10am.
URL:https://ftmrockhill.org/event/joy-ministry-mid-week/2025-04-09/
CATEGORIES:Flyers
ATTACH;FMTTYPE=image/jpeg:https://ftmrockhill.org/wp-content/uploads/2020/04/FTM-JOY-2025-2-FLYER-1-scaled.jpg
END:VEVENT
BEGIN:VEVENT
DTSTART;TZID=America/New_York:20250410T180000
DTEND;TZID=America/New_York:20250410T183000
DTSTAMP:20260425T071011
CREATED:20240709T021107Z
LAST-MODIFIED:20250110T233809Z
UID:39942-1744308000-1744309800@ftmrockhill.org
SUMMARY:Intercessory Prayer Ministry
DESCRIPTION:Intercessory Prayer Ministry\, Weekly Prayer Calls:  Tuesdays morning 6am – 6:30 am and Thursday evenings 6pm-6:30 pm.  712.432.3900\, Access Code:  174705 \n  \n  \n  \n  \n  \n  \n 
URL:https://ftmrockhill.org/event/intercessory-prayer-ministry-summer-break/2025-04-10/
CATEGORIES:Flyers
ATTACH;FMTTYPE=image/jpeg:https://ftmrockhill.org/wp-content/uploads/2024/07/FTM-Intercessory-Prayer-2-2025-FLYER-1-scaled.jpg
END:VEVENT
BEGIN:VEVENT
DTSTART;TZID=America/New_York:20250412T090000
DTEND;TZID=America/New_York:20250412T110000
DTSTAMP:20260425T071011
CREATED:20160328T161633Z
LAST-MODIFIED:20160328T161633Z
UID:37762-1744448400-1744455600@ftmrockhill.org
SUMMARY:Praise Dance Rehearsal
DESCRIPTION:Praise Dance Rehearsal\nEvery Monday at 6pm and Every Saturday at 9am
URL:https://ftmrockhill.org/event/praise-dance-rehearsal-3/2025-04-12/
LOCATION:Freedom Temple Ministries\, 215 E. Main Street\, Rock Hill\, SC\, 29730\, United States
END:VEVENT
BEGIN:VEVENT
DTSTART;TZID=America/New_York:20250413T100000
DTEND;TZID=America/New_York:20250413T130000
DTSTAMP:20260425T071011
CREATED:20230328T190247Z
LAST-MODIFIED:20250402T184817Z
UID:37744-1744538400-1744549200@ftmrockhill.org
SUMMARY:Palm Sunday\, April 13th
DESCRIPTION:Join us for Palm Sunday on April 13th at 10am!
URL:https://ftmrockhill.org/event/palm-sunday-meet-greet/
CATEGORIES:Flyers
ATTACH;FMTTYPE=image/jpeg:https://ftmrockhill.org/wp-content/uploads/2023/03/FTM-Palm-Sunday-2025-FLYER-scaled.jpg
END:VEVENT
BEGIN:VEVENT
DTSTART;TZID=America/New_York:20250414T080000
DTEND;TZID=America/New_York:20250418T170000
DTSTAMP:20260425T071011
CREATED:20250402T210223Z
LAST-MODIFIED:20250402T210223Z
UID:40380-1744617600-1744995600@ftmrockhill.org
SUMMARY:Easter Consecration\, April 14th - 18th
DESCRIPTION:
URL:https://ftmrockhill.org/event/easter-consecration-april-14th-18th/
CATEGORIES:Flyers
ATTACH;FMTTYPE=image/jpeg:https://ftmrockhill.org/wp-content/uploads/2025/04/FTM-Easter-Consecration-2025-FLYER-2.jpg
END:VEVENT
BEGIN:VEVENT
DTSTART;TZID=America/New_York:20250414T180000
DTEND;TZID=America/New_York:20250414T200000
DTSTAMP:20260425T071011
CREATED:20160317T132653Z
LAST-MODIFIED:20160317T132653Z
UID:37763-1744653600-1744660800@ftmrockhill.org
SUMMARY:Praise Dance Rehearsal
DESCRIPTION:Praise Dance Rehearsal\nEvery Monday at 6pm and Every Saturday at 9am
URL:https://ftmrockhill.org/event/praise-dance-rehearsal/2025-04-14/
LOCATION:Freedom Temple Ministries\, 215 E. Main Street\, Rock Hill\, SC\, 29730\, United States
END:VEVENT
BEGIN:VEVENT
DTSTART;TZID=America/New_York:20250414T190000
DTEND;TZID=America/New_York:20250414T210000
DTSTAMP:20260425T071011
CREATED:20160328T161754Z
LAST-MODIFIED:20160328T161754Z
UID:37764-1744657200-1744664400@ftmrockhill.org
SUMMARY:Voices of Freedom / Praise Team Rehearsals
DESCRIPTION:Voices of Freedom / Praise Team Rehearsals\nEvery Monday at 7pm at Freedom Temple Ministries
URL:https://ftmrockhill.org/event/voices-of-freedom-praise-team-rehearsals-2/2025-04-14/
LOCATION:Freedom Temple Ministries\, 215 E. Main Street\, Rock Hill\, SC\, 29730\, United States
END:VEVENT
BEGIN:VEVENT
DTSTART;TZID=America/New_York:20250415T060000
DTEND;TZID=America/New_York:20250415T063000
DTSTAMP:20260425T071011
CREATED:20240709T021107Z
LAST-MODIFIED:20250110T233809Z
UID:39943-1744696800-1744698600@ftmrockhill.org
SUMMARY:Intercessory Prayer Ministry
DESCRIPTION:Intercessory Prayer Ministry\, Weekly Prayer Calls:  Tuesdays morning 6am – 6:30 am and Thursday evenings 6pm-6:30 pm.  712.432.3900\, Access Code:  174705 \n  \n  \n  \n  \n  \n  \n 
URL:https://ftmrockhill.org/event/intercessory-prayer-ministry-summer-break/2025-04-15/
CATEGORIES:Flyers
ATTACH;FMTTYPE=image/jpeg:https://ftmrockhill.org/wp-content/uploads/2024/07/FTM-Intercessory-Prayer-2-2025-FLYER-1-scaled.jpg
END:VEVENT
BEGIN:VEVENT
DTSTART;TZID=America/New_York:20250416T100000
DTEND;TZID=America/New_York:20250416T113000
DTSTAMP:20260425T071011
CREATED:20200415T194205Z
LAST-MODIFIED:20250701T210019Z
UID:40107-1744797600-1744803000@ftmrockhill.org
SUMMARY:JOY Ministry
DESCRIPTION:JOY Ministry\, Wednesdays mornings at 10am.
URL:https://ftmrockhill.org/event/joy-ministry-mid-week/2025-04-16/
CATEGORIES:Flyers
ATTACH;FMTTYPE=image/jpeg:https://ftmrockhill.org/wp-content/uploads/2020/04/FTM-JOY-2025-2-FLYER-1-scaled.jpg
END:VEVENT
END:VCALENDAR