BEGIN:VCALENDAR
VERSION:2.0
PRODID:-//Freedom Temple Ministries - ECPv6.15.20//NONSGML v1.0//EN
CALSCALE:GREGORIAN
METHOD:PUBLISH
X-WR-CALNAME:Freedom Temple Ministries
X-ORIGINAL-URL:https://ftmrockhill.org
X-WR-CALDESC:Events for Freedom Temple Ministries
REFRESH-INTERVAL;VALUE=DURATION:PT1H
X-Robots-Tag:noindex
X-PUBLISHED-TTL:PT1H
BEGIN:VTIMEZONE
TZID:America/New_York
BEGIN:DAYLIGHT
TZOFFSETFROM:-0500
TZOFFSETTO:-0400
TZNAME:EDT
DTSTART:20240310T070000
END:DAYLIGHT
BEGIN:STANDARD
TZOFFSETFROM:-0400
TZOFFSETTO:-0500
TZNAME:EST
DTSTART:20241103T060000
END:STANDARD
BEGIN:DAYLIGHT
TZOFFSETFROM:-0500
TZOFFSETTO:-0400
TZNAME:EDT
DTSTART:20250309T070000
END:DAYLIGHT
BEGIN:STANDARD
TZOFFSETFROM:-0400
TZOFFSETTO:-0500
TZNAME:EST
DTSTART:20251102T060000
END:STANDARD
BEGIN:DAYLIGHT
TZOFFSETFROM:-0500
TZOFFSETTO:-0400
TZNAME:EDT
DTSTART:20260308T070000
END:DAYLIGHT
BEGIN:STANDARD
TZOFFSETFROM:-0400
TZOFFSETTO:-0500
TZNAME:EST
DTSTART:20261101T060000
END:STANDARD
END:VTIMEZONE
BEGIN:VEVENT
DTSTART;TZID=America/New_York:20250317T190000
DTEND;TZID=America/New_York:20250317T210000
DTSTAMP:20260425T095458
CREATED:20160328T161754Z
LAST-MODIFIED:20160328T161754Z
UID:37725-1742238000-1742245200@ftmrockhill.org
SUMMARY:Voices of Freedom / Praise Team Rehearsals
DESCRIPTION:Voices of Freedom / Praise Team Rehearsals\nEvery Monday at 7pm at Freedom Temple Ministries
URL:https://ftmrockhill.org/event/voices-of-freedom-praise-team-rehearsals-2/2025-03-17/
LOCATION:Freedom Temple Ministries\, 215 E. Main Street\, Rock Hill\, SC\, 29730\, United States
END:VEVENT
BEGIN:VEVENT
DTSTART;TZID=America/New_York:20250317T180000
DTEND;TZID=America/New_York:20250317T200000
DTSTAMP:20260425T095458
CREATED:20160317T132653Z
LAST-MODIFIED:20160317T132653Z
UID:37724-1742234400-1742241600@ftmrockhill.org
SUMMARY:Praise Dance Rehearsal
DESCRIPTION:Praise Dance Rehearsal\nEvery Monday at 6pm and Every Saturday at 9am
URL:https://ftmrockhill.org/event/praise-dance-rehearsal/2025-03-17/
LOCATION:Freedom Temple Ministries\, 215 E. Main Street\, Rock Hill\, SC\, 29730\, United States
END:VEVENT
BEGIN:VEVENT
DTSTART;TZID=America/New_York:20250316T100000
DTEND;TZID=America/New_York:20250316T120000
DTSTAMP:20260425T095458
CREATED:20220803T200945Z
LAST-MODIFIED:20220803T200945Z
UID:39025-1742119200-1742126400@ftmrockhill.org
SUMMARY:Baptism
DESCRIPTION:Baptism held every 3rd Sunday of each month!
URL:https://ftmrockhill.org/event/baptisms/2025-03-16/
CATEGORIES:Flyers
ATTACH;FMTTYPE=image/jpeg:https://ftmrockhill.org/wp-content/uploads/2022/08/FTM-Baptism-2024-FLYER-1-scaled.jpg
END:VEVENT
BEGIN:VEVENT
DTSTART;TZID=America/New_York:20250315T090000
DTEND;TZID=America/New_York:20250315T120000
DTSTAMP:20260425T095458
CREATED:20240505T231230Z
LAST-MODIFIED:20240521T193656Z
UID:39083-1742029200-1742040000@ftmrockhill.org
SUMMARY:Clothing Closet
DESCRIPTION:Clothing Closet open every 3rd Saturday of each month\, 9am-12pm!  Thursdays & Fridays by Appointment Only!
URL:https://ftmrockhill.org/event/clothes-closet-grand-re-opening/2025-03-15/
CATEGORIES:Flyers
ATTACH;FMTTYPE=image/jpeg:https://ftmrockhill.org/wp-content/uploads/2024/05/FTM-Clothes-Closet-GENERIC-FLYER-scaled.jpg
END:VEVENT
BEGIN:VEVENT
DTSTART;TZID=America/New_York:20250315T090000
DTEND;TZID=America/New_York:20250315T110000
DTSTAMP:20260425T095458
CREATED:20160328T161633Z
LAST-MODIFIED:20160328T161633Z
UID:37722-1742029200-1742036400@ftmrockhill.org
SUMMARY:Praise Dance Rehearsal
DESCRIPTION:Praise Dance Rehearsal\nEvery Monday at 6pm and Every Saturday at 9am
URL:https://ftmrockhill.org/event/praise-dance-rehearsal-3/2025-03-15/
LOCATION:Freedom Temple Ministries\, 215 E. Main Street\, Rock Hill\, SC\, 29730\, United States
END:VEVENT
BEGIN:VEVENT
DTSTART;TZID=America/New_York:20250313T180000
DTEND;TZID=America/New_York:20250313T183000
DTSTAMP:20260425T095458
CREATED:20240709T021107Z
LAST-MODIFIED:20250110T233803Z
UID:39934-1741888800-1741890600@ftmrockhill.org
SUMMARY:Intercessory Prayer Ministry
DESCRIPTION:Intercessory Prayer Ministry\, Weekly Prayer Calls:  Tuesdays morning 6am – 6:30 am and Thursday evenings 6pm-6:30 pm.  712.432.3900\, Access Code:  174705 \n  \n  \n  \n  \n  \n  \n 
URL:https://ftmrockhill.org/event/intercessory-prayer-ministry-summer-break/2025-03-13/
CATEGORIES:Flyers
ATTACH;FMTTYPE=image/jpeg:https://ftmrockhill.org/wp-content/uploads/2024/07/FTM-Intercessory-Prayer-2-2025-FLYER-1-scaled.jpg
END:VEVENT
BEGIN:VEVENT
DTSTART;TZID=America/New_York:20250312T100000
DTEND;TZID=America/New_York:20250312T113000
DTSTAMP:20260425T095458
CREATED:20200415T194205Z
LAST-MODIFIED:20250701T210016Z
UID:40102-1741773600-1741779000@ftmrockhill.org
SUMMARY:JOY Ministry
DESCRIPTION:JOY Ministry\, Wednesdays mornings at 10am.
URL:https://ftmrockhill.org/event/joy-ministry-mid-week/2025-03-12/
CATEGORIES:Flyers
ATTACH;FMTTYPE=image/jpeg:https://ftmrockhill.org/wp-content/uploads/2020/04/FTM-JOY-2025-2-FLYER-1-scaled.jpg
END:VEVENT
BEGIN:VEVENT
DTSTART;TZID=America/New_York:20250311T183000
DTEND;TZID=America/New_York:20250311T193000
DTSTAMP:20260425T095458
CREATED:20240709T025205Z
LAST-MODIFIED:20250904T004955Z
UID:40150-1741717800-1741721400@ftmrockhill.org
SUMMARY:Voices of Freedom Choir Rehearsals
DESCRIPTION:Voice of Freedom Choir Rehearsals are every Tuesday at 6:30 pm.  Join the CHOIR!
URL:https://ftmrockhill.org/event/voices-of-freedom-choir-rehearsals/2025-03-11/
ATTACH;FMTTYPE=image/jpeg:https://ftmrockhill.org/wp-content/uploads/2024/07/FTM-VOF-Choir-Rehearsals-FLYERS-scaled.jpg
END:VEVENT
BEGIN:VEVENT
DTSTART;TZID=America/New_York:20250311T060000
DTEND;TZID=America/New_York:20250311T063000
DTSTAMP:20260425T095458
CREATED:20240709T021107Z
LAST-MODIFIED:20250110T233803Z
UID:39933-1741672800-1741674600@ftmrockhill.org
SUMMARY:Intercessory Prayer Ministry
DESCRIPTION:Intercessory Prayer Ministry\, Weekly Prayer Calls:  Tuesdays morning 6am – 6:30 am and Thursday evenings 6pm-6:30 pm.  712.432.3900\, Access Code:  174705 \n  \n  \n  \n  \n  \n  \n 
URL:https://ftmrockhill.org/event/intercessory-prayer-ministry-summer-break/2025-03-11/
CATEGORIES:Flyers
ATTACH;FMTTYPE=image/jpeg:https://ftmrockhill.org/wp-content/uploads/2024/07/FTM-Intercessory-Prayer-2-2025-FLYER-1-scaled.jpg
END:VEVENT
BEGIN:VEVENT
DTSTART;TZID=America/New_York:20250310T190000
DTEND;TZID=America/New_York:20250310T210000
DTSTAMP:20260425T095458
CREATED:20160328T161754Z
LAST-MODIFIED:20160328T161754Z
UID:37720-1741633200-1741640400@ftmrockhill.org
SUMMARY:Voices of Freedom / Praise Team Rehearsals
DESCRIPTION:Voices of Freedom / Praise Team Rehearsals\nEvery Monday at 7pm at Freedom Temple Ministries
URL:https://ftmrockhill.org/event/voices-of-freedom-praise-team-rehearsals-2/2025-03-10/
LOCATION:Freedom Temple Ministries\, 215 E. Main Street\, Rock Hill\, SC\, 29730\, United States
END:VEVENT
BEGIN:VEVENT
DTSTART;TZID=America/New_York:20250310T180000
DTEND;TZID=America/New_York:20250310T200000
DTSTAMP:20260425T095458
CREATED:20160317T132653Z
LAST-MODIFIED:20160317T132653Z
UID:37719-1741629600-1741636800@ftmrockhill.org
SUMMARY:Praise Dance Rehearsal
DESCRIPTION:Praise Dance Rehearsal\nEvery Monday at 6pm and Every Saturday at 9am
URL:https://ftmrockhill.org/event/praise-dance-rehearsal/2025-03-10/
LOCATION:Freedom Temple Ministries\, 215 E. Main Street\, Rock Hill\, SC\, 29730\, United States
END:VEVENT
BEGIN:VEVENT
DTSTART;TZID=America/New_York:20250309T080000
DTEND;TZID=America/New_York:20250309T170000
DTSTAMP:20260425T095458
CREATED:20230301T200258Z
LAST-MODIFIED:20250304T182552Z
UID:37236-1741507200-1741539600@ftmrockhill.org
SUMMARY:Spring Forward March 9\, 2025
DESCRIPTION:Daylight Saving Time – Spring Forward\, Sunday\, March 9\, 2025.
URL:https://ftmrockhill.org/event/spring-forward/
CATEGORIES:Flyers
ATTACH;FMTTYPE=image/jpeg:https://ftmrockhill.org/wp-content/uploads/2023/03/FTM-Spring-Forward-DST-FLYER-scaled.jpg
END:VEVENT
BEGIN:VEVENT
DTSTART;TZID=America/New_York:20250308T090000
DTEND;TZID=America/New_York:20250308T230000
DTSTAMP:20260425T095458
CREATED:20240709T173213Z
LAST-MODIFIED:20250821T185901Z
UID:40180-1741424400-1741474800@ftmrockhill.org
SUMMARY:New Member Orientation (NMO)
DESCRIPTION:New Member Orientation (NMO) is offered every 2nd Saturday of the month at 10am!  Join via Zoom.
URL:https://ftmrockhill.org/event/new-member-orientation-nmo/2025-03-08/
CATEGORIES:Flyers
ATTACH;FMTTYPE=image/jpeg:https://ftmrockhill.org/wp-content/uploads/2024/07/FTM-New-Member-Orientation-Generic-2025-FLYER-scaled.jpg
END:VEVENT
BEGIN:VEVENT
DTSTART;TZID=America/New_York:20250308T090000
DTEND;TZID=America/New_York:20250308T110000
DTSTAMP:20260425T095458
CREATED:20160328T161633Z
LAST-MODIFIED:20160328T161633Z
UID:37415-1741424400-1741431600@ftmrockhill.org
SUMMARY:Praise Dance Rehearsal
DESCRIPTION:Praise Dance Rehearsal\nEvery Monday at 6pm and Every Saturday at 9am
URL:https://ftmrockhill.org/event/praise-dance-rehearsal-3/2025-03-08/
LOCATION:Freedom Temple Ministries\, 215 E. Main Street\, Rock Hill\, SC\, 29730\, United States
END:VEVENT
BEGIN:VEVENT
DTSTART;TZID=America/New_York:20250306T180000
DTEND;TZID=America/New_York:20250306T183000
DTSTAMP:20260425T095458
CREATED:20240709T021107Z
LAST-MODIFIED:20250110T233803Z
UID:39932-1741284000-1741285800@ftmrockhill.org
SUMMARY:Intercessory Prayer Ministry
DESCRIPTION:Intercessory Prayer Ministry\, Weekly Prayer Calls:  Tuesdays morning 6am – 6:30 am and Thursday evenings 6pm-6:30 pm.  712.432.3900\, Access Code:  174705 \n  \n  \n  \n  \n  \n  \n 
URL:https://ftmrockhill.org/event/intercessory-prayer-ministry-summer-break/2025-03-06/
CATEGORIES:Flyers
ATTACH;FMTTYPE=image/jpeg:https://ftmrockhill.org/wp-content/uploads/2024/07/FTM-Intercessory-Prayer-2-2025-FLYER-1-scaled.jpg
END:VEVENT
BEGIN:VEVENT
DTSTART;TZID=America/New_York:20250305T100000
DTEND;TZID=America/New_York:20250305T113000
DTSTAMP:20260425T095458
CREATED:20200415T194205Z
LAST-MODIFIED:20250701T210016Z
UID:40101-1741168800-1741174200@ftmrockhill.org
SUMMARY:JOY Ministry
DESCRIPTION:JOY Ministry\, Wednesdays mornings at 10am.
URL:https://ftmrockhill.org/event/joy-ministry-mid-week/2025-03-05/
CATEGORIES:Flyers
ATTACH;FMTTYPE=image/jpeg:https://ftmrockhill.org/wp-content/uploads/2020/04/FTM-JOY-2025-2-FLYER-1-scaled.jpg
END:VEVENT
BEGIN:VEVENT
DTSTART;TZID=America/New_York:20250304T060000
DTEND;TZID=America/New_York:20250304T063000
DTSTAMP:20260425T095458
CREATED:20240709T021107Z
LAST-MODIFIED:20250110T233802Z
UID:39931-1741068000-1741069800@ftmrockhill.org
SUMMARY:Intercessory Prayer Ministry
DESCRIPTION:Intercessory Prayer Ministry\, Weekly Prayer Calls:  Tuesdays morning 6am – 6:30 am and Thursday evenings 6pm-6:30 pm.  712.432.3900\, Access Code:  174705 \n  \n  \n  \n  \n  \n  \n 
URL:https://ftmrockhill.org/event/intercessory-prayer-ministry-summer-break/2025-03-04/
CATEGORIES:Flyers
ATTACH;FMTTYPE=image/jpeg:https://ftmrockhill.org/wp-content/uploads/2024/07/FTM-Intercessory-Prayer-2-2025-FLYER-1-scaled.jpg
END:VEVENT
BEGIN:VEVENT
DTSTART;TZID=America/New_York:20250303T190000
DTEND;TZID=America/New_York:20250303T210000
DTSTAMP:20260425T095458
CREATED:20160328T161754Z
LAST-MODIFIED:20160328T161754Z
UID:37414-1741028400-1741035600@ftmrockhill.org
SUMMARY:Voices of Freedom / Praise Team Rehearsals
DESCRIPTION:Voices of Freedom / Praise Team Rehearsals\nEvery Monday at 7pm at Freedom Temple Ministries
URL:https://ftmrockhill.org/event/voices-of-freedom-praise-team-rehearsals-2/2025-03-03/
LOCATION:Freedom Temple Ministries\, 215 E. Main Street\, Rock Hill\, SC\, 29730\, United States
END:VEVENT
BEGIN:VEVENT
DTSTART;TZID=America/New_York:20250303T180000
DTEND;TZID=America/New_York:20250303T200000
DTSTAMP:20260425T095458
CREATED:20160317T132653Z
LAST-MODIFIED:20160317T132653Z
UID:37413-1741024800-1741032000@ftmrockhill.org
SUMMARY:Praise Dance Rehearsal
DESCRIPTION:Praise Dance Rehearsal\nEvery Monday at 6pm and Every Saturday at 9am
URL:https://ftmrockhill.org/event/praise-dance-rehearsal/2025-03-03/
LOCATION:Freedom Temple Ministries\, 215 E. Main Street\, Rock Hill\, SC\, 29730\, United States
END:VEVENT
BEGIN:VEVENT
DTSTART;TZID=America/New_York:20250302T100000
DTEND;TZID=America/New_York:20250302T120000
DTSTAMP:20260425T095458
CREATED:20200501T150021Z
LAST-MODIFIED:20200501T150021Z
UID:39001-1740909600-1740916800@ftmrockhill.org
SUMMARY:Communion Sunday
DESCRIPTION:Join us for Communion on the 1st Sunday of every month in 2024!
URL:https://ftmrockhill.org/event/communion-sunday/2025-03-02/
CATEGORIES:Flyers
ATTACH;FMTTYPE=image/jpeg:https://ftmrockhill.org/wp-content/uploads/2020/05/FTM-Communion-Sunday-2024-FLYER-1-scaled.jpg
END:VEVENT
BEGIN:VEVENT
DTSTART;TZID=America/New_York:20250301T090000
DTEND;TZID=America/New_York:20250301T110000
DTSTAMP:20260425T095458
CREATED:20160328T161633Z
LAST-MODIFIED:20160328T161633Z
UID:37387-1740819600-1740826800@ftmrockhill.org
SUMMARY:Praise Dance Rehearsal
DESCRIPTION:Praise Dance Rehearsal\nEvery Monday at 6pm and Every Saturday at 9am
URL:https://ftmrockhill.org/event/praise-dance-rehearsal-3/2025-03-01/
LOCATION:Freedom Temple Ministries\, 215 E. Main Street\, Rock Hill\, SC\, 29730\, United States
END:VEVENT
BEGIN:VEVENT
DTSTART;TZID=America/New_York:20250301T080000
DTEND;TZID=America/New_York:20250331T170000
DTSTAMP:20260425T095458
CREATED:20250304T193555Z
LAST-MODIFIED:20250304T193555Z
UID:40321-1740816000-1743440400@ftmrockhill.org
SUMMARY:March is Women's History Month
DESCRIPTION:March is Women’s History Month!
URL:https://ftmrockhill.org/event/march-is-womens-history-month/
CATEGORIES:Flyers
ATTACH;FMTTYPE=image/jpeg:https://ftmrockhill.org/wp-content/uploads/2025/03/FTM-Womens-History-Month-2025-FLYER-scaled.jpg
END:VEVENT
BEGIN:VEVENT
DTSTART;TZID=America/New_York:20250227T180000
DTEND;TZID=America/New_York:20250227T183000
DTSTAMP:20260425T095459
CREATED:20240709T021107Z
LAST-MODIFIED:20250110T233802Z
UID:39930-1740679200-1740681000@ftmrockhill.org
SUMMARY:Intercessory Prayer Ministry
DESCRIPTION:Intercessory Prayer Ministry\, Weekly Prayer Calls:  Tuesdays morning 6am – 6:30 am and Thursday evenings 6pm-6:30 pm.  712.432.3900\, Access Code:  174705 \n  \n  \n  \n  \n  \n  \n 
URL:https://ftmrockhill.org/event/intercessory-prayer-ministry-summer-break/2025-02-27/
CATEGORIES:Flyers
ATTACH;FMTTYPE=image/jpeg:https://ftmrockhill.org/wp-content/uploads/2024/07/FTM-Intercessory-Prayer-2-2025-FLYER-1-scaled.jpg
END:VEVENT
BEGIN:VEVENT
DTSTART;TZID=America/New_York:20250226T100000
DTEND;TZID=America/New_York:20250226T113000
DTSTAMP:20260425T095459
CREATED:20200415T194205Z
LAST-MODIFIED:20250701T210016Z
UID:40100-1740564000-1740569400@ftmrockhill.org
SUMMARY:JOY Ministry
DESCRIPTION:JOY Ministry\, Wednesdays mornings at 10am.
URL:https://ftmrockhill.org/event/joy-ministry-mid-week/2025-02-26/
CATEGORIES:Flyers
ATTACH;FMTTYPE=image/jpeg:https://ftmrockhill.org/wp-content/uploads/2020/04/FTM-JOY-2025-2-FLYER-1-scaled.jpg
END:VEVENT
BEGIN:VEVENT
DTSTART;TZID=America/New_York:20250225T183000
DTEND;TZID=America/New_York:20250225T193000
DTSTAMP:20260425T095459
CREATED:20240709T025205Z
LAST-MODIFIED:20250904T004954Z
UID:40149-1740508200-1740511800@ftmrockhill.org
SUMMARY:Voices of Freedom Choir Rehearsals
DESCRIPTION:Voice of Freedom Choir Rehearsals are every Tuesday at 6:30 pm.  Join the CHOIR!
URL:https://ftmrockhill.org/event/voices-of-freedom-choir-rehearsals/2025-02-25/
ATTACH;FMTTYPE=image/jpeg:https://ftmrockhill.org/wp-content/uploads/2024/07/FTM-VOF-Choir-Rehearsals-FLYERS-scaled.jpg
END:VEVENT
BEGIN:VEVENT
DTSTART;TZID=America/New_York:20250225T060000
DTEND;TZID=America/New_York:20250225T063000
DTSTAMP:20260425T095459
CREATED:20240709T021107Z
LAST-MODIFIED:20250110T233801Z
UID:39929-1740463200-1740465000@ftmrockhill.org
SUMMARY:Intercessory Prayer Ministry
DESCRIPTION:Intercessory Prayer Ministry\, Weekly Prayer Calls:  Tuesdays morning 6am – 6:30 am and Thursday evenings 6pm-6:30 pm.  712.432.3900\, Access Code:  174705 \n  \n  \n  \n  \n  \n  \n 
URL:https://ftmrockhill.org/event/intercessory-prayer-ministry-summer-break/2025-02-25/
CATEGORIES:Flyers
ATTACH;FMTTYPE=image/jpeg:https://ftmrockhill.org/wp-content/uploads/2024/07/FTM-Intercessory-Prayer-2-2025-FLYER-1-scaled.jpg
END:VEVENT
BEGIN:VEVENT
DTSTART;TZID=America/New_York:20250224T190000
DTEND;TZID=America/New_York:20250224T210000
DTSTAMP:20260425T095459
CREATED:20160328T161754Z
LAST-MODIFIED:20160328T161754Z
UID:37234-1740423600-1740430800@ftmrockhill.org
SUMMARY:Voices of Freedom / Praise Team Rehearsals
DESCRIPTION:Voices of Freedom / Praise Team Rehearsals\nEvery Monday at 7pm at Freedom Temple Ministries
URL:https://ftmrockhill.org/event/voices-of-freedom-praise-team-rehearsals-2/2025-02-24/
LOCATION:Freedom Temple Ministries\, 215 E. Main Street\, Rock Hill\, SC\, 29730\, United States
END:VEVENT
BEGIN:VEVENT
DTSTART;TZID=America/New_York:20250224T180000
DTEND;TZID=America/New_York:20250224T200000
DTSTAMP:20260425T095459
CREATED:20160317T132653Z
LAST-MODIFIED:20160317T132653Z
UID:37233-1740420000-1740427200@ftmrockhill.org
SUMMARY:Praise Dance Rehearsal
DESCRIPTION:Praise Dance Rehearsal\nEvery Monday at 6pm and Every Saturday at 9am
URL:https://ftmrockhill.org/event/praise-dance-rehearsal/2025-02-24/
LOCATION:Freedom Temple Ministries\, 215 E. Main Street\, Rock Hill\, SC\, 29730\, United States
END:VEVENT
BEGIN:VEVENT
DTSTART;TZID=America/New_York:20250222T090000
DTEND;TZID=America/New_York:20250222T110000
DTSTAMP:20260425T095459
CREATED:20160328T161633Z
LAST-MODIFIED:20160328T161633Z
UID:37232-1740214800-1740222000@ftmrockhill.org
SUMMARY:Praise Dance Rehearsal
DESCRIPTION:Praise Dance Rehearsal\nEvery Monday at 6pm and Every Saturday at 9am
URL:https://ftmrockhill.org/event/praise-dance-rehearsal-3/2025-02-22/
LOCATION:Freedom Temple Ministries\, 215 E. Main Street\, Rock Hill\, SC\, 29730\, United States
END:VEVENT
BEGIN:VEVENT
DTSTART;TZID=America/New_York:20250220T180000
DTEND;TZID=America/New_York:20250220T183000
DTSTAMP:20260425T095459
CREATED:20240709T021107Z
LAST-MODIFIED:20250110T233801Z
UID:39928-1740074400-1740076200@ftmrockhill.org
SUMMARY:Intercessory Prayer Ministry
DESCRIPTION:Intercessory Prayer Ministry\, Weekly Prayer Calls:  Tuesdays morning 6am – 6:30 am and Thursday evenings 6pm-6:30 pm.  712.432.3900\, Access Code:  174705 \n  \n  \n  \n  \n  \n  \n 
URL:https://ftmrockhill.org/event/intercessory-prayer-ministry-summer-break/2025-02-20/
CATEGORIES:Flyers
ATTACH;FMTTYPE=image/jpeg:https://ftmrockhill.org/wp-content/uploads/2024/07/FTM-Intercessory-Prayer-2-2025-FLYER-1-scaled.jpg
END:VEVENT
END:VCALENDAR