BEGIN:VCALENDAR
VERSION:2.0
PRODID:-//Freedom Temple Ministries - ECPv6.15.20//NONSGML v1.0//EN
CALSCALE:GREGORIAN
METHOD:PUBLISH
X-WR-CALNAME:Freedom Temple Ministries
X-ORIGINAL-URL:https://ftmrockhill.org
X-WR-CALDESC:Events for Freedom Temple Ministries
REFRESH-INTERVAL;VALUE=DURATION:PT1H
X-Robots-Tag:noindex
X-PUBLISHED-TTL:PT1H
BEGIN:VTIMEZONE
TZID:America/New_York
BEGIN:DAYLIGHT
TZOFFSETFROM:-0500
TZOFFSETTO:-0400
TZNAME:EDT
DTSTART:20230312T070000
END:DAYLIGHT
BEGIN:STANDARD
TZOFFSETFROM:-0400
TZOFFSETTO:-0500
TZNAME:EST
DTSTART:20231105T060000
END:STANDARD
BEGIN:DAYLIGHT
TZOFFSETFROM:-0500
TZOFFSETTO:-0400
TZNAME:EDT
DTSTART:20240310T070000
END:DAYLIGHT
BEGIN:STANDARD
TZOFFSETFROM:-0400
TZOFFSETTO:-0500
TZNAME:EST
DTSTART:20241103T060000
END:STANDARD
BEGIN:DAYLIGHT
TZOFFSETFROM:-0500
TZOFFSETTO:-0400
TZNAME:EDT
DTSTART:20250309T070000
END:DAYLIGHT
BEGIN:STANDARD
TZOFFSETFROM:-0400
TZOFFSETTO:-0500
TZNAME:EST
DTSTART:20251102T060000
END:STANDARD
END:VTIMEZONE
BEGIN:VEVENT
DTSTART;TZID=America/New_York:20240601T090000
DTEND;TZID=America/New_York:20240601T110000
DTSTAMP:20260426T001336
CREATED:20160328T161633Z
LAST-MODIFIED:20160328T161633Z
UID:36674-1717232400-1717239600@ftmrockhill.org
SUMMARY:Praise Dance Rehearsal
DESCRIPTION:Praise Dance Rehearsal\nEvery Monday at 6pm and Every Saturday at 9am
URL:https://ftmrockhill.org/event/praise-dance-rehearsal-3/2024-06-01/
LOCATION:Freedom Temple Ministries\, 215 E. Main Street\, Rock Hill\, SC\, 29730\, United States
END:VEVENT
BEGIN:VEVENT
DTSTART;TZID=America/New_York:20240602T100000
DTEND;TZID=America/New_York:20240602T120000
DTSTAMP:20260426T001336
CREATED:20200501T150021Z
LAST-MODIFIED:20240505T233931Z
UID:38991-1717322400-1717329600@ftmrockhill.org
SUMMARY:Communion Sunday
DESCRIPTION:Join us for Communion on the 1st Sunday of every month in 2024!
URL:https://ftmrockhill.org/event/communion-sunday/2024-06-02/
CATEGORIES:Flyers
ATTACH;FMTTYPE=image/jpeg:https://ftmrockhill.org/wp-content/uploads/2020/05/FTM-Communion-Sunday-2024-FLYER-1-scaled.jpg
END:VEVENT
BEGIN:VEVENT
DTSTART;TZID=America/New_York:20240602T100000
DTEND;TZID=America/New_York:20240602T120000
DTSTAMP:20260426T001336
CREATED:20240521T194212Z
LAST-MODIFIED:20240521T194830Z
UID:39098-1717322400-1717329600@ftmrockhill.org
SUMMARY:Class of 2024 Graduate Recognition Ceremony
DESCRIPTION:Class of 2024 Graduate Recognition Ceremony\, June 2nd at 10am Service.  Scan the QR Code on the flyer or click HERE to register!
URL:https://ftmrockhill.org/event/class-of-2024-graduate-recognition-ceremony/
CATEGORIES:Flyers
ATTACH;FMTTYPE=image/jpeg:https://ftmrockhill.org/wp-content/uploads/2024/05/FTM-Grad-Ceremony-2024-FLYER-scaled.jpg
END:VEVENT
BEGIN:VEVENT
DTSTART;TZID=America/New_York:20240603T180000
DTEND;TZID=America/New_York:20240603T200000
DTSTAMP:20260426T001336
CREATED:20160317T132653Z
LAST-MODIFIED:20160317T132653Z
UID:36675-1717437600-1717444800@ftmrockhill.org
SUMMARY:Praise Dance Rehearsal
DESCRIPTION:Praise Dance Rehearsal\nEvery Monday at 6pm and Every Saturday at 9am
URL:https://ftmrockhill.org/event/praise-dance-rehearsal/2024-06-03/
LOCATION:Freedom Temple Ministries\, 215 E. Main Street\, Rock Hill\, SC\, 29730\, United States
END:VEVENT
BEGIN:VEVENT
DTSTART;TZID=America/New_York:20240603T190000
DTEND;TZID=America/New_York:20240603T210000
DTSTAMP:20260426T001336
CREATED:20160328T161754Z
LAST-MODIFIED:20160328T161754Z
UID:36676-1717441200-1717448400@ftmrockhill.org
SUMMARY:Voices of Freedom / Praise Team Rehearsals
DESCRIPTION:Voices of Freedom / Praise Team Rehearsals\nEvery Monday at 7pm at Freedom Temple Ministries
URL:https://ftmrockhill.org/event/voices-of-freedom-praise-team-rehearsals-2/2024-06-03/
LOCATION:Freedom Temple Ministries\, 215 E. Main Street\, Rock Hill\, SC\, 29730\, United States
END:VEVENT
BEGIN:VEVENT
DTSTART;TZID=America/New_York:20240605T100000
DTEND;TZID=America/New_York:20240605T113000
DTSTAMP:20260426T001336
CREATED:20200415T194205Z
LAST-MODIFIED:20250701T205958Z
UID:40058-1717581600-1717587000@ftmrockhill.org
SUMMARY:JOY Ministry
DESCRIPTION:JOY Ministry\, Wednesdays mornings at 10am.
URL:https://ftmrockhill.org/event/joy-ministry-mid-week/2024-06-05/
CATEGORIES:Flyers
ATTACH;FMTTYPE=image/jpeg:https://ftmrockhill.org/wp-content/uploads/2020/04/FTM-JOY-2025-2-FLYER-1-scaled.jpg
END:VEVENT
BEGIN:VEVENT
DTSTART;TZID=America/New_York:20240608T090000
DTEND;TZID=America/New_York:20240608T110000
DTSTAMP:20260426T001336
CREATED:20160328T161633Z
LAST-MODIFIED:20160328T161633Z
UID:36677-1717837200-1717844400@ftmrockhill.org
SUMMARY:Praise Dance Rehearsal
DESCRIPTION:Praise Dance Rehearsal\nEvery Monday at 6pm and Every Saturday at 9am
URL:https://ftmrockhill.org/event/praise-dance-rehearsal-3/2024-06-08/
LOCATION:Freedom Temple Ministries\, 215 E. Main Street\, Rock Hill\, SC\, 29730\, United States
END:VEVENT
BEGIN:VEVENT
DTSTART;TZID=America/New_York:20240610T180000
DTEND;TZID=America/New_York:20240610T200000
DTSTAMP:20260426T001336
CREATED:20160317T132653Z
LAST-MODIFIED:20160317T132653Z
UID:36683-1718042400-1718049600@ftmrockhill.org
SUMMARY:Praise Dance Rehearsal
DESCRIPTION:Praise Dance Rehearsal\nEvery Monday at 6pm and Every Saturday at 9am
URL:https://ftmrockhill.org/event/praise-dance-rehearsal/2024-06-10/
LOCATION:Freedom Temple Ministries\, 215 E. Main Street\, Rock Hill\, SC\, 29730\, United States
END:VEVENT
BEGIN:VEVENT
DTSTART;TZID=America/New_York:20240610T190000
DTEND;TZID=America/New_York:20240610T210000
DTSTAMP:20260426T001336
CREATED:20160328T161754Z
LAST-MODIFIED:20160328T161754Z
UID:36684-1718046000-1718053200@ftmrockhill.org
SUMMARY:Voices of Freedom / Praise Team Rehearsals
DESCRIPTION:Voices of Freedom / Praise Team Rehearsals\nEvery Monday at 7pm at Freedom Temple Ministries
URL:https://ftmrockhill.org/event/voices-of-freedom-praise-team-rehearsals-2/2024-06-10/
LOCATION:Freedom Temple Ministries\, 215 E. Main Street\, Rock Hill\, SC\, 29730\, United States
END:VEVENT
BEGIN:VEVENT
DTSTART;TZID=America/New_York:20240612T100000
DTEND;TZID=America/New_York:20240612T113000
DTSTAMP:20260426T001336
CREATED:20200415T194205Z
LAST-MODIFIED:20250701T205958Z
UID:40059-1718186400-1718191800@ftmrockhill.org
SUMMARY:JOY Ministry
DESCRIPTION:JOY Ministry\, Wednesdays mornings at 10am.
URL:https://ftmrockhill.org/event/joy-ministry-mid-week/2024-06-12/
CATEGORIES:Flyers
ATTACH;FMTTYPE=image/jpeg:https://ftmrockhill.org/wp-content/uploads/2020/04/FTM-JOY-2025-2-FLYER-1-scaled.jpg
END:VEVENT
BEGIN:VEVENT
DTSTART;TZID=America/New_York:20240615T090000
DTEND;TZID=America/New_York:20240615T110000
DTSTAMP:20260426T001336
CREATED:20160328T161633Z
LAST-MODIFIED:20160328T161633Z
UID:36697-1718442000-1718449200@ftmrockhill.org
SUMMARY:Praise Dance Rehearsal
DESCRIPTION:Praise Dance Rehearsal\nEvery Monday at 6pm and Every Saturday at 9am
URL:https://ftmrockhill.org/event/praise-dance-rehearsal-3/2024-06-15/
LOCATION:Freedom Temple Ministries\, 215 E. Main Street\, Rock Hill\, SC\, 29730\, United States
END:VEVENT
BEGIN:VEVENT
DTSTART;TZID=America/New_York:20240615T090000
DTEND;TZID=America/New_York:20240615T120000
DTSTAMP:20260426T001336
CREATED:20240505T231230Z
LAST-MODIFIED:20240521T193649Z
UID:38971-1718442000-1718452800@ftmrockhill.org
SUMMARY:Clothing Closet
DESCRIPTION:Clothing Closet open every 3rd Saturday of each month\, 9am-12pm!  Thursdays & Fridays by Appointment Only!
URL:https://ftmrockhill.org/event/clothes-closet-grand-re-opening/2024-06-15/
CATEGORIES:Flyers
ATTACH;FMTTYPE=image/jpeg:https://ftmrockhill.org/wp-content/uploads/2024/05/FTM-Clothes-Closet-GENERIC-FLYER-scaled.jpg
END:VEVENT
BEGIN:VEVENT
DTSTART;TZID=America/New_York:20240615T100000
DTEND;TZID=America/New_York:20240615T110000
DTSTAMP:20260426T001336
CREATED:20240521T193031Z
LAST-MODIFIED:20240521T193121Z
UID:39064-1718445600-1718449200@ftmrockhill.org
SUMMARY:Anointed Dancers Youth Dance Workshops
DESCRIPTION:Anointed Dancers of Freedom Youth Dance Workshops\, June 15th\, June 29th\, July 13th\, and July 27th\, 10am-11am in The Freedom Center.  Contact Sister May Know at mknox@ftmrockhill.org if interested and for additional information.
URL:https://ftmrockhill.org/event/anointed-dancers-youth-dance-workshops/2024-06-15/
CATEGORIES:Flyers
ATTACH;FMTTYPE=image/jpeg:https://ftmrockhill.org/wp-content/uploads/2024/05/FTM-Anointed-Dancers-Youth-Dance-FLYER-1-scaled.jpg
END:VEVENT
BEGIN:VEVENT
DTSTART;TZID=America/New_York:20240616T100000
DTEND;TZID=America/New_York:20240616T120000
DTSTAMP:20260426T001336
CREATED:20220803T200945Z
LAST-MODIFIED:20220803T200945Z
UID:39016-1718532000-1718539200@ftmrockhill.org
SUMMARY:Baptism
DESCRIPTION:Baptism held every 3rd Sunday of each month!
URL:https://ftmrockhill.org/event/baptisms/2024-06-16/
CATEGORIES:Flyers
ATTACH;FMTTYPE=image/jpeg:https://ftmrockhill.org/wp-content/uploads/2022/08/FTM-Baptism-2024-FLYER-1-scaled.jpg
END:VEVENT
BEGIN:VEVENT
DTSTART;TZID=America/New_York:20240616T100000
DTEND;TZID=America/New_York:20240616T170000
DTSTAMP:20260426T001336
CREATED:20240505T222933Z
LAST-MODIFIED:20240505T222933Z
UID:39033-1718532000-1718557200@ftmrockhill.org
SUMMARY:Baby Dedication
DESCRIPTION:Baby Dedication held on the 3rd Sunday of each month!
URL:https://ftmrockhill.org/event/baby-dedications/2024-06-16/
CATEGORIES:Flyers
ATTACH;FMTTYPE=image/jpeg:https://ftmrockhill.org/wp-content/uploads/2024/05/FTM-Baby-Dedication-2024-FLYER-2-scaled.jpg
END:VEVENT
BEGIN:VEVENT
DTSTART;TZID=America/New_York:20240617T180000
DTEND;TZID=America/New_York:20240617T200000
DTSTAMP:20260426T001336
CREATED:20160317T132653Z
LAST-MODIFIED:20160317T132653Z
UID:36699-1718647200-1718654400@ftmrockhill.org
SUMMARY:Praise Dance Rehearsal
DESCRIPTION:Praise Dance Rehearsal\nEvery Monday at 6pm and Every Saturday at 9am
URL:https://ftmrockhill.org/event/praise-dance-rehearsal/2024-06-17/
LOCATION:Freedom Temple Ministries\, 215 E. Main Street\, Rock Hill\, SC\, 29730\, United States
END:VEVENT
BEGIN:VEVENT
DTSTART;TZID=America/New_York:20240617T190000
DTEND;TZID=America/New_York:20240617T210000
DTSTAMP:20260426T001336
CREATED:20160328T161754Z
LAST-MODIFIED:20160328T161754Z
UID:36700-1718650800-1718658000@ftmrockhill.org
SUMMARY:Voices of Freedom / Praise Team Rehearsals
DESCRIPTION:Voices of Freedom / Praise Team Rehearsals\nEvery Monday at 7pm at Freedom Temple Ministries
URL:https://ftmrockhill.org/event/voices-of-freedom-praise-team-rehearsals-2/2024-06-17/
LOCATION:Freedom Temple Ministries\, 215 E. Main Street\, Rock Hill\, SC\, 29730\, United States
END:VEVENT
BEGIN:VEVENT
DTSTART;TZID=America/New_York:20240619T080000
DTEND;TZID=America/New_York:20240619T170000
DTSTAMP:20260426T001336
CREATED:20230606T140336Z
LAST-MODIFIED:20240521T195131Z
UID:37960-1718784000-1718816400@ftmrockhill.org
SUMMARY:Juneteenth\, June 19\, 2024
DESCRIPTION:Juneteenth\, June 19th
URL:https://ftmrockhill.org/event/juneteenth-2023/
CATEGORIES:Flyers
ATTACH;FMTTYPE=image/jpeg:https://ftmrockhill.org/wp-content/uploads/2023/06/FTM-Junrteenth-2023-FLYER-1.jpg
END:VEVENT
BEGIN:VEVENT
DTSTART;TZID=America/New_York:20240619T100000
DTEND;TZID=America/New_York:20240619T113000
DTSTAMP:20260426T001336
CREATED:20200415T194205Z
LAST-MODIFIED:20250701T205959Z
UID:40060-1718791200-1718796600@ftmrockhill.org
SUMMARY:JOY Ministry
DESCRIPTION:JOY Ministry\, Wednesdays mornings at 10am.
URL:https://ftmrockhill.org/event/joy-ministry-mid-week/2024-06-19/
CATEGORIES:Flyers
ATTACH;FMTTYPE=image/jpeg:https://ftmrockhill.org/wp-content/uploads/2020/04/FTM-JOY-2025-2-FLYER-1-scaled.jpg
END:VEVENT
BEGIN:VEVENT
DTSTART;TZID=America/New_York:20240622T090000
DTEND;TZID=America/New_York:20240622T110000
DTSTAMP:20260426T001336
CREATED:20160328T161633Z
LAST-MODIFIED:20160328T161633Z
UID:36705-1719046800-1719054000@ftmrockhill.org
SUMMARY:Praise Dance Rehearsal
DESCRIPTION:Praise Dance Rehearsal\nEvery Monday at 6pm and Every Saturday at 9am
URL:https://ftmrockhill.org/event/praise-dance-rehearsal-3/2024-06-22/
LOCATION:Freedom Temple Ministries\, 215 E. Main Street\, Rock Hill\, SC\, 29730\, United States
END:VEVENT
BEGIN:VEVENT
DTSTART;TZID=America/New_York:20240624T180000
DTEND;TZID=America/New_York:20240624T200000
DTSTAMP:20260426T001336
CREATED:20160317T132653Z
LAST-MODIFIED:20160317T132653Z
UID:36706-1719252000-1719259200@ftmrockhill.org
SUMMARY:Praise Dance Rehearsal
DESCRIPTION:Praise Dance Rehearsal\nEvery Monday at 6pm and Every Saturday at 9am
URL:https://ftmrockhill.org/event/praise-dance-rehearsal/2024-06-24/
LOCATION:Freedom Temple Ministries\, 215 E. Main Street\, Rock Hill\, SC\, 29730\, United States
END:VEVENT
BEGIN:VEVENT
DTSTART;TZID=America/New_York:20240624T190000
DTEND;TZID=America/New_York:20240624T210000
DTSTAMP:20260426T001336
CREATED:20160328T161754Z
LAST-MODIFIED:20160328T161754Z
UID:36707-1719255600-1719262800@ftmrockhill.org
SUMMARY:Voices of Freedom / Praise Team Rehearsals
DESCRIPTION:Voices of Freedom / Praise Team Rehearsals\nEvery Monday at 7pm at Freedom Temple Ministries
URL:https://ftmrockhill.org/event/voices-of-freedom-praise-team-rehearsals-2/2024-06-24/
LOCATION:Freedom Temple Ministries\, 215 E. Main Street\, Rock Hill\, SC\, 29730\, United States
END:VEVENT
BEGIN:VEVENT
DTSTART;TZID=America/New_York:20240626T100000
DTEND;TZID=America/New_York:20240626T113000
DTSTAMP:20260426T001336
CREATED:20200415T194205Z
LAST-MODIFIED:20250701T210000Z
UID:40061-1719396000-1719401400@ftmrockhill.org
SUMMARY:JOY Ministry
DESCRIPTION:JOY Ministry\, Wednesdays mornings at 10am.
URL:https://ftmrockhill.org/event/joy-ministry-mid-week/2024-06-26/
CATEGORIES:Flyers
ATTACH;FMTTYPE=image/jpeg:https://ftmrockhill.org/wp-content/uploads/2020/04/FTM-JOY-2025-2-FLYER-1-scaled.jpg
END:VEVENT
BEGIN:VEVENT
DTSTART;TZID=America/New_York:20240629T090000
DTEND;TZID=America/New_York:20240629T110000
DTSTAMP:20260426T001336
CREATED:20160328T161633Z
LAST-MODIFIED:20160328T161633Z
UID:36711-1719651600-1719658800@ftmrockhill.org
SUMMARY:Praise Dance Rehearsal
DESCRIPTION:Praise Dance Rehearsal\nEvery Monday at 6pm and Every Saturday at 9am
URL:https://ftmrockhill.org/event/praise-dance-rehearsal-3/2024-06-29/
LOCATION:Freedom Temple Ministries\, 215 E. Main Street\, Rock Hill\, SC\, 29730\, United States
END:VEVENT
BEGIN:VEVENT
DTSTART;TZID=America/New_York:20240629T100000
DTEND;TZID=America/New_York:20240629T110000
DTSTAMP:20260426T001336
CREATED:20240521T193031Z
LAST-MODIFIED:20240521T193121Z
UID:39066-1719655200-1719658800@ftmrockhill.org
SUMMARY:Anointed Dancers Youth Dance Workshops
DESCRIPTION:Anointed Dancers of Freedom Youth Dance Workshops\, June 15th\, June 29th\, July 13th\, and July 27th\, 10am-11am in The Freedom Center.  Contact Sister May Know at mknox@ftmrockhill.org if interested and for additional information.
URL:https://ftmrockhill.org/event/anointed-dancers-youth-dance-workshops/2024-06-29/
CATEGORIES:Flyers
ATTACH;FMTTYPE=image/jpeg:https://ftmrockhill.org/wp-content/uploads/2024/05/FTM-Anointed-Dancers-Youth-Dance-FLYER-1-scaled.jpg
END:VEVENT
END:VCALENDAR