BEGIN:VCALENDAR
VERSION:2.0
PRODID:-//Freedom Temple Ministries - ECPv6.15.20//NONSGML v1.0//EN
CALSCALE:GREGORIAN
METHOD:PUBLISH
X-WR-CALNAME:Freedom Temple Ministries
X-ORIGINAL-URL:https://ftmrockhill.org
X-WR-CALDESC:Events for Freedom Temple Ministries
REFRESH-INTERVAL;VALUE=DURATION:PT1H
X-Robots-Tag:noindex
X-PUBLISHED-TTL:PT1H
BEGIN:VTIMEZONE
TZID:America/New_York
BEGIN:DAYLIGHT
TZOFFSETFROM:-0500
TZOFFSETTO:-0400
TZNAME:EDT
DTSTART:20150308T070000
END:DAYLIGHT
BEGIN:STANDARD
TZOFFSETFROM:-0400
TZOFFSETTO:-0500
TZNAME:EST
DTSTART:20151101T060000
END:STANDARD
BEGIN:DAYLIGHT
TZOFFSETFROM:-0500
TZOFFSETTO:-0400
TZNAME:EDT
DTSTART:20160313T070000
END:DAYLIGHT
BEGIN:STANDARD
TZOFFSETFROM:-0400
TZOFFSETTO:-0500
TZNAME:EST
DTSTART:20161106T060000
END:STANDARD
BEGIN:DAYLIGHT
TZOFFSETFROM:-0500
TZOFFSETTO:-0400
TZNAME:EDT
DTSTART:20170312T070000
END:DAYLIGHT
BEGIN:STANDARD
TZOFFSETFROM:-0400
TZOFFSETTO:-0500
TZNAME:EST
DTSTART:20171105T060000
END:STANDARD
BEGIN:DAYLIGHT
TZOFFSETFROM:-0500
TZOFFSETTO:-0400
TZNAME:EDT
DTSTART:20180311T070000
END:DAYLIGHT
BEGIN:STANDARD
TZOFFSETFROM:-0400
TZOFFSETTO:-0500
TZNAME:EST
DTSTART:20181104T060000
END:STANDARD
BEGIN:DAYLIGHT
TZOFFSETFROM:-0500
TZOFFSETTO:-0400
TZNAME:EDT
DTSTART:20190310T070000
END:DAYLIGHT
BEGIN:STANDARD
TZOFFSETFROM:-0400
TZOFFSETTO:-0500
TZNAME:EST
DTSTART:20191103T060000
END:STANDARD
END:VTIMEZONE
BEGIN:VEVENT
DTSTART;VALUE=DATE:20181001
DTEND;VALUE=DATE:20181101
DTSTAMP:20260424T100944
CREATED:20181002T184949Z
LAST-MODIFIED:20181002T184949Z
UID:28552-1538352000-1541030399@ftmrockhill.org
SUMMARY:Breast Cancer Awareness Month
DESCRIPTION:  \nOctober is Breast Cancer Awareness Month.
URL:https://ftmrockhill.org/event/breast-cancer-awareness-month/
LOCATION:Freedom Temple Ministries\, 215 E Main Street\, Rock Hill\, SC\, 29730\, United States
CATEGORIES:Flyers
ATTACH;FMTTYPE=image/jpeg:https://ftmrockhill.org/wp-content/uploads/2018/10/Breast-Cancer-Awareness-Month.jpg
GEO:34.9253772;-81.0251291
X-APPLE-STRUCTURED-LOCATION;VALUE=URI;X-ADDRESS=Freedom Temple Ministries 215 E Main Street Rock Hill SC 29730 United States;X-APPLE-RADIUS=500;X-TITLE=215 E Main Street:geo:-81.0251291,34.9253772
END:VEVENT
BEGIN:VEVENT
DTSTART;TZID=America/New_York:20170506T100000
DTEND;TZID=America/New_York:20170506T120000
DTSTAMP:20260424T100944
CREATED:20170324T170445Z
LAST-MODIFIED:20170503T130508Z
UID:27184-1494064800-1494072000@ftmrockhill.org
SUMMARY:Freedom Fitness Fun Day - Click To Register
DESCRIPTION:  \n  \n  \n  \n  \n  \n  \n  \n  \n  \nThe Healthcare Ministry Presents: \nFreedom Fitness Fun Day \nRegistration is Required -Please register by clicking HERE \nActivities include: \nGroup Fitness \n\nAll Ages\n\nYouth Group Fitness \n\nAges 12 & under\nAdult Beginners\n\nWalking Activity \n\nAll Ages\nAdult Beginners\n\nAdult Dodge Ball \n\nTeam Sign Up\nAges 13 & up\n\nSnacks Served: \n\npretzels\npopcorn\nwater\nfruit
URL:https://ftmrockhill.org/event/freedom-fitness-fun-day/
LOCATION:Freedom Gymnasium
CATEGORIES:Flyers
END:VEVENT
BEGIN:VEVENT
DTSTART;TZID=America/New_York:20160820T080000
DTEND;TZID=America/New_York:20160820T120000
DTSTAMP:20260424T100944
CREATED:20160719T163923Z
LAST-MODIFIED:20160719T163923Z
UID:26614-1471680000-1471694400@ftmrockhill.org
SUMMARY:Health Huddle Expo
DESCRIPTION:
URL:https://ftmrockhill.org/event/health-huddle-expo/
LOCATION:Freedom Gymnasium
END:VEVENT
END:VCALENDAR