BEGIN:VCALENDAR
VERSION:2.0
PRODID:-//Freedom Temple Ministries - ECPv6.15.20//NONSGML v1.0//EN
CALSCALE:GREGORIAN
METHOD:PUBLISH
X-ORIGINAL-URL:https://ftmrockhill.org
X-WR-CALDESC:Events for Freedom Temple Ministries
REFRESH-INTERVAL;VALUE=DURATION:PT1H
X-Robots-Tag:noindex
X-PUBLISHED-TTL:PT1H
BEGIN:VTIMEZONE
TZID:America/New_York
BEGIN:DAYLIGHT
TZOFFSETFROM:-0500
TZOFFSETTO:-0400
TZNAME:EDT
DTSTART:20150308T070000
END:DAYLIGHT
BEGIN:STANDARD
TZOFFSETFROM:-0400
TZOFFSETTO:-0500
TZNAME:EST
DTSTART:20151101T060000
END:STANDARD
BEGIN:DAYLIGHT
TZOFFSETFROM:-0500
TZOFFSETTO:-0400
TZNAME:EDT
DTSTART:20160313T070000
END:DAYLIGHT
BEGIN:STANDARD
TZOFFSETFROM:-0400
TZOFFSETTO:-0500
TZNAME:EST
DTSTART:20161106T060000
END:STANDARD
BEGIN:DAYLIGHT
TZOFFSETFROM:-0500
TZOFFSETTO:-0400
TZNAME:EDT
DTSTART:20170312T070000
END:DAYLIGHT
BEGIN:STANDARD
TZOFFSETFROM:-0400
TZOFFSETTO:-0500
TZNAME:EST
DTSTART:20171105T060000
END:STANDARD
END:VTIMEZONE
BEGIN:VEVENT
DTSTART;TZID=America/New_York:20160903T170000
DTEND;TZID=America/New_York:20160903T220000
DTSTAMP:20260424T113752
CREATED:20160810T205940Z
LAST-MODIFIED:20160810T205940Z
UID:26652-1472922000-1472940000@ftmrockhill.org
SUMMARY:Charlotte Knights Baseball Game
DESCRIPTION:
URL:https://ftmrockhill.org/event/charlotte-knights-baseball-game/
LOCATION:BB&T Ballfield\, 324 S Mint St\, Charlotte\, 28202
GEO:35.2284556;-80.848509
X-APPLE-STRUCTURED-LOCATION;VALUE=URI;X-ADDRESS=BB&T Ballfield 324 S Mint St Charlotte 28202;X-APPLE-RADIUS=500;X-TITLE=324 S Mint St:geo:-80.848509,35.2284556
END:VEVENT
END:VCALENDAR