BEGIN:VCALENDAR
VERSION:2.0
PRODID:-//Freedom Temple Ministries - ECPv6.15.20//NONSGML v1.0//EN
CALSCALE:GREGORIAN
METHOD:PUBLISH
X-WR-CALNAME:Freedom Temple Ministries
X-ORIGINAL-URL:https://ftmrockhill.org
X-WR-CALDESC:Events for Freedom Temple Ministries
REFRESH-INTERVAL;VALUE=DURATION:PT1H
X-Robots-Tag:noindex
X-PUBLISHED-TTL:PT1H
BEGIN:VTIMEZONE
TZID:America/New_York
BEGIN:DAYLIGHT
TZOFFSETFROM:-0500
TZOFFSETTO:-0400
TZNAME:EDT
DTSTART:20230312T070000
END:DAYLIGHT
BEGIN:STANDARD
TZOFFSETFROM:-0400
TZOFFSETTO:-0500
TZNAME:EST
DTSTART:20231105T060000
END:STANDARD
BEGIN:DAYLIGHT
TZOFFSETFROM:-0500
TZOFFSETTO:-0400
TZNAME:EDT
DTSTART:20240310T070000
END:DAYLIGHT
BEGIN:STANDARD
TZOFFSETFROM:-0400
TZOFFSETTO:-0500
TZNAME:EST
DTSTART:20241103T060000
END:STANDARD
BEGIN:DAYLIGHT
TZOFFSETFROM:-0500
TZOFFSETTO:-0400
TZNAME:EDT
DTSTART:20250309T070000
END:DAYLIGHT
BEGIN:STANDARD
TZOFFSETFROM:-0400
TZOFFSETTO:-0500
TZNAME:EST
DTSTART:20251102T060000
END:STANDARD
BEGIN:DAYLIGHT
TZOFFSETFROM:-0500
TZOFFSETTO:-0400
TZNAME:EDT
DTSTART:20260308T070000
END:DAYLIGHT
BEGIN:STANDARD
TZOFFSETFROM:-0400
TZOFFSETTO:-0500
TZNAME:EST
DTSTART:20261101T060000
END:STANDARD
END:VTIMEZONE
BEGIN:VEVENT
DTSTART;TZID=America/New_York:20250224T190000
DTEND;TZID=America/New_York:20250224T210000
DTSTAMP:20260424T213324
CREATED:20160328T161754Z
LAST-MODIFIED:20160328T161754Z
UID:37234-1740423600-1740430800@ftmrockhill.org
SUMMARY:Voices of Freedom / Praise Team Rehearsals
DESCRIPTION:Voices of Freedom / Praise Team Rehearsals\nEvery Monday at 7pm at Freedom Temple Ministries
URL:https://ftmrockhill.org/event/voices-of-freedom-praise-team-rehearsals-2/2025-02-24/
LOCATION:Freedom Temple Ministries\, 215 E. Main Street\, Rock Hill\, SC\, 29730\, United States
END:VEVENT
BEGIN:VEVENT
DTSTART;TZID=America/New_York:20250224T180000
DTEND;TZID=America/New_York:20250224T200000
DTSTAMP:20260424T213324
CREATED:20160317T132653Z
LAST-MODIFIED:20160317T132653Z
UID:37233-1740420000-1740427200@ftmrockhill.org
SUMMARY:Praise Dance Rehearsal
DESCRIPTION:Praise Dance Rehearsal\nEvery Monday at 6pm and Every Saturday at 9am
URL:https://ftmrockhill.org/event/praise-dance-rehearsal/2025-02-24/
LOCATION:Freedom Temple Ministries\, 215 E. Main Street\, Rock Hill\, SC\, 29730\, United States
END:VEVENT
BEGIN:VEVENT
DTSTART;TZID=America/New_York:20250222T090000
DTEND;TZID=America/New_York:20250222T110000
DTSTAMP:20260424T213324
CREATED:20160328T161633Z
LAST-MODIFIED:20160328T161633Z
UID:37232-1740214800-1740222000@ftmrockhill.org
SUMMARY:Praise Dance Rehearsal
DESCRIPTION:Praise Dance Rehearsal\nEvery Monday at 6pm and Every Saturday at 9am
URL:https://ftmrockhill.org/event/praise-dance-rehearsal-3/2025-02-22/
LOCATION:Freedom Temple Ministries\, 215 E. Main Street\, Rock Hill\, SC\, 29730\, United States
END:VEVENT
BEGIN:VEVENT
DTSTART;TZID=America/New_York:20250217T190000
DTEND;TZID=America/New_York:20250217T210000
DTSTAMP:20260424T213324
CREATED:20160328T161754Z
LAST-MODIFIED:20160328T161754Z
UID:37231-1739818800-1739826000@ftmrockhill.org
SUMMARY:Voices of Freedom / Praise Team Rehearsals
DESCRIPTION:Voices of Freedom / Praise Team Rehearsals\nEvery Monday at 7pm at Freedom Temple Ministries
URL:https://ftmrockhill.org/event/voices-of-freedom-praise-team-rehearsals-2/2025-02-17/
LOCATION:Freedom Temple Ministries\, 215 E. Main Street\, Rock Hill\, SC\, 29730\, United States
END:VEVENT
BEGIN:VEVENT
DTSTART;TZID=America/New_York:20250217T180000
DTEND;TZID=America/New_York:20250217T200000
DTSTAMP:20260424T213324
CREATED:20160317T132653Z
LAST-MODIFIED:20160317T132653Z
UID:37230-1739815200-1739822400@ftmrockhill.org
SUMMARY:Praise Dance Rehearsal
DESCRIPTION:Praise Dance Rehearsal\nEvery Monday at 6pm and Every Saturday at 9am
URL:https://ftmrockhill.org/event/praise-dance-rehearsal/2025-02-17/
LOCATION:Freedom Temple Ministries\, 215 E. Main Street\, Rock Hill\, SC\, 29730\, United States
END:VEVENT
BEGIN:VEVENT
DTSTART;TZID=America/New_York:20250215T090000
DTEND;TZID=America/New_York:20250215T110000
DTSTAMP:20260424T213324
CREATED:20160328T161633Z
LAST-MODIFIED:20160328T161633Z
UID:37228-1739610000-1739617200@ftmrockhill.org
SUMMARY:Praise Dance Rehearsal
DESCRIPTION:Praise Dance Rehearsal\nEvery Monday at 6pm and Every Saturday at 9am
URL:https://ftmrockhill.org/event/praise-dance-rehearsal-3/2025-02-15/
LOCATION:Freedom Temple Ministries\, 215 E. Main Street\, Rock Hill\, SC\, 29730\, United States
END:VEVENT
BEGIN:VEVENT
DTSTART;TZID=America/New_York:20250210T190000
DTEND;TZID=America/New_York:20250210T210000
DTSTAMP:20260424T213324
CREATED:20160328T161754Z
LAST-MODIFIED:20160328T161754Z
UID:37227-1739214000-1739221200@ftmrockhill.org
SUMMARY:Voices of Freedom / Praise Team Rehearsals
DESCRIPTION:Voices of Freedom / Praise Team Rehearsals\nEvery Monday at 7pm at Freedom Temple Ministries
URL:https://ftmrockhill.org/event/voices-of-freedom-praise-team-rehearsals-2/2025-02-10/
LOCATION:Freedom Temple Ministries\, 215 E. Main Street\, Rock Hill\, SC\, 29730\, United States
END:VEVENT
BEGIN:VEVENT
DTSTART;TZID=America/New_York:20250210T180000
DTEND;TZID=America/New_York:20250210T200000
DTSTAMP:20260424T213324
CREATED:20160317T132653Z
LAST-MODIFIED:20160317T132653Z
UID:37226-1739210400-1739217600@ftmrockhill.org
SUMMARY:Praise Dance Rehearsal
DESCRIPTION:Praise Dance Rehearsal\nEvery Monday at 6pm and Every Saturday at 9am
URL:https://ftmrockhill.org/event/praise-dance-rehearsal/2025-02-10/
LOCATION:Freedom Temple Ministries\, 215 E. Main Street\, Rock Hill\, SC\, 29730\, United States
END:VEVENT
BEGIN:VEVENT
DTSTART;TZID=America/New_York:20250208T090000
DTEND;TZID=America/New_York:20250208T110000
DTSTAMP:20260424T213324
CREATED:20160328T161633Z
LAST-MODIFIED:20160328T161633Z
UID:37225-1739005200-1739012400@ftmrockhill.org
SUMMARY:Praise Dance Rehearsal
DESCRIPTION:Praise Dance Rehearsal\nEvery Monday at 6pm and Every Saturday at 9am
URL:https://ftmrockhill.org/event/praise-dance-rehearsal-3/2025-02-08/
LOCATION:Freedom Temple Ministries\, 215 E. Main Street\, Rock Hill\, SC\, 29730\, United States
END:VEVENT
BEGIN:VEVENT
DTSTART;TZID=America/New_York:20250203T190000
DTEND;TZID=America/New_York:20250203T210000
DTSTAMP:20260424T213324
CREATED:20160328T161754Z
LAST-MODIFIED:20160328T161754Z
UID:37224-1738609200-1738616400@ftmrockhill.org
SUMMARY:Voices of Freedom / Praise Team Rehearsals
DESCRIPTION:Voices of Freedom / Praise Team Rehearsals\nEvery Monday at 7pm at Freedom Temple Ministries
URL:https://ftmrockhill.org/event/voices-of-freedom-praise-team-rehearsals-2/2025-02-03/
LOCATION:Freedom Temple Ministries\, 215 E. Main Street\, Rock Hill\, SC\, 29730\, United States
END:VEVENT
BEGIN:VEVENT
DTSTART;TZID=America/New_York:20250203T180000
DTEND;TZID=America/New_York:20250203T200000
DTSTAMP:20260424T213324
CREATED:20160317T132653Z
LAST-MODIFIED:20160317T132653Z
UID:37223-1738605600-1738612800@ftmrockhill.org
SUMMARY:Praise Dance Rehearsal
DESCRIPTION:Praise Dance Rehearsal\nEvery Monday at 6pm and Every Saturday at 9am
URL:https://ftmrockhill.org/event/praise-dance-rehearsal/2025-02-03/
LOCATION:Freedom Temple Ministries\, 215 E. Main Street\, Rock Hill\, SC\, 29730\, United States
END:VEVENT
BEGIN:VEVENT
DTSTART;TZID=America/New_York:20250201T090000
DTEND;TZID=America/New_York:20250201T110000
DTSTAMP:20260424T213324
CREATED:20160328T161633Z
LAST-MODIFIED:20160328T161633Z
UID:37222-1738400400-1738407600@ftmrockhill.org
SUMMARY:Praise Dance Rehearsal
DESCRIPTION:Praise Dance Rehearsal\nEvery Monday at 6pm and Every Saturday at 9am
URL:https://ftmrockhill.org/event/praise-dance-rehearsal-3/2025-02-01/
LOCATION:Freedom Temple Ministries\, 215 E. Main Street\, Rock Hill\, SC\, 29730\, United States
END:VEVENT
BEGIN:VEVENT
DTSTART;TZID=America/New_York:20250127T190000
DTEND;TZID=America/New_York:20250127T210000
DTSTAMP:20260424T213324
CREATED:20160328T161754Z
LAST-MODIFIED:20160328T161754Z
UID:37215-1738004400-1738011600@ftmrockhill.org
SUMMARY:Voices of Freedom / Praise Team Rehearsals
DESCRIPTION:Voices of Freedom / Praise Team Rehearsals\nEvery Monday at 7pm at Freedom Temple Ministries
URL:https://ftmrockhill.org/event/voices-of-freedom-praise-team-rehearsals-2/2025-01-27/
LOCATION:Freedom Temple Ministries\, 215 E. Main Street\, Rock Hill\, SC\, 29730\, United States
END:VEVENT
BEGIN:VEVENT
DTSTART;TZID=America/New_York:20250127T180000
DTEND;TZID=America/New_York:20250127T200000
DTSTAMP:20260424T213324
CREATED:20160317T132653Z
LAST-MODIFIED:20160317T132653Z
UID:37214-1738000800-1738008000@ftmrockhill.org
SUMMARY:Praise Dance Rehearsal
DESCRIPTION:Praise Dance Rehearsal\nEvery Monday at 6pm and Every Saturday at 9am
URL:https://ftmrockhill.org/event/praise-dance-rehearsal/2025-01-27/
LOCATION:Freedom Temple Ministries\, 215 E. Main Street\, Rock Hill\, SC\, 29730\, United States
END:VEVENT
BEGIN:VEVENT
DTSTART;TZID=America/New_York:20250125T090000
DTEND;TZID=America/New_York:20250125T110000
DTSTAMP:20260424T213324
CREATED:20160328T161633Z
LAST-MODIFIED:20160328T161633Z
UID:37213-1737795600-1737802800@ftmrockhill.org
SUMMARY:Praise Dance Rehearsal
DESCRIPTION:Praise Dance Rehearsal\nEvery Monday at 6pm and Every Saturday at 9am
URL:https://ftmrockhill.org/event/praise-dance-rehearsal-3/2025-01-25/
LOCATION:Freedom Temple Ministries\, 215 E. Main Street\, Rock Hill\, SC\, 29730\, United States
END:VEVENT
BEGIN:VEVENT
DTSTART;TZID=America/New_York:20250120T190000
DTEND;TZID=America/New_York:20250120T210000
DTSTAMP:20260424T213324
CREATED:20160328T161754Z
LAST-MODIFIED:20160328T161754Z
UID:37206-1737399600-1737406800@ftmrockhill.org
SUMMARY:Voices of Freedom / Praise Team Rehearsals
DESCRIPTION:Voices of Freedom / Praise Team Rehearsals\nEvery Monday at 7pm at Freedom Temple Ministries
URL:https://ftmrockhill.org/event/voices-of-freedom-praise-team-rehearsals-2/2025-01-20/
LOCATION:Freedom Temple Ministries\, 215 E. Main Street\, Rock Hill\, SC\, 29730\, United States
END:VEVENT
BEGIN:VEVENT
DTSTART;TZID=America/New_York:20250120T180000
DTEND;TZID=America/New_York:20250120T200000
DTSTAMP:20260424T213324
CREATED:20160317T132653Z
LAST-MODIFIED:20160317T132653Z
UID:37205-1737396000-1737403200@ftmrockhill.org
SUMMARY:Praise Dance Rehearsal
DESCRIPTION:Praise Dance Rehearsal\nEvery Monday at 6pm and Every Saturday at 9am
URL:https://ftmrockhill.org/event/praise-dance-rehearsal/2025-01-20/
LOCATION:Freedom Temple Ministries\, 215 E. Main Street\, Rock Hill\, SC\, 29730\, United States
END:VEVENT
BEGIN:VEVENT
DTSTART;TZID=America/New_York:20250118T090000
DTEND;TZID=America/New_York:20250118T110000
DTSTAMP:20260424T213324
CREATED:20160328T161633Z
LAST-MODIFIED:20160328T161633Z
UID:37203-1737190800-1737198000@ftmrockhill.org
SUMMARY:Praise Dance Rehearsal
DESCRIPTION:Praise Dance Rehearsal\nEvery Monday at 6pm and Every Saturday at 9am
URL:https://ftmrockhill.org/event/praise-dance-rehearsal-3/2025-01-18/
LOCATION:Freedom Temple Ministries\, 215 E. Main Street\, Rock Hill\, SC\, 29730\, United States
END:VEVENT
BEGIN:VEVENT
DTSTART;TZID=America/New_York:20250113T190000
DTEND;TZID=America/New_York:20250113T210000
DTSTAMP:20260424T213324
CREATED:20160328T161754Z
LAST-MODIFIED:20160328T161754Z
UID:37192-1736794800-1736802000@ftmrockhill.org
SUMMARY:Voices of Freedom / Praise Team Rehearsals
DESCRIPTION:Voices of Freedom / Praise Team Rehearsals\nEvery Monday at 7pm at Freedom Temple Ministries
URL:https://ftmrockhill.org/event/voices-of-freedom-praise-team-rehearsals-2/2025-01-13/
LOCATION:Freedom Temple Ministries\, 215 E. Main Street\, Rock Hill\, SC\, 29730\, United States
END:VEVENT
BEGIN:VEVENT
DTSTART;TZID=America/New_York:20250113T180000
DTEND;TZID=America/New_York:20250113T200000
DTSTAMP:20260424T213324
CREATED:20160317T132653Z
LAST-MODIFIED:20160317T132653Z
UID:37191-1736791200-1736798400@ftmrockhill.org
SUMMARY:Praise Dance Rehearsal
DESCRIPTION:Praise Dance Rehearsal\nEvery Monday at 6pm and Every Saturday at 9am
URL:https://ftmrockhill.org/event/praise-dance-rehearsal/2025-01-13/
LOCATION:Freedom Temple Ministries\, 215 E. Main Street\, Rock Hill\, SC\, 29730\, United States
END:VEVENT
BEGIN:VEVENT
DTSTART;TZID=America/New_York:20250111T090000
DTEND;TZID=America/New_York:20250111T110000
DTSTAMP:20260424T213324
CREATED:20160328T161633Z
LAST-MODIFIED:20160328T161633Z
UID:37190-1736586000-1736593200@ftmrockhill.org
SUMMARY:Praise Dance Rehearsal
DESCRIPTION:Praise Dance Rehearsal\nEvery Monday at 6pm and Every Saturday at 9am
URL:https://ftmrockhill.org/event/praise-dance-rehearsal-3/2025-01-11/
LOCATION:Freedom Temple Ministries\, 215 E. Main Street\, Rock Hill\, SC\, 29730\, United States
END:VEVENT
BEGIN:VEVENT
DTSTART;TZID=America/New_York:20250106T190000
DTEND;TZID=America/New_York:20250106T210000
DTSTAMP:20260424T213324
CREATED:20160328T161754Z
LAST-MODIFIED:20160328T161754Z
UID:37178-1736190000-1736197200@ftmrockhill.org
SUMMARY:Voices of Freedom / Praise Team Rehearsals
DESCRIPTION:Voices of Freedom / Praise Team Rehearsals\nEvery Monday at 7pm at Freedom Temple Ministries
URL:https://ftmrockhill.org/event/voices-of-freedom-praise-team-rehearsals-2/2025-01-06/
LOCATION:Freedom Temple Ministries\, 215 E. Main Street\, Rock Hill\, SC\, 29730\, United States
END:VEVENT
BEGIN:VEVENT
DTSTART;TZID=America/New_York:20250106T180000
DTEND;TZID=America/New_York:20250106T200000
DTSTAMP:20260424T213324
CREATED:20160317T132653Z
LAST-MODIFIED:20160317T132653Z
UID:37177-1736186400-1736193600@ftmrockhill.org
SUMMARY:Praise Dance Rehearsal
DESCRIPTION:Praise Dance Rehearsal\nEvery Monday at 6pm and Every Saturday at 9am
URL:https://ftmrockhill.org/event/praise-dance-rehearsal/2025-01-06/
LOCATION:Freedom Temple Ministries\, 215 E. Main Street\, Rock Hill\, SC\, 29730\, United States
END:VEVENT
BEGIN:VEVENT
DTSTART;TZID=America/New_York:20250104T090000
DTEND;TZID=America/New_York:20250104T110000
DTSTAMP:20260424T213324
CREATED:20160328T161633Z
LAST-MODIFIED:20160328T161633Z
UID:37176-1735981200-1735988400@ftmrockhill.org
SUMMARY:Praise Dance Rehearsal
DESCRIPTION:Praise Dance Rehearsal\nEvery Monday at 6pm and Every Saturday at 9am
URL:https://ftmrockhill.org/event/praise-dance-rehearsal-3/2025-01-04/
LOCATION:Freedom Temple Ministries\, 215 E. Main Street\, Rock Hill\, SC\, 29730\, United States
END:VEVENT
BEGIN:VEVENT
DTSTART;TZID=America/New_York:20241230T190000
DTEND;TZID=America/New_York:20241230T210000
DTSTAMP:20260424T213324
CREATED:20160328T161754Z
LAST-MODIFIED:20160328T161754Z
UID:37175-1735585200-1735592400@ftmrockhill.org
SUMMARY:Voices of Freedom / Praise Team Rehearsals
DESCRIPTION:Voices of Freedom / Praise Team Rehearsals\nEvery Monday at 7pm at Freedom Temple Ministries
URL:https://ftmrockhill.org/event/voices-of-freedom-praise-team-rehearsals-2/2024-12-30/
LOCATION:Freedom Temple Ministries\, 215 E. Main Street\, Rock Hill\, SC\, 29730\, United States
END:VEVENT
BEGIN:VEVENT
DTSTART;TZID=America/New_York:20241230T180000
DTEND;TZID=America/New_York:20241230T200000
DTSTAMP:20260424T213324
CREATED:20160317T132653Z
LAST-MODIFIED:20160317T132653Z
UID:37174-1735581600-1735588800@ftmrockhill.org
SUMMARY:Praise Dance Rehearsal
DESCRIPTION:Praise Dance Rehearsal\nEvery Monday at 6pm and Every Saturday at 9am
URL:https://ftmrockhill.org/event/praise-dance-rehearsal/2024-12-30/
LOCATION:Freedom Temple Ministries\, 215 E. Main Street\, Rock Hill\, SC\, 29730\, United States
END:VEVENT
BEGIN:VEVENT
DTSTART;TZID=America/New_York:20241228T090000
DTEND;TZID=America/New_York:20241228T110000
DTSTAMP:20260424T213324
CREATED:20160328T161633Z
LAST-MODIFIED:20160328T161633Z
UID:37173-1735376400-1735383600@ftmrockhill.org
SUMMARY:Praise Dance Rehearsal
DESCRIPTION:Praise Dance Rehearsal\nEvery Monday at 6pm and Every Saturday at 9am
URL:https://ftmrockhill.org/event/praise-dance-rehearsal-3/2024-12-28/
LOCATION:Freedom Temple Ministries\, 215 E. Main Street\, Rock Hill\, SC\, 29730\, United States
END:VEVENT
BEGIN:VEVENT
DTSTART;TZID=America/New_York:20241223T190000
DTEND;TZID=America/New_York:20241223T210000
DTSTAMP:20260424T213324
CREATED:20160328T161754Z
LAST-MODIFIED:20160328T161754Z
UID:37172-1734980400-1734987600@ftmrockhill.org
SUMMARY:Voices of Freedom / Praise Team Rehearsals
DESCRIPTION:Voices of Freedom / Praise Team Rehearsals\nEvery Monday at 7pm at Freedom Temple Ministries
URL:https://ftmrockhill.org/event/voices-of-freedom-praise-team-rehearsals-2/2024-12-23/
LOCATION:Freedom Temple Ministries\, 215 E. Main Street\, Rock Hill\, SC\, 29730\, United States
END:VEVENT
BEGIN:VEVENT
DTSTART;TZID=America/New_York:20241223T180000
DTEND;TZID=America/New_York:20241223T200000
DTSTAMP:20260424T213324
CREATED:20160317T132653Z
LAST-MODIFIED:20160317T132653Z
UID:37171-1734976800-1734984000@ftmrockhill.org
SUMMARY:Praise Dance Rehearsal
DESCRIPTION:Praise Dance Rehearsal\nEvery Monday at 6pm and Every Saturday at 9am
URL:https://ftmrockhill.org/event/praise-dance-rehearsal/2024-12-23/
LOCATION:Freedom Temple Ministries\, 215 E. Main Street\, Rock Hill\, SC\, 29730\, United States
END:VEVENT
BEGIN:VEVENT
DTSTART;TZID=America/New_York:20241221T090000
DTEND;TZID=America/New_York:20241221T110000
DTSTAMP:20260424T213324
CREATED:20160328T161633Z
LAST-MODIFIED:20160328T161633Z
UID:37170-1734771600-1734778800@ftmrockhill.org
SUMMARY:Praise Dance Rehearsal
DESCRIPTION:Praise Dance Rehearsal\nEvery Monday at 6pm and Every Saturday at 9am
URL:https://ftmrockhill.org/event/praise-dance-rehearsal-3/2024-12-21/
LOCATION:Freedom Temple Ministries\, 215 E. Main Street\, Rock Hill\, SC\, 29730\, United States
END:VEVENT
END:VCALENDAR