BEGIN:VCALENDAR
VERSION:2.0
PRODID:-//Freedom Temple Ministries - ECPv6.15.20//NONSGML v1.0//EN
CALSCALE:GREGORIAN
METHOD:PUBLISH
X-ORIGINAL-URL:https://ftmrockhill.org
X-WR-CALDESC:Events for Freedom Temple Ministries
REFRESH-INTERVAL;VALUE=DURATION:PT1H
X-Robots-Tag:noindex
X-PUBLISHED-TTL:PT1H
BEGIN:VTIMEZONE
TZID:America/New_York
BEGIN:DAYLIGHT
TZOFFSETFROM:-0500
TZOFFSETTO:-0400
TZNAME:EDT
DTSTART:20230312T070000
END:DAYLIGHT
BEGIN:STANDARD
TZOFFSETFROM:-0400
TZOFFSETTO:-0500
TZNAME:EST
DTSTART:20231105T060000
END:STANDARD
BEGIN:DAYLIGHT
TZOFFSETFROM:-0500
TZOFFSETTO:-0400
TZNAME:EDT
DTSTART:20240310T070000
END:DAYLIGHT
BEGIN:STANDARD
TZOFFSETFROM:-0400
TZOFFSETTO:-0500
TZNAME:EST
DTSTART:20241103T060000
END:STANDARD
BEGIN:DAYLIGHT
TZOFFSETFROM:-0500
TZOFFSETTO:-0400
TZNAME:EDT
DTSTART:20250309T070000
END:DAYLIGHT
BEGIN:STANDARD
TZOFFSETFROM:-0400
TZOFFSETTO:-0500
TZNAME:EST
DTSTART:20251102T060000
END:STANDARD
END:VTIMEZONE
BEGIN:VEVENT
DTSTART;TZID=America/New_York:20241007T190000
DTEND;TZID=America/New_York:20241007T210000
DTSTAMP:20260425T075639
CREATED:20160328T161754Z
LAST-MODIFIED:20160328T161754Z
UID:36968-1728327600-1728334800@ftmrockhill.org
SUMMARY:Voices of Freedom / Praise Team Rehearsals
DESCRIPTION:Voices of Freedom / Praise Team Rehearsals\nEvery Monday at 7pm at Freedom Temple Ministries
URL:https://ftmrockhill.org/event/voices-of-freedom-praise-team-rehearsals-2/2024-10-07/
LOCATION:Freedom Temple Ministries\, 215 E. Main Street\, Rock Hill\, SC\, 29730\, United States
END:VEVENT
BEGIN:VEVENT
DTSTART;TZID=America/New_York:20241007T180000
DTEND;TZID=America/New_York:20241007T200000
DTSTAMP:20260425T075639
CREATED:20160317T132653Z
LAST-MODIFIED:20160317T132653Z
UID:36967-1728324000-1728331200@ftmrockhill.org
SUMMARY:Praise Dance Rehearsal
DESCRIPTION:Praise Dance Rehearsal\nEvery Monday at 6pm and Every Saturday at 9am
URL:https://ftmrockhill.org/event/praise-dance-rehearsal/2024-10-07/
LOCATION:Freedom Temple Ministries\, 215 E. Main Street\, Rock Hill\, SC\, 29730\, United States
END:VEVENT
BEGIN:VEVENT
DTSTART;TZID=America/New_York:20241005T090000
DTEND;TZID=America/New_York:20241005T110000
DTSTAMP:20260425T075639
CREATED:20160328T161633Z
LAST-MODIFIED:20160328T161633Z
UID:36966-1728118800-1728126000@ftmrockhill.org
SUMMARY:Praise Dance Rehearsal
DESCRIPTION:Praise Dance Rehearsal\nEvery Monday at 6pm and Every Saturday at 9am
URL:https://ftmrockhill.org/event/praise-dance-rehearsal-3/2024-10-05/
LOCATION:Freedom Temple Ministries\, 215 E. Main Street\, Rock Hill\, SC\, 29730\, United States
END:VEVENT
BEGIN:VEVENT
DTSTART;TZID=America/New_York:20240930T190000
DTEND;TZID=America/New_York:20240930T210000
DTSTAMP:20260425T075639
CREATED:20160328T161754Z
LAST-MODIFIED:20160328T161754Z
UID:36962-1727722800-1727730000@ftmrockhill.org
SUMMARY:Voices of Freedom / Praise Team Rehearsals
DESCRIPTION:Voices of Freedom / Praise Team Rehearsals\nEvery Monday at 7pm at Freedom Temple Ministries
URL:https://ftmrockhill.org/event/voices-of-freedom-praise-team-rehearsals-2/2024-09-30/
LOCATION:Freedom Temple Ministries\, 215 E. Main Street\, Rock Hill\, SC\, 29730\, United States
END:VEVENT
BEGIN:VEVENT
DTSTART;TZID=America/New_York:20240930T180000
DTEND;TZID=America/New_York:20240930T200000
DTSTAMP:20260425T075639
CREATED:20160317T132653Z
LAST-MODIFIED:20160317T132653Z
UID:36961-1727719200-1727726400@ftmrockhill.org
SUMMARY:Praise Dance Rehearsal
DESCRIPTION:Praise Dance Rehearsal\nEvery Monday at 6pm and Every Saturday at 9am
URL:https://ftmrockhill.org/event/praise-dance-rehearsal/2024-09-30/
LOCATION:Freedom Temple Ministries\, 215 E. Main Street\, Rock Hill\, SC\, 29730\, United States
END:VEVENT
BEGIN:VEVENT
DTSTART;TZID=America/New_York:20240928T090000
DTEND;TZID=America/New_York:20240928T110000
DTSTAMP:20260425T075639
CREATED:20160328T161633Z
LAST-MODIFIED:20160328T161633Z
UID:36960-1727514000-1727521200@ftmrockhill.org
SUMMARY:Praise Dance Rehearsal
DESCRIPTION:Praise Dance Rehearsal\nEvery Monday at 6pm and Every Saturday at 9am
URL:https://ftmrockhill.org/event/praise-dance-rehearsal-3/2024-09-28/
LOCATION:Freedom Temple Ministries\, 215 E. Main Street\, Rock Hill\, SC\, 29730\, United States
END:VEVENT
BEGIN:VEVENT
DTSTART;TZID=America/New_York:20240923T190000
DTEND;TZID=America/New_York:20240923T210000
DTSTAMP:20260425T075639
CREATED:20160328T161754Z
LAST-MODIFIED:20160328T161754Z
UID:36959-1727118000-1727125200@ftmrockhill.org
SUMMARY:Voices of Freedom / Praise Team Rehearsals
DESCRIPTION:Voices of Freedom / Praise Team Rehearsals\nEvery Monday at 7pm at Freedom Temple Ministries
URL:https://ftmrockhill.org/event/voices-of-freedom-praise-team-rehearsals-2/2024-09-23/
LOCATION:Freedom Temple Ministries\, 215 E. Main Street\, Rock Hill\, SC\, 29730\, United States
END:VEVENT
BEGIN:VEVENT
DTSTART;TZID=America/New_York:20240923T180000
DTEND;TZID=America/New_York:20240923T200000
DTSTAMP:20260425T075639
CREATED:20160317T132653Z
LAST-MODIFIED:20160317T132653Z
UID:36958-1727114400-1727121600@ftmrockhill.org
SUMMARY:Praise Dance Rehearsal
DESCRIPTION:Praise Dance Rehearsal\nEvery Monday at 6pm and Every Saturday at 9am
URL:https://ftmrockhill.org/event/praise-dance-rehearsal/2024-09-23/
LOCATION:Freedom Temple Ministries\, 215 E. Main Street\, Rock Hill\, SC\, 29730\, United States
END:VEVENT
BEGIN:VEVENT
DTSTART;TZID=America/New_York:20240921T090000
DTEND;TZID=America/New_York:20240921T110000
DTSTAMP:20260425T075639
CREATED:20160328T161633Z
LAST-MODIFIED:20160328T161633Z
UID:36957-1726909200-1726916400@ftmrockhill.org
SUMMARY:Praise Dance Rehearsal
DESCRIPTION:Praise Dance Rehearsal\nEvery Monday at 6pm and Every Saturday at 9am
URL:https://ftmrockhill.org/event/praise-dance-rehearsal-3/2024-09-21/
LOCATION:Freedom Temple Ministries\, 215 E. Main Street\, Rock Hill\, SC\, 29730\, United States
END:VEVENT
BEGIN:VEVENT
DTSTART;TZID=America/New_York:20240916T190000
DTEND;TZID=America/New_York:20240916T210000
DTSTAMP:20260425T075639
CREATED:20160328T161754Z
LAST-MODIFIED:20160328T161754Z
UID:36956-1726513200-1726520400@ftmrockhill.org
SUMMARY:Voices of Freedom / Praise Team Rehearsals
DESCRIPTION:Voices of Freedom / Praise Team Rehearsals\nEvery Monday at 7pm at Freedom Temple Ministries
URL:https://ftmrockhill.org/event/voices-of-freedom-praise-team-rehearsals-2/2024-09-16/
LOCATION:Freedom Temple Ministries\, 215 E. Main Street\, Rock Hill\, SC\, 29730\, United States
END:VEVENT
BEGIN:VEVENT
DTSTART;TZID=America/New_York:20240916T180000
DTEND;TZID=America/New_York:20240916T200000
DTSTAMP:20260425T075639
CREATED:20160317T132653Z
LAST-MODIFIED:20160317T132653Z
UID:36955-1726509600-1726516800@ftmrockhill.org
SUMMARY:Praise Dance Rehearsal
DESCRIPTION:Praise Dance Rehearsal\nEvery Monday at 6pm and Every Saturday at 9am
URL:https://ftmrockhill.org/event/praise-dance-rehearsal/2024-09-16/
LOCATION:Freedom Temple Ministries\, 215 E. Main Street\, Rock Hill\, SC\, 29730\, United States
END:VEVENT
BEGIN:VEVENT
DTSTART;TZID=America/New_York:20240914T090000
DTEND;TZID=America/New_York:20240914T110000
DTSTAMP:20260425T075639
CREATED:20160328T161633Z
LAST-MODIFIED:20160328T161633Z
UID:36953-1726304400-1726311600@ftmrockhill.org
SUMMARY:Praise Dance Rehearsal
DESCRIPTION:Praise Dance Rehearsal\nEvery Monday at 6pm and Every Saturday at 9am
URL:https://ftmrockhill.org/event/praise-dance-rehearsal-3/2024-09-14/
LOCATION:Freedom Temple Ministries\, 215 E. Main Street\, Rock Hill\, SC\, 29730\, United States
END:VEVENT
BEGIN:VEVENT
DTSTART;TZID=America/New_York:20240909T190000
DTEND;TZID=America/New_York:20240909T210000
DTSTAMP:20260425T075639
CREATED:20160328T161754Z
LAST-MODIFIED:20160328T161754Z
UID:36951-1725908400-1725915600@ftmrockhill.org
SUMMARY:Voices of Freedom / Praise Team Rehearsals
DESCRIPTION:Voices of Freedom / Praise Team Rehearsals\nEvery Monday at 7pm at Freedom Temple Ministries
URL:https://ftmrockhill.org/event/voices-of-freedom-praise-team-rehearsals-2/2024-09-09/
LOCATION:Freedom Temple Ministries\, 215 E. Main Street\, Rock Hill\, SC\, 29730\, United States
END:VEVENT
BEGIN:VEVENT
DTSTART;TZID=America/New_York:20240909T180000
DTEND;TZID=America/New_York:20240909T200000
DTSTAMP:20260425T075639
CREATED:20160317T132653Z
LAST-MODIFIED:20160317T132653Z
UID:36950-1725904800-1725912000@ftmrockhill.org
SUMMARY:Praise Dance Rehearsal
DESCRIPTION:Praise Dance Rehearsal\nEvery Monday at 6pm and Every Saturday at 9am
URL:https://ftmrockhill.org/event/praise-dance-rehearsal/2024-09-09/
LOCATION:Freedom Temple Ministries\, 215 E. Main Street\, Rock Hill\, SC\, 29730\, United States
END:VEVENT
BEGIN:VEVENT
DTSTART;TZID=America/New_York:20240907T090000
DTEND;TZID=America/New_York:20240907T110000
DTSTAMP:20260425T075639
CREATED:20160328T161633Z
LAST-MODIFIED:20160328T161633Z
UID:36945-1725699600-1725706800@ftmrockhill.org
SUMMARY:Praise Dance Rehearsal
DESCRIPTION:Praise Dance Rehearsal\nEvery Monday at 6pm and Every Saturday at 9am
URL:https://ftmrockhill.org/event/praise-dance-rehearsal-3/2024-09-07/
LOCATION:Freedom Temple Ministries\, 215 E. Main Street\, Rock Hill\, SC\, 29730\, United States
END:VEVENT
BEGIN:VEVENT
DTSTART;TZID=America/New_York:20240902T190000
DTEND;TZID=America/New_York:20240902T210000
DTSTAMP:20260425T075639
CREATED:20160328T161754Z
LAST-MODIFIED:20160328T161754Z
UID:36944-1725303600-1725310800@ftmrockhill.org
SUMMARY:Voices of Freedom / Praise Team Rehearsals
DESCRIPTION:Voices of Freedom / Praise Team Rehearsals\nEvery Monday at 7pm at Freedom Temple Ministries
URL:https://ftmrockhill.org/event/voices-of-freedom-praise-team-rehearsals-2/2024-09-02/
LOCATION:Freedom Temple Ministries\, 215 E. Main Street\, Rock Hill\, SC\, 29730\, United States
END:VEVENT
BEGIN:VEVENT
DTSTART;TZID=America/New_York:20240902T180000
DTEND;TZID=America/New_York:20240902T200000
DTSTAMP:20260425T075639
CREATED:20160317T132653Z
LAST-MODIFIED:20160317T132653Z
UID:36943-1725300000-1725307200@ftmrockhill.org
SUMMARY:Praise Dance Rehearsal
DESCRIPTION:Praise Dance Rehearsal\nEvery Monday at 6pm and Every Saturday at 9am
URL:https://ftmrockhill.org/event/praise-dance-rehearsal/2024-09-02/
LOCATION:Freedom Temple Ministries\, 215 E. Main Street\, Rock Hill\, SC\, 29730\, United States
END:VEVENT
BEGIN:VEVENT
DTSTART;TZID=America/New_York:20240831T090000
DTEND;TZID=America/New_York:20240831T110000
DTSTAMP:20260425T075639
CREATED:20160328T161633Z
LAST-MODIFIED:20160328T161633Z
UID:36905-1725094800-1725102000@ftmrockhill.org
SUMMARY:Praise Dance Rehearsal
DESCRIPTION:Praise Dance Rehearsal\nEvery Monday at 6pm and Every Saturday at 9am
URL:https://ftmrockhill.org/event/praise-dance-rehearsal-3/2024-08-31/
LOCATION:Freedom Temple Ministries\, 215 E. Main Street\, Rock Hill\, SC\, 29730\, United States
END:VEVENT
BEGIN:VEVENT
DTSTART;TZID=America/New_York:20240826T190000
DTEND;TZID=America/New_York:20240826T210000
DTSTAMP:20260425T075639
CREATED:20160328T161754Z
LAST-MODIFIED:20160328T161754Z
UID:36826-1724698800-1724706000@ftmrockhill.org
SUMMARY:Voices of Freedom / Praise Team Rehearsals
DESCRIPTION:Voices of Freedom / Praise Team Rehearsals\nEvery Monday at 7pm at Freedom Temple Ministries
URL:https://ftmrockhill.org/event/voices-of-freedom-praise-team-rehearsals-2/2024-08-26/
LOCATION:Freedom Temple Ministries\, 215 E. Main Street\, Rock Hill\, SC\, 29730\, United States
END:VEVENT
BEGIN:VEVENT
DTSTART;TZID=America/New_York:20240826T180000
DTEND;TZID=America/New_York:20240826T200000
DTSTAMP:20260425T075639
CREATED:20160317T132653Z
LAST-MODIFIED:20160317T132653Z
UID:36825-1724695200-1724702400@ftmrockhill.org
SUMMARY:Praise Dance Rehearsal
DESCRIPTION:Praise Dance Rehearsal\nEvery Monday at 6pm and Every Saturday at 9am
URL:https://ftmrockhill.org/event/praise-dance-rehearsal/2024-08-26/
LOCATION:Freedom Temple Ministries\, 215 E. Main Street\, Rock Hill\, SC\, 29730\, United States
END:VEVENT
BEGIN:VEVENT
DTSTART;TZID=America/New_York:20240824T090000
DTEND;TZID=America/New_York:20240824T110000
DTSTAMP:20260425T075639
CREATED:20160328T161633Z
LAST-MODIFIED:20160328T161633Z
UID:36824-1724490000-1724497200@ftmrockhill.org
SUMMARY:Praise Dance Rehearsal
DESCRIPTION:Praise Dance Rehearsal\nEvery Monday at 6pm and Every Saturday at 9am
URL:https://ftmrockhill.org/event/praise-dance-rehearsal-3/2024-08-24/
LOCATION:Freedom Temple Ministries\, 215 E. Main Street\, Rock Hill\, SC\, 29730\, United States
END:VEVENT
BEGIN:VEVENT
DTSTART;TZID=America/New_York:20240819T190000
DTEND;TZID=America/New_York:20240819T210000
DTSTAMP:20260425T075639
CREATED:20160328T161754Z
LAST-MODIFIED:20160328T161754Z
UID:36823-1724094000-1724101200@ftmrockhill.org
SUMMARY:Voices of Freedom / Praise Team Rehearsals
DESCRIPTION:Voices of Freedom / Praise Team Rehearsals\nEvery Monday at 7pm at Freedom Temple Ministries
URL:https://ftmrockhill.org/event/voices-of-freedom-praise-team-rehearsals-2/2024-08-19/
LOCATION:Freedom Temple Ministries\, 215 E. Main Street\, Rock Hill\, SC\, 29730\, United States
END:VEVENT
BEGIN:VEVENT
DTSTART;TZID=America/New_York:20240819T180000
DTEND;TZID=America/New_York:20240819T200000
DTSTAMP:20260425T075639
CREATED:20160317T132653Z
LAST-MODIFIED:20160317T132653Z
UID:36822-1724090400-1724097600@ftmrockhill.org
SUMMARY:Praise Dance Rehearsal
DESCRIPTION:Praise Dance Rehearsal\nEvery Monday at 6pm and Every Saturday at 9am
URL:https://ftmrockhill.org/event/praise-dance-rehearsal/2024-08-19/
LOCATION:Freedom Temple Ministries\, 215 E. Main Street\, Rock Hill\, SC\, 29730\, United States
END:VEVENT
BEGIN:VEVENT
DTSTART;TZID=America/New_York:20240817T090000
DTEND;TZID=America/New_York:20240817T110000
DTSTAMP:20260425T075639
CREATED:20160328T161633Z
LAST-MODIFIED:20160328T161633Z
UID:36820-1723885200-1723892400@ftmrockhill.org
SUMMARY:Praise Dance Rehearsal
DESCRIPTION:Praise Dance Rehearsal\nEvery Monday at 6pm and Every Saturday at 9am
URL:https://ftmrockhill.org/event/praise-dance-rehearsal-3/2024-08-17/
LOCATION:Freedom Temple Ministries\, 215 E. Main Street\, Rock Hill\, SC\, 29730\, United States
END:VEVENT
BEGIN:VEVENT
DTSTART;TZID=America/New_York:20240812T190000
DTEND;TZID=America/New_York:20240812T210000
DTSTAMP:20260425T075639
CREATED:20160328T161754Z
LAST-MODIFIED:20160328T161754Z
UID:36786-1723489200-1723496400@ftmrockhill.org
SUMMARY:Voices of Freedom / Praise Team Rehearsals
DESCRIPTION:Voices of Freedom / Praise Team Rehearsals\nEvery Monday at 7pm at Freedom Temple Ministries
URL:https://ftmrockhill.org/event/voices-of-freedom-praise-team-rehearsals-2/2024-08-12/
LOCATION:Freedom Temple Ministries\, 215 E. Main Street\, Rock Hill\, SC\, 29730\, United States
END:VEVENT
BEGIN:VEVENT
DTSTART;TZID=America/New_York:20240812T180000
DTEND;TZID=America/New_York:20240812T200000
DTSTAMP:20260425T075639
CREATED:20160317T132653Z
LAST-MODIFIED:20160317T132653Z
UID:36785-1723485600-1723492800@ftmrockhill.org
SUMMARY:Praise Dance Rehearsal
DESCRIPTION:Praise Dance Rehearsal\nEvery Monday at 6pm and Every Saturday at 9am
URL:https://ftmrockhill.org/event/praise-dance-rehearsal/2024-08-12/
LOCATION:Freedom Temple Ministries\, 215 E. Main Street\, Rock Hill\, SC\, 29730\, United States
END:VEVENT
BEGIN:VEVENT
DTSTART;TZID=America/New_York:20240810T090000
DTEND;TZID=America/New_York:20240810T110000
DTSTAMP:20260425T075639
CREATED:20160328T161633Z
LAST-MODIFIED:20160328T161633Z
UID:36784-1723280400-1723287600@ftmrockhill.org
SUMMARY:Praise Dance Rehearsal
DESCRIPTION:Praise Dance Rehearsal\nEvery Monday at 6pm and Every Saturday at 9am
URL:https://ftmrockhill.org/event/praise-dance-rehearsal-3/2024-08-10/
LOCATION:Freedom Temple Ministries\, 215 E. Main Street\, Rock Hill\, SC\, 29730\, United States
END:VEVENT
BEGIN:VEVENT
DTSTART;TZID=America/New_York:20240805T190000
DTEND;TZID=America/New_York:20240805T210000
DTSTAMP:20260425T075639
CREATED:20160328T161754Z
LAST-MODIFIED:20160328T161754Z
UID:36783-1722884400-1722891600@ftmrockhill.org
SUMMARY:Voices of Freedom / Praise Team Rehearsals
DESCRIPTION:Voices of Freedom / Praise Team Rehearsals\nEvery Monday at 7pm at Freedom Temple Ministries
URL:https://ftmrockhill.org/event/voices-of-freedom-praise-team-rehearsals-2/2024-08-05/
LOCATION:Freedom Temple Ministries\, 215 E. Main Street\, Rock Hill\, SC\, 29730\, United States
END:VEVENT
BEGIN:VEVENT
DTSTART;TZID=America/New_York:20240805T180000
DTEND;TZID=America/New_York:20240805T200000
DTSTAMP:20260425T075639
CREATED:20160317T132653Z
LAST-MODIFIED:20160317T132653Z
UID:36782-1722880800-1722888000@ftmrockhill.org
SUMMARY:Praise Dance Rehearsal
DESCRIPTION:Praise Dance Rehearsal\nEvery Monday at 6pm and Every Saturday at 9am
URL:https://ftmrockhill.org/event/praise-dance-rehearsal/2024-08-05/
LOCATION:Freedom Temple Ministries\, 215 E. Main Street\, Rock Hill\, SC\, 29730\, United States
END:VEVENT
BEGIN:VEVENT
DTSTART;TZID=America/New_York:20240803T090000
DTEND;TZID=America/New_York:20240803T110000
DTSTAMP:20260425T075639
CREATED:20160328T161633Z
LAST-MODIFIED:20160328T161633Z
UID:36781-1722675600-1722682800@ftmrockhill.org
SUMMARY:Praise Dance Rehearsal
DESCRIPTION:Praise Dance Rehearsal\nEvery Monday at 6pm and Every Saturday at 9am
URL:https://ftmrockhill.org/event/praise-dance-rehearsal-3/2024-08-03/
LOCATION:Freedom Temple Ministries\, 215 E. Main Street\, Rock Hill\, SC\, 29730\, United States
END:VEVENT
END:VCALENDAR