BEGIN:VCALENDAR
VERSION:2.0
PRODID:-//Freedom Temple Ministries - ECPv6.15.20//NONSGML v1.0//EN
CALSCALE:GREGORIAN
METHOD:PUBLISH
X-WR-CALNAME:Freedom Temple Ministries
X-ORIGINAL-URL:https://ftmrockhill.org
X-WR-CALDESC:Events for Freedom Temple Ministries
REFRESH-INTERVAL;VALUE=DURATION:PT1H
X-Robots-Tag:noindex
X-PUBLISHED-TTL:PT1H
BEGIN:VTIMEZONE
TZID:America/New_York
BEGIN:DAYLIGHT
TZOFFSETFROM:-0500
TZOFFSETTO:-0400
TZNAME:EDT
DTSTART:20150308T070000
END:DAYLIGHT
BEGIN:STANDARD
TZOFFSETFROM:-0400
TZOFFSETTO:-0500
TZNAME:EST
DTSTART:20151101T060000
END:STANDARD
BEGIN:DAYLIGHT
TZOFFSETFROM:-0500
TZOFFSETTO:-0400
TZNAME:EDT
DTSTART:20160313T070000
END:DAYLIGHT
BEGIN:STANDARD
TZOFFSETFROM:-0400
TZOFFSETTO:-0500
TZNAME:EST
DTSTART:20161106T060000
END:STANDARD
BEGIN:DAYLIGHT
TZOFFSETFROM:-0500
TZOFFSETTO:-0400
TZNAME:EDT
DTSTART:20170312T070000
END:DAYLIGHT
BEGIN:STANDARD
TZOFFSETFROM:-0400
TZOFFSETTO:-0500
TZNAME:EST
DTSTART:20171105T060000
END:STANDARD
BEGIN:DAYLIGHT
TZOFFSETFROM:-0500
TZOFFSETTO:-0400
TZNAME:EDT
DTSTART:20180311T070000
END:DAYLIGHT
BEGIN:STANDARD
TZOFFSETFROM:-0400
TZOFFSETTO:-0500
TZNAME:EST
DTSTART:20181104T060000
END:STANDARD
BEGIN:DAYLIGHT
TZOFFSETFROM:-0500
TZOFFSETTO:-0400
TZNAME:EDT
DTSTART:20190310T070000
END:DAYLIGHT
BEGIN:STANDARD
TZOFFSETFROM:-0400
TZOFFSETTO:-0500
TZNAME:EST
DTSTART:20191103T060000
END:STANDARD
BEGIN:DAYLIGHT
TZOFFSETFROM:-0500
TZOFFSETTO:-0400
TZNAME:EDT
DTSTART:20200308T070000
END:DAYLIGHT
BEGIN:STANDARD
TZOFFSETFROM:-0400
TZOFFSETTO:-0500
TZNAME:EST
DTSTART:20201101T060000
END:STANDARD
BEGIN:DAYLIGHT
TZOFFSETFROM:-0500
TZOFFSETTO:-0400
TZNAME:EDT
DTSTART:20210314T070000
END:DAYLIGHT
BEGIN:STANDARD
TZOFFSETFROM:-0400
TZOFFSETTO:-0500
TZNAME:EST
DTSTART:20211107T060000
END:STANDARD
BEGIN:DAYLIGHT
TZOFFSETFROM:-0500
TZOFFSETTO:-0400
TZNAME:EDT
DTSTART:20220313T070000
END:DAYLIGHT
BEGIN:STANDARD
TZOFFSETFROM:-0400
TZOFFSETTO:-0500
TZNAME:EST
DTSTART:20221106T060000
END:STANDARD
BEGIN:DAYLIGHT
TZOFFSETFROM:-0500
TZOFFSETTO:-0400
TZNAME:EDT
DTSTART:20230312T070000
END:DAYLIGHT
BEGIN:STANDARD
TZOFFSETFROM:-0400
TZOFFSETTO:-0500
TZNAME:EST
DTSTART:20231105T060000
END:STANDARD
BEGIN:DAYLIGHT
TZOFFSETFROM:-0500
TZOFFSETTO:-0400
TZNAME:EDT
DTSTART:20240310T070000
END:DAYLIGHT
BEGIN:STANDARD
TZOFFSETFROM:-0400
TZOFFSETTO:-0500
TZNAME:EST
DTSTART:20241103T060000
END:STANDARD
BEGIN:DAYLIGHT
TZOFFSETFROM:-0500
TZOFFSETTO:-0400
TZNAME:EDT
DTSTART:20250309T070000
END:DAYLIGHT
BEGIN:STANDARD
TZOFFSETFROM:-0400
TZOFFSETTO:-0500
TZNAME:EST
DTSTART:20251102T060000
END:STANDARD
END:VTIMEZONE
BEGIN:VEVENT
DTSTART;TZID=America/New_York:20240429T190000
DTEND;TZID=America/New_York:20240429T210000
DTSTAMP:20260425T201305
CREATED:20160328T161754Z
LAST-MODIFIED:20160328T161754Z
UID:36350-1714417200-1714424400@ftmrockhill.org
SUMMARY:Voices of Freedom / Praise Team Rehearsals
DESCRIPTION:Voices of Freedom / Praise Team Rehearsals\nEvery Monday at 7pm at Freedom Temple Ministries
URL:https://ftmrockhill.org/event/voices-of-freedom-praise-team-rehearsals-2/2024-04-29/
LOCATION:Freedom Temple Ministries\, 215 E. Main Street\, Rock Hill\, SC\, 29730\, United States
END:VEVENT
BEGIN:VEVENT
DTSTART;TZID=America/New_York:20240429T180000
DTEND;TZID=America/New_York:20240429T200000
DTSTAMP:20260425T201305
CREATED:20160317T132653Z
LAST-MODIFIED:20160317T132653Z
UID:36349-1714413600-1714420800@ftmrockhill.org
SUMMARY:Praise Dance Rehearsal
DESCRIPTION:Praise Dance Rehearsal\nEvery Monday at 6pm and Every Saturday at 9am
URL:https://ftmrockhill.org/event/praise-dance-rehearsal/2024-04-29/
LOCATION:Freedom Temple Ministries\, 215 E. Main Street\, Rock Hill\, SC\, 29730\, United States
END:VEVENT
BEGIN:VEVENT
DTSTART;TZID=America/New_York:20240427T090000
DTEND;TZID=America/New_York:20240427T110000
DTSTAMP:20260425T201305
CREATED:20160328T161633Z
LAST-MODIFIED:20160328T161633Z
UID:36348-1714208400-1714215600@ftmrockhill.org
SUMMARY:Praise Dance Rehearsal
DESCRIPTION:Praise Dance Rehearsal\nEvery Monday at 6pm and Every Saturday at 9am
URL:https://ftmrockhill.org/event/praise-dance-rehearsal-3/2024-04-27/
LOCATION:Freedom Temple Ministries\, 215 E. Main Street\, Rock Hill\, SC\, 29730\, United States
END:VEVENT
BEGIN:VEVENT
DTSTART;TZID=America/New_York:20161225T100000
DTEND;TZID=America/New_York:20161225T120000
DTSTAMP:20260425T201305
CREATED:20160328T153628Z
LAST-MODIFIED:20160328T153628Z
UID:25502-1482660000-1482667200@ftmrockhill.org
SUMMARY:Christmas Celebration Joint Service
DESCRIPTION:Christmas Celebration Joint Service\n10:00am at Freedom Temple Ministries
URL:https://ftmrockhill.org/event/christmas-celebration-joint-service/
LOCATION:Freedom Temple Ministries\, 215 E. Main Street\, Rock Hill\, SC\, 29730\, United States
END:VEVENT
BEGIN:VEVENT
DTSTART;TZID=America/New_York:20161123T193000
DTEND;TZID=America/New_York:20161123T210000
DTSTAMP:20260425T201305
CREATED:20160328T153519Z
LAST-MODIFIED:20161024T203605Z
UID:25501-1479929400-1479934800@ftmrockhill.org
SUMMARY:Pre Thanksgiving Service
DESCRIPTION:Pre Thanksgiving Service\n7:30pm at Freedom Temple Ministries
URL:https://ftmrockhill.org/event/pre-thanksgiving-service/
LOCATION:Freedom Temple Ministries\, 215 E. Main Street\, Rock Hill\, SC\, 29730\, United States
END:VEVENT
BEGIN:VEVENT
DTSTART;TZID=America/New_York:20161009T080000
DTEND;TZID=America/New_York:20161009T113000
DTSTAMP:20260425T201305
CREATED:20160328T153242Z
LAST-MODIFIED:20160328T153242Z
UID:25499-1476000000-1476012600@ftmrockhill.org
SUMMARY:Freedom's 16th Anniversary Celebration
DESCRIPTION:Freedom’s 16th Anniversary Celebration\n8am and 10am at Freedom Temple Ministries
URL:https://ftmrockhill.org/event/freedoms-16th-anniversary-celebration/
LOCATION:Freedom Temple Ministries\, 215 E. Main Street\, Rock Hill\, SC\, 29730\, United States
END:VEVENT
BEGIN:VEVENT
DTSTART;TZID=America/New_York:20160914T190000
DTEND;TZID=America/New_York:20160914T210000
DTSTAMP:20260425T201305
CREATED:20160317T134031Z
LAST-MODIFIED:20160810T211414Z
UID:25361-1473879600-1473886800@ftmrockhill.org
SUMMARY:Worship & Word
DESCRIPTION:
URL:https://ftmrockhill.org/event/worship-word-2016-09-14/
LOCATION:Freedom Temple Ministries\, 215 E. Main Street\, Rock Hill\, SC\, 29730\, United States
END:VEVENT
BEGIN:VEVENT
DTSTART;TZID=America/New_York:20160911T080000
DTEND;TZID=America/New_York:20160911T113000
DTSTAMP:20260425T201305
CREATED:20160328T152945Z
LAST-MODIFIED:20160812T132218Z
UID:25495-1473580800-1473593400@ftmrockhill.org
SUMMARY:Men's Day
DESCRIPTION:Men’s Day\n8am and 10am at Freedom Temple Ministries
URL:https://ftmrockhill.org/event/mens-day/
LOCATION:Freedom Temple Ministries\, 215 E. Main Street\, Rock Hill\, SC\, 29730\, United States
END:VEVENT
BEGIN:VEVENT
DTSTART;TZID=America/New_York:20160613T073000
DTEND;TZID=America/New_York:20160613T180000
DTSTAMP:20260425T201305
CREATED:20160328T135652Z
LAST-MODIFIED:20160328T155455Z
UID:25476-1465803000-1465840800@ftmrockhill.org
SUMMARY:Summer Camp
DESCRIPTION:Summer Camp\n7:30am – 6:00pm at Freedom Temple Ministries
URL:https://ftmrockhill.org/event/first-day-of-summer-camp/2016-06-13/
LOCATION:Freedom Temple Ministries\, 215 E. Main Street\, Rock Hill\, SC\, 29730\, United States
END:VEVENT
BEGIN:VEVENT
DTSTART;TZID=America/New_York:20160608T090000
DTEND;TZID=America/New_York:20160608T170000
DTSTAMP:20260425T201305
CREATED:20160325T204254Z
LAST-MODIFIED:20160328T160235Z
UID:25467-1465376400-1465405200@ftmrockhill.org
SUMMARY:Second Harvest Food Serve Day
DESCRIPTION:Second Harvest Food Serve Day\n9:00am at the Freedom Gymnasium / Parking Lot\n Mobile Pantry with TEFAP Template
URL:https://ftmrockhill.org/event/second-harvest-food-serve-day/
LOCATION:Freedom Temple Ministries\, 215 E. Main Street\, Rock Hill\, SC\, 29730\, United States
END:VEVENT
BEGIN:VEVENT
DTSTART;TZID=America/New_York:20160521T100000
DTEND;TZID=America/New_York:20160521T120000
DTSTAMP:20260425T201305
CREATED:20160325T202037Z
LAST-MODIFIED:20160325T202037Z
UID:25460-1463824800-1463832000@ftmrockhill.org
SUMMARY:Volunteer Meeting for Second Harvest Food Bank
DESCRIPTION:Volunteer Meeting for Second Harvest Food Bank\n10am at Freedom Cafe
URL:https://ftmrockhill.org/event/volunteer-meeting-for-second-harvest-food-bank/
LOCATION:Freedom Cafe\, 215 E Main St.\, Rock Hill\, 29730
GEO:34.9252736;-81.0251487
X-APPLE-STRUCTURED-LOCATION;VALUE=URI;X-ADDRESS=Freedom Cafe 215 E Main St. Rock Hill 29730;X-APPLE-RADIUS=500;X-TITLE=215 E Main St.:geo:-81.0251487,34.9252736
END:VEVENT
BEGIN:VEVENT
DTSTART;TZID=America/New_York:20160515T080000
DTEND;TZID=America/New_York:20160515T120000
DTSTAMP:20260425T201305
CREATED:20160325T201538Z
LAST-MODIFIED:20160503T205410Z
UID:25459-1463299200-1463313600@ftmrockhill.org
SUMMARY:Women's Day
DESCRIPTION:Women’s Day\n8am and 10am at Freedom Temple Ministries\n  \nBeauty for Ashes…..The TransforMEtion Continues \nWomen are asked to wear any combination of green and white to celebrate renewal.
URL:https://ftmrockhill.org/event/womens-day/
LOCATION:Freedom Temple Ministries\, 215 E. Main Street\, Rock Hill\, SC\, 29730\, United States
END:VEVENT
BEGIN:VEVENT
DTSTART;TZID=America/New_York:20160430T090000
DTEND;TZID=America/New_York:20160430T110000
DTSTAMP:20260425T201305
CREATED:20160325T200737Z
LAST-MODIFIED:20160325T200737Z
UID:25455-1462006800-1462014000@ftmrockhill.org
SUMMARY:Celebration Jam / Project Connect
DESCRIPTION:Celebration Jam / Project Connect\n9:00am at Emmett Scott Community Center
URL:https://ftmrockhill.org/event/celebration-jam-project-connect/
LOCATION:Emmett Scott Community Center\, 801 Crawford Rd.\, Rock Hill\, SC\, 29730\, United States
GEO:34.9178316;-81.037754
X-APPLE-STRUCTURED-LOCATION;VALUE=URI;X-ADDRESS=Emmett Scott Community Center 801 Crawford Rd. Rock Hill SC 29730 United States;X-APPLE-RADIUS=500;X-TITLE=801 Crawford Rd.:geo:-81.037754,34.9178316
END:VEVENT
BEGIN:VEVENT
DTSTART;TZID=America/New_York:20160424T150000
DTEND;TZID=America/New_York:20160424T170000
DTSTAMP:20260425T201305
CREATED:20160325T200501Z
LAST-MODIFIED:20160325T200501Z
UID:25452-1461510000-1461517200@ftmrockhill.org
SUMMARY:Tyler Perry's "Madea On the Run" Women's Ministry Outing
DESCRIPTION:Tyler Perry’s Madea On the Run Women’s Ministry Outing\n3:00pm at Oven’s Auditorium in Charlotte\, NC
URL:https://ftmrockhill.org/event/tyler-perrys-madea-on-the-run-womens-ministry-outing/
LOCATION:Oven’s Auditorum\, 2700 E Independence Blvd\, Charlotte\, 28205\, United States
GEO:35.2045996;-80.7946929
X-APPLE-STRUCTURED-LOCATION;VALUE=URI;X-ADDRESS=Oven’s Auditorum 2700 E Independence Blvd Charlotte 28205 United States;X-APPLE-RADIUS=500;X-TITLE=2700 E Independence Blvd:geo:-80.7946929,35.2045996
END:VEVENT
BEGIN:VEVENT
DTSTART;TZID=America/New_York:20160410T170000
DTEND;TZID=America/New_York:20160410T190000
DTSTAMP:20260425T201305
CREATED:20160325T195936Z
LAST-MODIFIED:20160325T195936Z
UID:25451-1460307600-1460314800@ftmrockhill.org
SUMMARY:Spring Social & Book Club Hosted by the Women's Ministry
DESCRIPTION:Spring Social & Book Club Hosted by the Women’s Ministry\n5:00pm at Freedom Cafe
URL:https://ftmrockhill.org/event/spring-social-book-club-hosted-by-the-womens-ministry/
LOCATION:Freedom Cafe\, 215 E Main St.\, Rock Hill\, 29730
GEO:34.9252736;-81.0251487
X-APPLE-STRUCTURED-LOCATION;VALUE=URI;X-ADDRESS=Freedom Cafe 215 E Main St. Rock Hill 29730;X-APPLE-RADIUS=500;X-TITLE=215 E Main St.:geo:-81.0251487,34.9252736
END:VEVENT
BEGIN:VEVENT
DTSTART;TZID=America/New_York:20160409T090000
DTEND;TZID=America/New_York:20160409T140000
DTSTAMP:20260425T201305
CREATED:20160325T195715Z
LAST-MODIFIED:20160328T155845Z
UID:25449-1460192400-1460210400@ftmrockhill.org
SUMMARY:World Vision Disaster Relief Training
DESCRIPTION:World Vision Disaster Relief Training\n9:00am at Freedom Cafe\n \nHEA Training South Carolina 2016 FINAL flyer
URL:https://ftmrockhill.org/event/world-vision-disaster-relief-training/
LOCATION:Freedom Cafe\, 215 E Main St.\, Rock Hill\, 29730
GEO:34.9252736;-81.0251487
X-APPLE-STRUCTURED-LOCATION;VALUE=URI;X-ADDRESS=Freedom Cafe 215 E Main St. Rock Hill 29730;X-APPLE-RADIUS=500;X-TITLE=215 E Main St.:geo:-81.0251487,34.9252736
END:VEVENT
BEGIN:VEVENT
DTSTART;TZID=America/New_York:20160408T193000
DTEND;TZID=America/New_York:20160408T210000
DTSTAMP:20260425T201305
CREATED:20160325T195408Z
LAST-MODIFIED:20160328T154146Z
UID:25448-1460143800-1460149200@ftmrockhill.org
SUMMARY:SC Jurisdictional Convocation Service
DESCRIPTION:SC Jurisdictional Convocation Service\n7:30 at Freedom Temple Ministries
URL:https://ftmrockhill.org/event/sc-jurisdictional-convocation-service-3/
LOCATION:Freedom Temple Ministries\, 215 E. Main Street\, Rock Hill\, SC\, 29730\, United States
END:VEVENT
BEGIN:VEVENT
DTSTART;TZID=America/New_York:20160408T183000
DTEND;TZID=America/New_York:20160408T193000
DTSTAMP:20260425T201305
CREATED:20160325T194751Z
LAST-MODIFIED:20160328T154244Z
UID:25447-1460140200-1460143800@ftmrockhill.org
SUMMARY:SC Jurisdictional Convocation Workshop
DESCRIPTION:SC Jurisdictional Convocation Workshop\n6:30 in Freedom Cafe
URL:https://ftmrockhill.org/event/sc-jurisdictional-convocation-workshop-2/
LOCATION:Freedom Cafe\, 215 E Main St.\, Rock Hill\, 29730
GEO:34.9252736;-81.0251487
X-APPLE-STRUCTURED-LOCATION;VALUE=URI;X-ADDRESS=Freedom Cafe 215 E Main St. Rock Hill 29730;X-APPLE-RADIUS=500;X-TITLE=215 E Main St.:geo:-81.0251487,34.9252736
END:VEVENT
BEGIN:VEVENT
DTSTART;TZID=America/New_York:20160407T193000
DTEND;TZID=America/New_York:20160407T203000
DTSTAMP:20260425T201305
CREATED:20160325T185041Z
LAST-MODIFIED:20160328T154616Z
UID:25446-1460057400-1460061000@ftmrockhill.org
SUMMARY:SC Jurisdictional Convocation Service
DESCRIPTION:SC Jurisdictional Convocation Service\n7:30pm at Freedom Temple Ministries
URL:https://ftmrockhill.org/event/sc-jurisdictional-convocation-service-2/
LOCATION:Freedom Temple Ministries\, 215 E. Main Street\, Rock Hill\, SC\, 29730\, United States
END:VEVENT
BEGIN:VEVENT
DTSTART;TZID=America/New_York:20160407T183000
DTEND;TZID=America/New_York:20160407T193000
DTSTAMP:20260425T201305
CREATED:20160325T184624Z
LAST-MODIFIED:20160328T154631Z
UID:25444-1460053800-1460057400@ftmrockhill.org
SUMMARY:SC Jurisdictional Convocation Workshop
DESCRIPTION:SC Jurisdictional Convocation Workshop\n6:30pm at Freedom Cafe
URL:https://ftmrockhill.org/event/sc-jurisdictional-convocation-workshop/
LOCATION:Freedom Cafe\, 215 E Main St.\, Rock Hill\, 29730
GEO:34.9252736;-81.0251487
X-APPLE-STRUCTURED-LOCATION;VALUE=URI;X-ADDRESS=Freedom Cafe 215 E Main St. Rock Hill 29730;X-APPLE-RADIUS=500;X-TITLE=215 E Main St.:geo:-81.0251487,34.9252736
END:VEVENT
BEGIN:VEVENT
DTSTART;TZID=America/New_York:20160406T183000
DTEND;TZID=America/New_York:20160406T200000
DTSTAMP:20260425T201305
CREATED:20160325T184224Z
LAST-MODIFIED:20160328T154645Z
UID:25443-1459967400-1459972800@ftmrockhill.org
SUMMARY:SC Jurisdictional Convocation Service
DESCRIPTION:SC Jurisdictional Convocation Service\n6:30pm at Freedom Temple Ministires
URL:https://ftmrockhill.org/event/sc-jurisdictional-convocation-service/
LOCATION:Freedom Temple Ministries\, 215 E. Main Street\, Rock Hill\, SC\, 29730\, United States
END:VEVENT
BEGIN:VEVENT
DTSTART;TZID=America/New_York:20160404T190000
DTEND;TZID=America/New_York:20160404T210000
DTSTAMP:20260425T201305
CREATED:20160328T161754Z
LAST-MODIFIED:20160328T161754Z
UID:25944-1459796400-1459803600@ftmrockhill.org
SUMMARY:Voices of Freedom / Praise Team Rehearsals
DESCRIPTION:Voices of Freedom / Praise Team Rehearsals\nEvery Monday at 7pm at Freedom Temple Ministries
URL:https://ftmrockhill.org/event/voices-of-freedom-praise-team-rehearsals-2/2016-04-04/
LOCATION:Freedom Temple Ministries\, 215 E. Main Street\, Rock Hill\, SC\, 29730\, United States
END:VEVENT
BEGIN:VEVENT
DTSTART;TZID=America/New_York:20160402T090000
DTEND;TZID=America/New_York:20160402T110000
DTSTAMP:20260425T201305
CREATED:20160328T161633Z
LAST-MODIFIED:20160328T161633Z
UID:25913-1459587600-1459594800@ftmrockhill.org
SUMMARY:Praise Dance Rehearsal
DESCRIPTION:Praise Dance Rehearsal\nEvery Monday at 6pm and Every Saturday at 9am
URL:https://ftmrockhill.org/event/praise-dance-rehearsal-3/2016-04-02/
LOCATION:Freedom Temple Ministries\, 215 E. Main Street\, Rock Hill\, SC\, 29730\, United States
END:VEVENT
BEGIN:VEVENT
DTSTART;TZID=America/New_York:20160327T080000
DTEND;TZID=America/New_York:20160327T170000
DTSTAMP:20260425T201305
CREATED:20160113T215334Z
LAST-MODIFIED:20160113T215334Z
UID:24853-1459065600-1459098000@ftmrockhill.org
SUMMARY:Easter Sunday
DESCRIPTION:
URL:https://ftmrockhill.org/event/easter-sunday/
LOCATION:Freedom Temple Ministries\, 215 E. Main Street\, Rock Hill\, SC\, 29730\, United States
END:VEVENT
BEGIN:VEVENT
DTSTART;TZID=America/New_York:20160321T190000
DTEND;TZID=America/New_York:20160321T210000
DTSTAMP:20260425T201305
CREATED:20160317T133342Z
LAST-MODIFIED:20160317T134058Z
UID:25204-1458586800-1458594000@ftmrockhill.org
SUMMARY:Voices of Freedom / Praise Team Rehearsals
DESCRIPTION:Every Monday at 7pm\nVoices of Freedom / Praise Team Rehearsals
URL:https://ftmrockhill.org/event/voices-of-freedom-praise-team-rehearsals/
LOCATION:Freedom Temple Ministries\, 215 E. Main Street\, Rock Hill\, SC\, 29730\, United States
END:VEVENT
BEGIN:VEVENT
DTSTART;TZID=America/New_York:20160321T180000
DTEND;TZID=America/New_York:20160321T200000
DTSTAMP:20260425T201305
CREATED:20160317T132653Z
LAST-MODIFIED:20160328T161419Z
UID:25202-1458583200-1458590400@ftmrockhill.org
SUMMARY:Praise Dance Rehearsal
DESCRIPTION:Praise Dance Rehearsal\nEvery Monday at 6pm and Every Saturday at 9am
URL:https://ftmrockhill.org/event/praise-dance-rehearsal/2016-03-21/
LOCATION:Freedom Temple Ministries\, 215 E. Main Street\, Rock Hill\, SC\, 29730\, United States
END:VEVENT
BEGIN:VEVENT
DTSTART;TZID=America/New_York:20160320T100000
DTEND;TZID=America/New_York:20160320T113000
DTSTAMP:20260425T201305
CREATED:20160317T133547Z
LAST-MODIFIED:20160317T134125Z
UID:25206-1458468000-1458473400@ftmrockhill.org
SUMMARY:Worship Celebration
DESCRIPTION:Every Sunday at 8am and 10am\nWorship Celebration
URL:https://ftmrockhill.org/event/worship-celebration-2/
LOCATION:Freedom Temple Ministries\, 215 E. Main Street\, Rock Hill\, SC\, 29730\, United States
END:VEVENT
BEGIN:VEVENT
DTSTART;TZID=America/New_York:20160320T080000
DTEND;TZID=America/New_York:20160320T093000
DTSTAMP:20260425T201305
CREATED:20160317T133511Z
LAST-MODIFIED:20160317T134223Z
UID:25205-1458460800-1458466200@ftmrockhill.org
SUMMARY:Worship Celebration
DESCRIPTION:Every Sunday at 8am and 10am\nWorship Celebration
URL:https://ftmrockhill.org/event/worship-celebration/
LOCATION:Freedom Temple Ministries\, 215 E. Main Street\, Rock Hill\, SC\, 29730\, United States
END:VEVENT
BEGIN:VEVENT
DTSTART;TZID=America/New_York:20160319T090000
DTEND;TZID=America/New_York:20160319T110000
DTSTAMP:20260425T201305
CREATED:20160317T132907Z
LAST-MODIFIED:20160317T132907Z
UID:25203-1458378000-1458385200@ftmrockhill.org
SUMMARY:Praise Dance Rehearsal
DESCRIPTION:Every Saturday at 9am\nPraise Dance Rehearsal
URL:https://ftmrockhill.org/event/praise-dance-rehearsal-2/
LOCATION:Freedom Temple Ministries\, 215 E. Main Street\, Rock Hill\, SC\, 29730\, United States
END:VEVENT
BEGIN:VEVENT
DTSTART;TZID=America/New_York:20160229T180000
DTEND;TZID=America/New_York:20160229T200000
DTSTAMP:20260425T201305
CREATED:20160105T175832Z
LAST-MODIFIED:20160113T215719Z
UID:24788-1456768800-1456776000@ftmrockhill.org
SUMMARY:Special Guest Speaker
DESCRIPTION:Proin gravida nibh vel velit auctor aliquet. Aenean sollicitudin\, lorem quis bibendum auctor\, nisi elit consequat ipsum\, nec sagittis sem nibh id elit.\nDuis sed odio sit amet nibh vulputate cursus a sit amet mauris. Morbi accumsan ipsum velit. Nam nec tellus a odio tincidunt auctor a ornare odio. Sed non mauris vitae erat consequat auctor eu in elit.
URL:https://ftmrockhill.org/event/guestspeaker/
ATTACH;FMTTYPE=image/jpeg:https://ftmrockhill.org/wp-content/uploads/2016/01/12366079_10153822550498497_8682753178181357082_o.jpg
END:VEVENT
END:VCALENDAR