BEGIN:VCALENDAR
VERSION:2.0
PRODID:-//Freedom Temple Ministries - ECPv6.15.20//NONSGML v1.0//EN
CALSCALE:GREGORIAN
METHOD:PUBLISH
X-ORIGINAL-URL:https://ftmrockhill.org
X-WR-CALDESC:Events for Freedom Temple Ministries
REFRESH-INTERVAL;VALUE=DURATION:PT1H
X-Robots-Tag:noindex
X-PUBLISHED-TTL:PT1H
BEGIN:VTIMEZONE
TZID:America/New_York
BEGIN:DAYLIGHT
TZOFFSETFROM:-0500
TZOFFSETTO:-0400
TZNAME:EDT
DTSTART:20150308T070000
END:DAYLIGHT
BEGIN:STANDARD
TZOFFSETFROM:-0400
TZOFFSETTO:-0500
TZNAME:EST
DTSTART:20151101T060000
END:STANDARD
BEGIN:DAYLIGHT
TZOFFSETFROM:-0500
TZOFFSETTO:-0400
TZNAME:EDT
DTSTART:20160313T070000
END:DAYLIGHT
BEGIN:STANDARD
TZOFFSETFROM:-0400
TZOFFSETTO:-0500
TZNAME:EST
DTSTART:20161106T060000
END:STANDARD
BEGIN:DAYLIGHT
TZOFFSETFROM:-0500
TZOFFSETTO:-0400
TZNAME:EDT
DTSTART:20170312T070000
END:DAYLIGHT
BEGIN:STANDARD
TZOFFSETFROM:-0400
TZOFFSETTO:-0500
TZNAME:EST
DTSTART:20171105T060000
END:STANDARD
BEGIN:DAYLIGHT
TZOFFSETFROM:-0500
TZOFFSETTO:-0400
TZNAME:EDT
DTSTART:20180311T070000
END:DAYLIGHT
BEGIN:STANDARD
TZOFFSETFROM:-0400
TZOFFSETTO:-0500
TZNAME:EST
DTSTART:20181104T060000
END:STANDARD
BEGIN:DAYLIGHT
TZOFFSETFROM:-0500
TZOFFSETTO:-0400
TZNAME:EDT
DTSTART:20190310T070000
END:DAYLIGHT
BEGIN:STANDARD
TZOFFSETFROM:-0400
TZOFFSETTO:-0500
TZNAME:EST
DTSTART:20191103T060000
END:STANDARD
BEGIN:DAYLIGHT
TZOFFSETFROM:-0500
TZOFFSETTO:-0400
TZNAME:EDT
DTSTART:20200308T070000
END:DAYLIGHT
BEGIN:STANDARD
TZOFFSETFROM:-0400
TZOFFSETTO:-0500
TZNAME:EST
DTSTART:20201101T060000
END:STANDARD
END:VTIMEZONE
BEGIN:VEVENT
DTSTART;TZID=America/New_York:20190112T100000
DTEND;TZID=America/New_York:20190112T120000
DTSTAMP:20260424T081045
CREATED:20181101T150442Z
LAST-MODIFIED:20181228T194149Z
UID:28744-1547287200-1547294400@ftmrockhill.org
SUMMARY:Parent Basics Workshop
DESCRIPTION:  \nInformation will be shared with parents regarding childhood depression\, anxiety\, and the internet/cyber awareness.
URL:https://ftmrockhill.org/event/parent-basics-workshop/
LOCATION:Freedom Temple Ministries\, 215 E Main Street\, Rock Hill\, SC\, 29730\, United States
CATEGORIES:Flyers
ATTACH;FMTTYPE=image/jpeg:https://ftmrockhill.org/wp-content/uploads/2018/11/FTM-Parent-Workshop-Flyer-scaled.jpg
GEO:34.9253772;-81.0251291
X-APPLE-STRUCTURED-LOCATION;VALUE=URI;X-ADDRESS=Freedom Temple Ministries 215 E Main Street Rock Hill SC 29730 United States;X-APPLE-RADIUS=500;X-TITLE=215 E Main Street:geo:-81.0251291,34.9253772
END:VEVENT
BEGIN:VEVENT
DTSTART;TZID=America/New_York:20190101T080000
DTEND;TZID=America/New_York:20190131T170000
DTSTAMP:20260424T081045
CREATED:20181101T152058Z
LAST-MODIFIED:20181101T160450Z
UID:28745-1546329600-1548954000@ftmrockhill.org
SUMMARY:Women's Ministry presents "The Collection of formal wear for 2019 Prom Season."
DESCRIPTION:  \nFor the month of January\, members are asked to bring their new or gently use formal wear\, dresses\, gowns\, tuxedos\, bow ties\, shoes\, etc.\, to be distributed to teenagers in the community in need or want an out fit for the prom season.  You may drop off items after each service on Sundays\, 8am and 10am\, or Wednesday after Freedom Bible Institute.
URL:https://ftmrockhill.org/event/womens-ministry-presents-the-collection-of-formal-wear-for-2019-prom-season/
LOCATION:Freedom Temple Ministries\, 215 E Main Street\, Rock Hill\, SC\, 29730\, United States
GEO:34.9253772;-81.0251291
X-APPLE-STRUCTURED-LOCATION;VALUE=URI;X-ADDRESS=Freedom Temple Ministries 215 E Main Street Rock Hill SC 29730 United States;X-APPLE-RADIUS=500;X-TITLE=215 E Main Street:geo:-81.0251291,34.9253772
END:VEVENT
BEGIN:VEVENT
DTSTART;TZID=America/New_York:20181220T190000
DTEND;TZID=America/New_York:20181220T210000
DTSTAMP:20260424T081045
CREATED:20181101T150202Z
LAST-MODIFIED:20181204T214436Z
UID:28743-1545332400-1545339600@ftmrockhill.org
SUMMARY:"Wrap It Up" Gift Wrapping Session
DESCRIPTION:  \nAn enjoyable fellowship opportunity for women to bring their Christmas gifts and wrap them without wandering or peeking eyes.  Or for men to bring their gifts and receive “help” with gift wrapping.  Bring your own wrapping paper or bags.  Tissue and tape will be provided. Event will be held in the Freedom Cafe.
URL:https://ftmrockhill.org/event/wrap-it-up-gift-wrapping-session/
LOCATION:Freedom Temple Ministries\, 215 E Main Street\, Rock Hill\, SC\, 29730\, United States
CATEGORIES:Flyers
ATTACH;FMTTYPE=image/jpeg:https://ftmrockhill.org/wp-content/uploads/2018/11/FTM-Wrap-It-Up-Flyer-2-1-scaled.jpg
GEO:34.9253772;-81.0251291
X-APPLE-STRUCTURED-LOCATION;VALUE=URI;X-ADDRESS=Freedom Temple Ministries 215 E Main Street Rock Hill SC 29730 United States;X-APPLE-RADIUS=500;X-TITLE=215 E Main Street:geo:-81.0251291,34.9253772
END:VEVENT
BEGIN:VEVENT
DTSTART;TZID=America/New_York:20181215T180000
DTEND;TZID=America/New_York:20181215T200000
DTSTAMP:20260424T081045
CREATED:20181101T145552Z
LAST-MODIFIED:20181206T175147Z
UID:28741-1544896800-1544904000@ftmrockhill.org
SUMMARY:Women's Ministry Christmas Social
DESCRIPTION:Click here to register for the event\n“Tis the season to Rock that Ugly Sweater”- Come eat\, drink\, and be merry with the women of Freedom! Join us on Saturday\, December 15\, 2018 from 6:00pm-8:00pm for fun-filled activities including ornament making\, a scavenger hunt\, and Christian comedy featuring invited guest Mz. Thelma. Please bring a feminine hygiene product\, toiletry item\, or ethnic hair care product to donate to a local charity.
URL:https://ftmrockhill.org/event/womens-ministry-christmas-social/
LOCATION:Freedom Temple Ministries\, 215 E Main Street\, Rock Hill\, SC\, 29730\, United States
CATEGORIES:Flyers
ATTACH;FMTTYPE=image/jpeg:https://ftmrockhill.org/wp-content/uploads/2018/11/FTM-Christmas-Ugly-Sweater-Flyer-scaled.jpg
GEO:34.9253772;-81.0251291
X-APPLE-STRUCTURED-LOCATION;VALUE=URI;X-ADDRESS=Freedom Temple Ministries 215 E Main Street Rock Hill SC 29730 United States;X-APPLE-RADIUS=500;X-TITLE=215 E Main Street:geo:-81.0251291,34.9253772
END:VEVENT
BEGIN:VEVENT
DTSTART;TZID=America/New_York:20181125T140000
DTEND;TZID=America/New_York:20181125T160000
DTSTAMP:20260424T081045
CREATED:20181101T144638Z
LAST-MODIFIED:20181101T163630Z
UID:28738-1543154400-1543161600@ftmrockhill.org
SUMMARY:Narroway's Production of "The Real Christmas Story"
DESCRIPTION:  \nJoin the Women’s Ministry in Narroway’ s Production of “The Real Christmas Story” on November 25th at 2pm.  Tickets for the show can be purchased at www.narroway.net.  Tickets are going fast so get your tickets now!
URL:https://ftmrockhill.org/event/narroways-production-of-the-real-christmas-story/
LOCATION:Narroway Theater\, United States
END:VEVENT
BEGIN:VEVENT
DTSTART;TZID=America/New_York:20170520T113000
DTEND;TZID=America/New_York:20170520T133000
DTSTAMP:20260424T081045
CREATED:20170327T201107Z
LAST-MODIFIED:20170508T163137Z
UID:27202-1495279800-1495287000@ftmrockhill.org
SUMMARY:Southern Diva Tea and Awards Ceremony
DESCRIPTION:  \n\n\n				Please Click Here to RSVP for this event!
URL:https://ftmrockhill.org/event/southern-diva-tea-and-awards-ceremony/
LOCATION:Freedom Gymnasium
CATEGORIES:Flyers
END:VEVENT
BEGIN:VEVENT
DTSTART;TZID=America/New_York:20170503T184500
DTEND;TZID=America/New_York:20170503T193000
DTSTAMP:20260424T081045
CREATED:20170327T194325Z
LAST-MODIFIED:20170327T194325Z
UID:27191-1493837100-1493839800@ftmrockhill.org
SUMMARY:Standards of Freedom Mini-Session - Ethnic Skincare
DESCRIPTION:
URL:https://ftmrockhill.org/event/standards-of-freedom-mini-session-ethnic-skincare/
LOCATION:Freedom Temple Little Chapel\, 215 E. Main St\, Rock Hill\, SC\, 29730\, United States
GEO:34.9252736;-81.0251487
X-APPLE-STRUCTURED-LOCATION;VALUE=URI;X-ADDRESS=Freedom Temple Little Chapel 215 E. Main St Rock Hill SC 29730 United States;X-APPLE-RADIUS=500;X-TITLE=215 E. Main St:geo:-81.0251487,34.9252736
END:VEVENT
BEGIN:VEVENT
DTSTART;TZID=America/New_York:20170423T080000
DTEND;TZID=America/New_York:20170423T120000
DTSTAMP:20260424T081045
CREATED:20170327T205917Z
LAST-MODIFIED:20170327T205917Z
UID:27209-1492934400-1492948800@ftmrockhill.org
SUMMARY:Susan G. Komen Pink Sunday
DESCRIPTION:National Pink Sunday sponsored by the Susan G. Komen Foundation to continue to bring awareness and increase pre screenings within the spiritual community and the African American church. You are welcomed to wear pink\, but more importantly\, you are encouraged to spread the word to increase awareness.
URL:https://ftmrockhill.org/event/susan-g-komen-pink-sunday/
LOCATION:Freedom Temple Ministries\, 215 E. Main St\, Rock Hill\, SC\, 29830\, United States
GEO:34.9252736;-81.0251487
X-APPLE-STRUCTURED-LOCATION;VALUE=URI;X-ADDRESS=Freedom Temple Ministries 215 E. Main St Rock Hill SC 29830 United States;X-APPLE-RADIUS=500;X-TITLE=215 E. Main St:geo:-81.0251487,34.9252736
END:VEVENT
BEGIN:VEVENT
DTSTART;TZID=America/New_York:20160910T110000
DTEND;TZID=America/New_York:20160910T120000
DTSTAMP:20260424T081045
CREATED:20160810T210201Z
LAST-MODIFIED:20160810T210201Z
UID:26666-1473505200-1473508800@ftmrockhill.org
SUMMARY:Coupon With a Purpose
DESCRIPTION:
URL:https://ftmrockhill.org/event/coupon-with-a-purpose/
LOCATION:Freedom Cafe
END:VEVENT
BEGIN:VEVENT
DTSTART;TZID=America/New_York:20160910T100000
DTEND;TZID=America/New_York:20160910T110000
DTSTAMP:20260424T081045
CREATED:20160810T210056Z
LAST-MODIFIED:20160810T210056Z
UID:26663-1473501600-1473505200@ftmrockhill.org
SUMMARY:Women's Ministry Meeting
DESCRIPTION:
URL:https://ftmrockhill.org/event/womens-ministry-meeting/
LOCATION:The Freedom Cafe
END:VEVENT
BEGIN:VEVENT
DTSTART;TZID=America/New_York:20160828T170000
DTEND;TZID=America/New_York:20160828T180000
DTSTAMP:20260424T081045
CREATED:20160810T210648Z
LAST-MODIFIED:20160810T210648Z
UID:26672-1472403600-1472407200@ftmrockhill.org
SUMMARY:Women's Ministry Book Club
DESCRIPTION:
URL:https://ftmrockhill.org/event/womens-ministry-book-club/
LOCATION:Freedom Cafe
END:VEVENT
END:VCALENDAR