BEGIN:VCALENDAR
VERSION:2.0
PRODID:-//Freedom Temple Ministries - ECPv6.15.20//NONSGML v1.0//EN
CALSCALE:GREGORIAN
METHOD:PUBLISH
X-ORIGINAL-URL:https://ftmrockhill.org
X-WR-CALDESC:Events for Freedom Temple Ministries
REFRESH-INTERVAL;VALUE=DURATION:PT1H
X-Robots-Tag:noindex
X-PUBLISHED-TTL:PT1H
BEGIN:VTIMEZONE
TZID:America/New_York
BEGIN:DAYLIGHT
TZOFFSETFROM:-0500
TZOFFSETTO:-0400
TZNAME:EDT
DTSTART:20150308T070000
END:DAYLIGHT
BEGIN:STANDARD
TZOFFSETFROM:-0400
TZOFFSETTO:-0500
TZNAME:EST
DTSTART:20151101T060000
END:STANDARD
BEGIN:DAYLIGHT
TZOFFSETFROM:-0500
TZOFFSETTO:-0400
TZNAME:EDT
DTSTART:20160313T070000
END:DAYLIGHT
BEGIN:STANDARD
TZOFFSETFROM:-0400
TZOFFSETTO:-0500
TZNAME:EST
DTSTART:20161106T060000
END:STANDARD
BEGIN:DAYLIGHT
TZOFFSETFROM:-0500
TZOFFSETTO:-0400
TZNAME:EDT
DTSTART:20170312T070000
END:DAYLIGHT
BEGIN:STANDARD
TZOFFSETFROM:-0400
TZOFFSETTO:-0500
TZNAME:EST
DTSTART:20171105T060000
END:STANDARD
BEGIN:DAYLIGHT
TZOFFSETFROM:-0500
TZOFFSETTO:-0400
TZNAME:EDT
DTSTART:20180311T070000
END:DAYLIGHT
BEGIN:STANDARD
TZOFFSETFROM:-0400
TZOFFSETTO:-0500
TZNAME:EST
DTSTART:20181104T060000
END:STANDARD
BEGIN:DAYLIGHT
TZOFFSETFROM:-0500
TZOFFSETTO:-0400
TZNAME:EDT
DTSTART:20190310T070000
END:DAYLIGHT
BEGIN:STANDARD
TZOFFSETFROM:-0400
TZOFFSETTO:-0500
TZNAME:EST
DTSTART:20191103T060000
END:STANDARD
END:VTIMEZONE
BEGIN:VEVENT
DTSTART;TZID=America/New_York:20181013T140000
DTEND;TZID=America/New_York:20181013T160000
DTSTAMP:20260424T062254
CREATED:20180912T203242Z
LAST-MODIFIED:20180912T203447Z
UID:28532-1539439200-1539446400@ftmrockhill.org
SUMMARY:2018 Dance Explosion/Dance Strong
DESCRIPTION:  \nYou are invited to join Freedom Temple Ministries in a worship experience featuring The Anointed Dancers of Freedom on October 13\, 2018 at 2:00 pm at Freedom Temple Ministries.
URL:https://ftmrockhill.org/event/2018-dance-explosiondance-strong/2018-10-13/
LOCATION:Freedom Temple Ministries\, 215 E Main Street\, Rock Hill\, SC\, 29730\, United States
CATEGORIES:Flyers
ATTACH;FMTTYPE=image/jpeg:https://ftmrockhill.org/wp-content/uploads/2018/09/Dance-Strong-Flyer.jpeg
ORGANIZER;CN="Mary Knox":MAILTO:mknox@ftmrockhill.org
GEO:34.9253772;-81.0251291
X-APPLE-STRUCTURED-LOCATION;VALUE=URI;X-ADDRESS=Freedom Temple Ministries 215 E Main Street Rock Hill SC 29730 United States;X-APPLE-RADIUS=500;X-TITLE=215 E Main Street:geo:-81.0251291,34.9253772
END:VEVENT
BEGIN:VEVENT
DTSTART;TZID=America/New_York:20160910T150000
DTEND;TZID=America/New_York:20160910T170000
DTSTAMP:20260424T062254
CREATED:20160810T210400Z
LAST-MODIFIED:20160810T210400Z
UID:26667-1473519600-1473526800@ftmrockhill.org
SUMMARY:"Order My Steps" Dance Explosion
DESCRIPTION:
URL:https://ftmrockhill.org/event/order-my-steps-dance-explosion/
LOCATION:Freedom Cafe
ORGANIZER;CN="Mary Knox":MAILTO:mknox@ftmrockhill.org
END:VEVENT
END:VCALENDAR