BEGIN:VCALENDAR
VERSION:2.0
PRODID:-//Freedom Temple Ministries - ECPv6.15.20//NONSGML v1.0//EN
CALSCALE:GREGORIAN
METHOD:PUBLISH
X-WR-CALNAME:Freedom Temple Ministries
X-ORIGINAL-URL:https://ftmrockhill.org
X-WR-CALDESC:Events for Freedom Temple Ministries
REFRESH-INTERVAL;VALUE=DURATION:PT1H
X-Robots-Tag:noindex
X-PUBLISHED-TTL:PT1H
BEGIN:VTIMEZONE
TZID:America/New_York
BEGIN:DAYLIGHT
TZOFFSETFROM:-0500
TZOFFSETTO:-0400
TZNAME:EDT
DTSTART:20150308T070000
END:DAYLIGHT
BEGIN:STANDARD
TZOFFSETFROM:-0400
TZOFFSETTO:-0500
TZNAME:EST
DTSTART:20151101T060000
END:STANDARD
BEGIN:DAYLIGHT
TZOFFSETFROM:-0500
TZOFFSETTO:-0400
TZNAME:EDT
DTSTART:20160313T070000
END:DAYLIGHT
BEGIN:STANDARD
TZOFFSETFROM:-0400
TZOFFSETTO:-0500
TZNAME:EST
DTSTART:20161106T060000
END:STANDARD
BEGIN:DAYLIGHT
TZOFFSETFROM:-0500
TZOFFSETTO:-0400
TZNAME:EDT
DTSTART:20170312T070000
END:DAYLIGHT
BEGIN:STANDARD
TZOFFSETFROM:-0400
TZOFFSETTO:-0500
TZNAME:EST
DTSTART:20171105T060000
END:STANDARD
END:VTIMEZONE
BEGIN:VEVENT
DTSTART;TZID=America/New_York:20160807T100000
DTEND;TZID=America/New_York:20160810T120000
DTSTAMP:20260424T063753
CREATED:20160502T155122Z
LAST-MODIFIED:20160503T191748Z
UID:26469-1470564000-1470830400@ftmrockhill.org
SUMMARY:All Access Ministries Kick Off
DESCRIPTION:  \nAll Access Ministries is officially back! Student Participants are invited to join us for worship beginning August 7th at 10am and every Sunday following during the 8am and 10am services.
URL:https://ftmrockhill.org/event/all-access-volunteer-training/
LOCATION:3rd Floor
END:VEVENT
BEGIN:VEVENT
DTSTART;TZID=America/New_York:20160807T091500
DTEND;TZID=America/New_York:20160807T094500
DTSTAMP:20260424T063753
CREATED:20160503T191454Z
LAST-MODIFIED:20160503T191454Z
UID:26485-1470561300-1470563100@ftmrockhill.org
SUMMARY:All Access Ministries Open House
DESCRIPTION:  \nParents of students participating in All Access Ministries are invited to attend Open House August 7th during the Christian Education hour. This is a time to drop-in and receive important information\, visit classrooms\, meet the teachers\, receive supply lists\, and sign up for various duties. Please contact Brother Stan with any questions at srhodes@ftmrockhill.org.
URL:https://ftmrockhill.org/event/all-access-ministries-open-house/
LOCATION:3rd Floor
END:VEVENT
BEGIN:VEVENT
DTSTART;TZID=America/New_York:20160730T090000
DTEND;TZID=America/New_York:20160730T110000
DTSTAMP:20260424T063753
CREATED:20160503T184700Z
LAST-MODIFIED:20160503T184729Z
UID:26481-1469869200-1469876400@ftmrockhill.org
SUMMARY:All Access Class Preparation
DESCRIPTION:  \n \n  \nAll Access Teachers and decorators will be preparing classes during this time on this date.
URL:https://ftmrockhill.org/event/all-access-class-preparation-3/
LOCATION:3rd Floor
END:VEVENT
BEGIN:VEVENT
DTSTART;VALUE=DATE:20160720
DTEND;VALUE=DATE:20160724
DTSTAMP:20260424T063753
CREATED:20160503T185317Z
LAST-MODIFIED:20160503T185317Z
UID:26482-1468972800-1469318399@ftmrockhill.org
SUMMARY:MCHCA OUTCRY Youth Conference
DESCRIPTION:All Access Youth Ministries will be taking 10-12 youth from Freedom Temple Ministries to the MCHCA Youth & Young Adult OUTCRY conference in Boston\, MA July 20-23\, 2016. Prospective participants should be between ages 13-16. Please contact Brother Stan if interested in attending at srhodes@ftmrockhill.org.
URL:https://ftmrockhill.org/event/mchca-outcry-youth-conference/
LOCATION:Boston\, MA\, Boston\, MA\, 02201\, United States
GEO:42.358158;-71.0585053
END:VEVENT
BEGIN:VEVENT
DTSTART;TZID=America/New_York:20160716T090000
DTEND;TZID=America/New_York:20160716T230000
DTSTAMP:20260424T063753
CREATED:20160503T184622Z
LAST-MODIFIED:20160503T184622Z
UID:26480-1468659600-1468710000@ftmrockhill.org
SUMMARY:All Access Class Preparation
DESCRIPTION:  \n \n  \nAll Access Teachers and decorators will be preparing classes during this time on this date.
URL:https://ftmrockhill.org/event/all-access-class-preparation-2/
LOCATION:3rd Floor
END:VEVENT
BEGIN:VEVENT
DTSTART;TZID=America/New_York:20160709T090000
DTEND;TZID=America/New_York:20160709T110000
DTSTAMP:20260424T063753
CREATED:20160503T184512Z
LAST-MODIFIED:20160503T184512Z
UID:26479-1468054800-1468062000@ftmrockhill.org
SUMMARY:All Access Class Preparation
DESCRIPTION:  \nAll Access Teachers and decorators will be preparing classes during this time on this date.
URL:https://ftmrockhill.org/event/all-access-class-preparation/
LOCATION:3rd Floor
END:VEVENT
BEGIN:VEVENT
DTSTART;TZID=America/New_York:20160625T090000
DTEND;TZID=America/New_York:20160625T110000
DTSTAMP:20260424T063753
CREATED:20160503T184013Z
LAST-MODIFIED:20160503T184057Z
UID:26477-1466845200-1466852400@ftmrockhill.org
SUMMARY:All Access Volunteer Training
DESCRIPTION:If you are interested in joining the All Access Team\, please attend Volunteer Training on June 11th or June 25th (please pick 1) from 9am-11am. Important information will be shared. Volunteers must attend at least 1 training to volunteer within the ministry.
URL:https://ftmrockhill.org/event/all-access-volunteer-training-3/
LOCATION:Freedom Cafe
END:VEVENT
BEGIN:VEVENT
DTSTART;TZID=America/New_York:20160611T090000
DTEND;TZID=America/New_York:20160611T110000
DTSTAMP:20260424T063753
CREATED:20160503T183854Z
LAST-MODIFIED:20160503T184144Z
UID:26476-1465635600-1465642800@ftmrockhill.org
SUMMARY:All Access Volunteer Training
DESCRIPTION:If you are interested in joining the All Access Team\, please attend Volunteer Training on June 11th or June 25th (please pick 1) from 9am-11am. Important information will be shared. Volunteers must attend at least 1 training to volunteer within the ministry.
URL:https://ftmrockhill.org/event/all-access-volunteer-training-2/
LOCATION:Freedom Cafe
END:VEVENT
END:VCALENDAR