BEGIN:VCALENDAR
VERSION:2.0
PRODID:-//Freedom Temple Ministries - ECPv6.15.20//NONSGML v1.0//EN
CALSCALE:GREGORIAN
METHOD:PUBLISH
X-WR-CALNAME:Freedom Temple Ministries
X-ORIGINAL-URL:https://ftmrockhill.org
X-WR-CALDESC:Events for Freedom Temple Ministries
REFRESH-INTERVAL;VALUE=DURATION:PT1H
X-Robots-Tag:noindex
X-PUBLISHED-TTL:PT1H
BEGIN:VTIMEZONE
TZID:America/New_York
BEGIN:DAYLIGHT
TZOFFSETFROM:-0500
TZOFFSETTO:-0400
TZNAME:EDT
DTSTART:20150308T070000
END:DAYLIGHT
BEGIN:STANDARD
TZOFFSETFROM:-0400
TZOFFSETTO:-0500
TZNAME:EST
DTSTART:20151101T060000
END:STANDARD
BEGIN:DAYLIGHT
TZOFFSETFROM:-0500
TZOFFSETTO:-0400
TZNAME:EDT
DTSTART:20160313T070000
END:DAYLIGHT
BEGIN:STANDARD
TZOFFSETFROM:-0400
TZOFFSETTO:-0500
TZNAME:EST
DTSTART:20161106T060000
END:STANDARD
BEGIN:DAYLIGHT
TZOFFSETFROM:-0500
TZOFFSETTO:-0400
TZNAME:EDT
DTSTART:20170312T070000
END:DAYLIGHT
BEGIN:STANDARD
TZOFFSETFROM:-0400
TZOFFSETTO:-0500
TZNAME:EST
DTSTART:20171105T060000
END:STANDARD
END:VTIMEZONE
BEGIN:VEVENT
DTSTART;VALUE=DATE:20160720
DTEND;VALUE=DATE:20160724
DTSTAMP:20260424T115629
CREATED:20160503T185317Z
LAST-MODIFIED:20160503T185317Z
UID:26482-1468972800-1469318399@ftmrockhill.org
SUMMARY:MCHCA OUTCRY Youth Conference
DESCRIPTION:All Access Youth Ministries will be taking 10-12 youth from Freedom Temple Ministries to the MCHCA Youth & Young Adult OUTCRY conference in Boston\, MA July 20-23\, 2016. Prospective participants should be between ages 13-16. Please contact Brother Stan if interested in attending at srhodes@ftmrockhill.org.
URL:https://ftmrockhill.org/event/mchca-outcry-youth-conference/
LOCATION:Boston\, MA\, Boston\, MA\, 02201\, United States
GEO:42.358158;-71.0585053
END:VEVENT
BEGIN:VEVENT
DTSTART;VALUE=DATE:20160720
DTEND;VALUE=DATE:20160723
DTSTAMP:20260424T115629
CREATED:20160328T150629Z
LAST-MODIFIED:20160328T150629Z
UID:25477-1468972800-1469231999@ftmrockhill.org
SUMMARY:Outcry Youth Conference 2016
DESCRIPTION:Outcry Youth Conference 2016\nJuly 20-22 in Boston\, MA
URL:https://ftmrockhill.org/event/outcry-youth-conference-2016/
LOCATION:Boston\, MA\, Boston\, MA\, 02201\, United States
GEO:42.358158;-71.0585053
END:VEVENT
END:VCALENDAR