BEGIN:VCALENDAR
VERSION:2.0
PRODID:-//Freedom Temple Ministries - ECPv6.15.20//NONSGML v1.0//EN
CALSCALE:GREGORIAN
METHOD:PUBLISH
X-WR-CALNAME:Freedom Temple Ministries
X-ORIGINAL-URL:https://ftmrockhill.org
X-WR-CALDESC:Events for Freedom Temple Ministries
REFRESH-INTERVAL;VALUE=DURATION:PT1H
X-Robots-Tag:noindex
X-PUBLISHED-TTL:PT1H
BEGIN:VTIMEZONE
TZID:America/New_York
BEGIN:DAYLIGHT
TZOFFSETFROM:-0500
TZOFFSETTO:-0400
TZNAME:EDT
DTSTART:20160313T070000
END:DAYLIGHT
BEGIN:STANDARD
TZOFFSETFROM:-0400
TZOFFSETTO:-0500
TZNAME:EST
DTSTART:20161106T060000
END:STANDARD
BEGIN:DAYLIGHT
TZOFFSETFROM:-0500
TZOFFSETTO:-0400
TZNAME:EDT
DTSTART:20170312T070000
END:DAYLIGHT
BEGIN:STANDARD
TZOFFSETFROM:-0400
TZOFFSETTO:-0500
TZNAME:EST
DTSTART:20171105T060000
END:STANDARD
BEGIN:DAYLIGHT
TZOFFSETFROM:-0500
TZOFFSETTO:-0400
TZNAME:EDT
DTSTART:20180311T070000
END:DAYLIGHT
BEGIN:STANDARD
TZOFFSETFROM:-0400
TZOFFSETTO:-0500
TZNAME:EST
DTSTART:20181104T060000
END:STANDARD
END:VTIMEZONE
BEGIN:VEVENT
DTSTART;TZID=America/New_York:20170902T190000
DTEND;TZID=America/New_York:20170902T210000
DTSTAMP:20260424T103525
CREATED:20170824T182821Z
LAST-MODIFIED:20170824T183002Z
UID:27576-1504378800-1504386000@ftmrockhill.org
SUMMARY:Women's Ministry Fantasy Football Draft
DESCRIPTION:Please CLICK HERE to sign up!
URL:https://ftmrockhill.org/event/womens-ministry-fantasy-football-draft/
LOCATION:Buffalo Wild Wings\, Dave Lyle Blvd.\, Rock Hill\, SC\, 29730\, United States
CATEGORIES:Flyers
GEO:34.9408931;-80.9878452
X-APPLE-STRUCTURED-LOCATION;VALUE=URI;X-ADDRESS=Buffalo Wild Wings Dave Lyle Blvd. Rock Hill SC 29730 United States;X-APPLE-RADIUS=500;X-TITLE=Dave Lyle Blvd.:geo:-80.9878452,34.9408931
END:VEVENT
END:VCALENDAR