BEGIN:VCALENDAR
VERSION:2.0
PRODID:-//Freedom Temple Ministries - ECPv6.15.20//NONSGML v1.0//EN
CALSCALE:GREGORIAN
METHOD:PUBLISH
X-WR-CALNAME:Freedom Temple Ministries
X-ORIGINAL-URL:https://ftmrockhill.org
X-WR-CALDESC:Events for Freedom Temple Ministries
REFRESH-INTERVAL;VALUE=DURATION:PT1H
X-Robots-Tag:noindex
X-PUBLISHED-TTL:PT1H
BEGIN:VTIMEZONE
TZID:America/New_York
BEGIN:DAYLIGHT
TZOFFSETFROM:-0500
TZOFFSETTO:-0400
TZNAME:EDT
DTSTART:20150308T070000
END:DAYLIGHT
BEGIN:STANDARD
TZOFFSETFROM:-0400
TZOFFSETTO:-0500
TZNAME:EST
DTSTART:20151101T060000
END:STANDARD
BEGIN:DAYLIGHT
TZOFFSETFROM:-0500
TZOFFSETTO:-0400
TZNAME:EDT
DTSTART:20160313T070000
END:DAYLIGHT
BEGIN:STANDARD
TZOFFSETFROM:-0400
TZOFFSETTO:-0500
TZNAME:EST
DTSTART:20161106T060000
END:STANDARD
BEGIN:DAYLIGHT
TZOFFSETFROM:-0500
TZOFFSETTO:-0400
TZNAME:EDT
DTSTART:20170312T070000
END:DAYLIGHT
BEGIN:STANDARD
TZOFFSETFROM:-0400
TZOFFSETTO:-0500
TZNAME:EST
DTSTART:20171105T060000
END:STANDARD
END:VTIMEZONE
BEGIN:VEVENT
DTSTART;TZID=America/New_York:20161217T093000
DTEND;TZID=America/New_York:20161217T224500
DTSTAMP:20260424T113742
CREATED:20160623T152444Z
LAST-MODIFIED:20160623T153656Z
UID:26584-1481967000-1482014700@ftmrockhill.org
SUMMARY:Outreach Community Event
DESCRIPTION:
URL:https://ftmrockhill.org/event/outreach-community-event-2016-12-16/
LOCATION:Community
END:VEVENT
BEGIN:VEVENT
DTSTART;TZID=America/New_York:20161119T093000
DTEND;TZID=America/New_York:20161119T224500
DTSTAMP:20260424T113742
CREATED:20160623T152444Z
LAST-MODIFIED:20160623T153631Z
UID:26583-1479547800-1479595500@ftmrockhill.org
SUMMARY:Outreach Community Event
DESCRIPTION:
URL:https://ftmrockhill.org/event/outreach-community-event-2016-11-16/
LOCATION:Community
END:VEVENT
BEGIN:VEVENT
DTSTART;TZID=America/New_York:20161015T093000
DTEND;TZID=America/New_York:20161015T224500
DTSTAMP:20260424T113742
CREATED:20160623T152444Z
LAST-MODIFIED:20160623T153610Z
UID:26582-1476523800-1476571500@ftmrockhill.org
SUMMARY:Outreach Community Event
DESCRIPTION:
URL:https://ftmrockhill.org/event/outreach-community-event-2016-10-16/
LOCATION:Community
END:VEVENT
BEGIN:VEVENT
DTSTART;TZID=America/New_York:20160924T090000
DTEND;TZID=America/New_York:20160924T110000
DTSTAMP:20260424T113742
CREATED:20160623T152444Z
LAST-MODIFIED:20160823T190848Z
UID:26580-1474707600-1474714800@ftmrockhill.org
SUMMARY:Outreach Community Event
DESCRIPTION:
URL:https://ftmrockhill.org/event/outreach-community-event-2016-08-16/2016-09-24/
LOCATION:Community
END:VEVENT
BEGIN:VEVENT
DTSTART;TZID=America/New_York:20160917T093000
DTEND;TZID=America/New_York:20160917T224500
DTSTAMP:20260424T113742
CREATED:20160623T152444Z
LAST-MODIFIED:20160623T153545Z
UID:26581-1474104600-1474152300@ftmrockhill.org
SUMMARY:Outreach Community Event
DESCRIPTION:
URL:https://ftmrockhill.org/event/outreach-community-event-2016-09-16/
LOCATION:Community
END:VEVENT
BEGIN:VEVENT
DTSTART;TZID=America/New_York:20160716T093000
DTEND;TZID=America/New_York:20160716T224500
DTSTAMP:20260424T113742
CREATED:20160623T152444Z
LAST-MODIFIED:20160623T153323Z
UID:26577-1468661400-1468709100@ftmrockhill.org
SUMMARY:Outreach Community Event
DESCRIPTION:
URL:https://ftmrockhill.org/event/outreach-community-event/2016-07-16/
LOCATION:Community
ATTACH;FMTTYPE=image/jpeg:https://ftmrockhill.org/wp-content/uploads/2016/06/Outreach-Ministry-reformatted.jpg
END:VEVENT
END:VCALENDAR