BEGIN:VCALENDAR
VERSION:2.0
PRODID:-//Freedom Temple Ministries - ECPv6.15.20//NONSGML v1.0//EN
CALSCALE:GREGORIAN
METHOD:PUBLISH
X-WR-CALNAME:Freedom Temple Ministries
X-ORIGINAL-URL:https://ftmrockhill.org
X-WR-CALDESC:Events for Freedom Temple Ministries
REFRESH-INTERVAL;VALUE=DURATION:PT1H
X-Robots-Tag:noindex
X-PUBLISHED-TTL:PT1H
BEGIN:VTIMEZONE
TZID:America/New_York
BEGIN:DAYLIGHT
TZOFFSETFROM:-0500
TZOFFSETTO:-0400
TZNAME:EDT
DTSTART:20160313T070000
END:DAYLIGHT
BEGIN:STANDARD
TZOFFSETFROM:-0400
TZOFFSETTO:-0500
TZNAME:EST
DTSTART:20161106T060000
END:STANDARD
BEGIN:DAYLIGHT
TZOFFSETFROM:-0500
TZOFFSETTO:-0400
TZNAME:EDT
DTSTART:20170312T070000
END:DAYLIGHT
BEGIN:STANDARD
TZOFFSETFROM:-0400
TZOFFSETTO:-0500
TZNAME:EST
DTSTART:20171105T060000
END:STANDARD
BEGIN:DAYLIGHT
TZOFFSETFROM:-0500
TZOFFSETTO:-0400
TZNAME:EDT
DTSTART:20180311T070000
END:DAYLIGHT
BEGIN:STANDARD
TZOFFSETFROM:-0400
TZOFFSETTO:-0500
TZNAME:EST
DTSTART:20181104T060000
END:STANDARD
END:VTIMEZONE
BEGIN:VEVENT
DTSTART;TZID=America/New_York:20170824T080000
DTEND;TZID=America/New_York:20170824T170000
DTSTAMP:20260424T194506
CREATED:20170824T183608Z
LAST-MODIFIED:20170824T183608Z
UID:27581-1503561600-1503594000@ftmrockhill.org
SUMMARY:Charlotte Heart Walk
DESCRIPTION:  \nSign Up or Donate HERE
URL:https://ftmrockhill.org/event/charlotte-heart-walk/
LOCATION:First Ward Park\, 301 E 7th St\, Charlotte\, NC\, 28202\, United States
CATEGORIES:Flyers
GEO:35.2277332;-80.8373233
X-APPLE-STRUCTURED-LOCATION;VALUE=URI;X-ADDRESS=First Ward Park 301 E 7th St Charlotte NC 28202 United States;X-APPLE-RADIUS=500;X-TITLE=301 E 7th St:geo:-80.8373233,35.2277332
END:VEVENT
END:VCALENDAR