BEGIN:VCALENDAR
VERSION:2.0
PRODID:-//Freedom Temple Ministries - ECPv6.15.20//NONSGML v1.0//EN
CALSCALE:GREGORIAN
METHOD:PUBLISH
X-ORIGINAL-URL:https://ftmrockhill.org
X-WR-CALDESC:Events for Freedom Temple Ministries
REFRESH-INTERVAL;VALUE=DURATION:PT1H
X-Robots-Tag:noindex
X-PUBLISHED-TTL:PT1H
BEGIN:VTIMEZONE
TZID:America/New_York
BEGIN:DAYLIGHT
TZOFFSETFROM:-0500
TZOFFSETTO:-0400
TZNAME:EDT
DTSTART:20150308T070000
END:DAYLIGHT
BEGIN:STANDARD
TZOFFSETFROM:-0400
TZOFFSETTO:-0500
TZNAME:EST
DTSTART:20151101T060000
END:STANDARD
BEGIN:DAYLIGHT
TZOFFSETFROM:-0500
TZOFFSETTO:-0400
TZNAME:EDT
DTSTART:20160313T070000
END:DAYLIGHT
BEGIN:STANDARD
TZOFFSETFROM:-0400
TZOFFSETTO:-0500
TZNAME:EST
DTSTART:20161106T060000
END:STANDARD
BEGIN:DAYLIGHT
TZOFFSETFROM:-0500
TZOFFSETTO:-0400
TZNAME:EDT
DTSTART:20170312T070000
END:DAYLIGHT
BEGIN:STANDARD
TZOFFSETFROM:-0400
TZOFFSETTO:-0500
TZNAME:EST
DTSTART:20171105T060000
END:STANDARD
BEGIN:DAYLIGHT
TZOFFSETFROM:-0500
TZOFFSETTO:-0400
TZNAME:EDT
DTSTART:20180311T070000
END:DAYLIGHT
BEGIN:STANDARD
TZOFFSETFROM:-0400
TZOFFSETTO:-0500
TZNAME:EST
DTSTART:20181104T060000
END:STANDARD
END:VTIMEZONE
BEGIN:VEVENT
DTSTART;TZID=America/New_York:20170517T100000
DTEND;TZID=America/New_York:20170517T120000
DTSTAMP:20260424T104358
CREATED:20161010T145607Z
LAST-MODIFIED:20170327T200907Z
UID:26933-1495015200-1495022400@ftmrockhill.org
SUMMARY:FTM-JOY Meeting
DESCRIPTION:Standards of Freedom Mini Session – Genetic/DNA Testing \nHosted by Director of the Women’s Ministry\, Lady Dawn Crump
URL:https://ftmrockhill.org/event/ftm-joy-meeting-2017-05-17/
LOCATION:Freedom Cafe\, 215 East Main St\, Rock Hill\, SC\, 29730\, United States
GEO:34.9252736;-81.0251487
X-APPLE-STRUCTURED-LOCATION;VALUE=URI;X-ADDRESS=Freedom Cafe 215 East Main St Rock Hill SC 29730 United States;X-APPLE-RADIUS=500;X-TITLE=215 East Main St:geo:-81.0251487,34.9252736
END:VEVENT
BEGIN:VEVENT
DTSTART;TZID=America/New_York:20170503T100000
DTEND;TZID=America/New_York:20170503T120000
DTSTAMP:20260424T104358
CREATED:20161010T145607Z
LAST-MODIFIED:20170327T194801Z
UID:26931-1493805600-1493812800@ftmrockhill.org
SUMMARY:FTM-JOY Meeting
DESCRIPTION:Standards of Freedom Mini Session – Ethnic Skincare \nHosted by Director of the Women’s Ministry\, Lady Dawn Crump
URL:https://ftmrockhill.org/event/ftm-joy-meeting-2017-05-03/
LOCATION:Freedom Cafe\, 215 East Main St\, Rock Hill\, SC\, 29730\, United States
GEO:34.9252736;-81.0251487
X-APPLE-STRUCTURED-LOCATION;VALUE=URI;X-ADDRESS=Freedom Cafe 215 East Main St Rock Hill SC 29730 United States;X-APPLE-RADIUS=500;X-TITLE=215 East Main St:geo:-81.0251487,34.9252736
END:VEVENT
BEGIN:VEVENT
DTSTART;TZID=America/New_York:20161005T100000
DTEND;TZID=America/New_York:20161005T120000
DTSTAMP:20260424T104358
CREATED:20161010T145607Z
LAST-MODIFIED:20161010T145607Z
UID:26901-1475661600-1475668800@ftmrockhill.org
SUMMARY:FTM-JOY Meeting
DESCRIPTION:
URL:https://ftmrockhill.org/event/ftm-joy-meeting/2016-10-05/
LOCATION:Freedom Cafe\, 215 East Main St\, Rock Hill\, SC\, 29730\, United States
GEO:34.9252736;-81.0251487
X-APPLE-STRUCTURED-LOCATION;VALUE=URI;X-ADDRESS=Freedom Cafe 215 East Main St Rock Hill SC 29730 United States;X-APPLE-RADIUS=500;X-TITLE=215 East Main St:geo:-81.0251487,34.9252736
END:VEVENT
END:VCALENDAR