BEGIN:VCALENDAR
VERSION:2.0
PRODID:-//Freedom Temple Ministries - ECPv6.15.20//NONSGML v1.0//EN
CALSCALE:GREGORIAN
METHOD:PUBLISH
X-ORIGINAL-URL:https://ftmrockhill.org
X-WR-CALDESC:Events for Freedom Temple Ministries
REFRESH-INTERVAL;VALUE=DURATION:PT1H
X-Robots-Tag:noindex
X-PUBLISHED-TTL:PT1H
BEGIN:VTIMEZONE
TZID:America/New_York
BEGIN:DAYLIGHT
TZOFFSETFROM:-0500
TZOFFSETTO:-0400
TZNAME:EDT
DTSTART:20170312T070000
END:DAYLIGHT
BEGIN:STANDARD
TZOFFSETFROM:-0400
TZOFFSETTO:-0500
TZNAME:EST
DTSTART:20171105T060000
END:STANDARD
BEGIN:DAYLIGHT
TZOFFSETFROM:-0500
TZOFFSETTO:-0400
TZNAME:EDT
DTSTART:20180311T070000
END:DAYLIGHT
BEGIN:STANDARD
TZOFFSETFROM:-0400
TZOFFSETTO:-0500
TZNAME:EST
DTSTART:20181104T060000
END:STANDARD
BEGIN:DAYLIGHT
TZOFFSETFROM:-0500
TZOFFSETTO:-0400
TZNAME:EDT
DTSTART:20190310T070000
END:DAYLIGHT
BEGIN:STANDARD
TZOFFSETFROM:-0400
TZOFFSETTO:-0500
TZNAME:EST
DTSTART:20191103T060000
END:STANDARD
BEGIN:DAYLIGHT
TZOFFSETFROM:-0500
TZOFFSETTO:-0400
TZNAME:EDT
DTSTART:20200308T070000
END:DAYLIGHT
BEGIN:STANDARD
TZOFFSETFROM:-0400
TZOFFSETTO:-0500
TZNAME:EST
DTSTART:20201101T060000
END:STANDARD
BEGIN:DAYLIGHT
TZOFFSETFROM:-0500
TZOFFSETTO:-0400
TZNAME:EDT
DTSTART:20210314T070000
END:DAYLIGHT
BEGIN:STANDARD
TZOFFSETFROM:-0400
TZOFFSETTO:-0500
TZNAME:EST
DTSTART:20211107T060000
END:STANDARD
END:VTIMEZONE
BEGIN:VEVENT
DTSTART;TZID=America/New_York:20200214T100000
DTEND;TZID=America/New_York:20200214T130000
DTSTAMP:20260424T113930
CREATED:20180201T164626Z
LAST-MODIFIED:20200214T182458Z
UID:27932-1581674400-1581685200@ftmrockhill.org
SUMMARY:Clothing Closet Open
DESCRIPTION:Clothing Closet is open Saturday from 10am to 1pm. Everyone is welcome! Please remember no donations until further notice. Thank you!
URL:https://ftmrockhill.org/event/clothing-closet-is-open/2020-02-14/
LOCATION:Freedom Temple Ministries\, 215 E Main Street\, Rock Hill\, SC\, 29730\, United States
CATEGORIES:Flyers
ATTACH;FMTTYPE=image/jpeg:https://ftmrockhill.org/wp-content/uploads/2018/02/FTM-Clothing-Closet-FLYER-1-scaled.jpg
GEO:34.9253772;-81.0251291
X-APPLE-STRUCTURED-LOCATION;VALUE=URI;X-ADDRESS=Freedom Temple Ministries 215 E Main Street Rock Hill SC 29730 United States;X-APPLE-RADIUS=500;X-TITLE=215 E Main Street:geo:-81.0251291,34.9253772
END:VEVENT
BEGIN:VEVENT
DTSTART;TZID=America/New_York:20190505T070000
DTEND;TZID=America/New_York:20190505T090000
DTSTAMP:20260424T113930
CREATED:20181101T192422Z
LAST-MODIFIED:20190806T145053Z
UID:28758-1557039600-1557046800@ftmrockhill.org
SUMMARY:Men's Sunday Prayer
DESCRIPTION:  \nMen’s Sunday Prayer is every 1st Sunday of the month at 7:00 am and 9:00 am in the Freedom Little Chapel.  Real Men Pray!
URL:https://ftmrockhill.org/event/mens-sunday-prayer/2019-05-05/
LOCATION:Freedom Temple Ministries\, 215 E Main Street\, Rock Hill\, SC\, 29730\, United States
ATTACH;FMTTYPE=image/jpeg:https://ftmrockhill.org/wp-content/uploads/2018/11/Mens-Prayer-Sunday.jpg
ORGANIZER;CN="Bro. Darryl Hunter":MAILTO:dhunter@ftmrockhill.org
GEO:34.9253772;-81.0251291
X-APPLE-STRUCTURED-LOCATION;VALUE=URI;X-ADDRESS=Freedom Temple Ministries 215 E Main Street Rock Hill SC 29730 United States;X-APPLE-RADIUS=500;X-TITLE=215 E Main Street:geo:-81.0251291,34.9253772
END:VEVENT
BEGIN:VEVENT
DTSTART;TZID=America/New_York:20190112T100000
DTEND;TZID=America/New_York:20190112T120000
DTSTAMP:20260424T113930
CREATED:20181101T150442Z
LAST-MODIFIED:20181228T194149Z
UID:28744-1547287200-1547294400@ftmrockhill.org
SUMMARY:Parent Basics Workshop
DESCRIPTION:  \nInformation will be shared with parents regarding childhood depression\, anxiety\, and the internet/cyber awareness.
URL:https://ftmrockhill.org/event/parent-basics-workshop/
LOCATION:Freedom Temple Ministries\, 215 E Main Street\, Rock Hill\, SC\, 29730\, United States
CATEGORIES:Flyers
ATTACH;FMTTYPE=image/jpeg:https://ftmrockhill.org/wp-content/uploads/2018/11/FTM-Parent-Workshop-Flyer-scaled.jpg
GEO:34.9253772;-81.0251291
X-APPLE-STRUCTURED-LOCATION;VALUE=URI;X-ADDRESS=Freedom Temple Ministries 215 E Main Street Rock Hill SC 29730 United States;X-APPLE-RADIUS=500;X-TITLE=215 E Main Street:geo:-81.0251291,34.9253772
END:VEVENT
BEGIN:VEVENT
DTSTART;TZID=America/New_York:20190109T193000
DTEND;TZID=America/New_York:20190109T210000
DTSTAMP:20260424T113930
CREATED:20181228T205945Z
LAST-MODIFIED:20181228T205945Z
UID:28966-1547062200-1547067600@ftmrockhill.org
SUMMARY:New Beginnings Revival
DESCRIPTION:  \nPlease join us for our New Beginnings Revival every Wednesday in January starting on January 9th.  Guest speakers each Wednesday night.
URL:https://ftmrockhill.org/event/new-beginnings-revival/2019-01-09/
LOCATION:Freedom Temple Ministries\, 215 E Main Street\, Rock Hill\, SC\, 29730\, United States
CATEGORIES:Flyers
ATTACH;FMTTYPE=image/jpeg:https://ftmrockhill.org/wp-content/uploads/2016/12/New-Beginning-Revival.jpg
GEO:34.9253772;-81.0251291
X-APPLE-STRUCTURED-LOCATION;VALUE=URI;X-ADDRESS=Freedom Temple Ministries 215 E Main Street Rock Hill SC 29730 United States;X-APPLE-RADIUS=500;X-TITLE=215 E Main Street:geo:-81.0251291,34.9253772
END:VEVENT
BEGIN:VEVENT
DTSTART;TZID=America/New_York:20190101T080000
DTEND;TZID=America/New_York:20190131T170000
DTSTAMP:20260424T113930
CREATED:20181101T152058Z
LAST-MODIFIED:20181101T160450Z
UID:28745-1546329600-1548954000@ftmrockhill.org
SUMMARY:Women's Ministry presents "The Collection of formal wear for 2019 Prom Season."
DESCRIPTION:  \nFor the month of January\, members are asked to bring their new or gently use formal wear\, dresses\, gowns\, tuxedos\, bow ties\, shoes\, etc.\, to be distributed to teenagers in the community in need or want an out fit for the prom season.  You may drop off items after each service on Sundays\, 8am and 10am\, or Wednesday after Freedom Bible Institute.
URL:https://ftmrockhill.org/event/womens-ministry-presents-the-collection-of-formal-wear-for-2019-prom-season/
LOCATION:Freedom Temple Ministries\, 215 E Main Street\, Rock Hill\, SC\, 29730\, United States
GEO:34.9253772;-81.0251291
X-APPLE-STRUCTURED-LOCATION;VALUE=URI;X-ADDRESS=Freedom Temple Ministries 215 E Main Street Rock Hill SC 29730 United States;X-APPLE-RADIUS=500;X-TITLE=215 E Main Street:geo:-81.0251291,34.9253772
END:VEVENT
BEGIN:VEVENT
DTSTART;TZID=America/New_York:20181231T193000
DTEND;TZID=America/New_York:20181231T210000
DTSTAMP:20260424T113930
CREATED:20181203T193310Z
LAST-MODIFIED:20181203T193310Z
UID:28890-1546284600-1546290000@ftmrockhill.org
SUMMARY:New Year's Eve Celebration
DESCRIPTION:  \nPlease join us for our New Year’s Eve Celebration on December 31st at 7:30 pm.  Love to see you there!
URL:https://ftmrockhill.org/event/new-years-eve-celebration-2/
LOCATION:Freedom Temple Ministries\, 215 E Main Street\, Rock Hill\, SC\, 29730\, United States
CATEGORIES:Flyers
ATTACH;FMTTYPE=image/jpeg:https://ftmrockhill.org/wp-content/uploads/2018/12/FTM-New-Years-Eve-2018-Flyer-scaled.jpg
GEO:34.9253772;-81.0251291
X-APPLE-STRUCTURED-LOCATION;VALUE=URI;X-ADDRESS=Freedom Temple Ministries 215 E Main Street Rock Hill SC 29730 United States;X-APPLE-RADIUS=500;X-TITLE=215 E Main Street:geo:-81.0251291,34.9253772
END:VEVENT
BEGIN:VEVENT
DTSTART;TZID=America/New_York:20181223T080000
DTEND;TZID=America/New_York:20181223T120000
DTSTAMP:20260424T113930
CREATED:20181203T191728Z
LAST-MODIFIED:20181203T192055Z
UID:28887-1545552000-1545566400@ftmrockhill.org
SUMMARY:Christmas Sunday Celebration
DESCRIPTION:Please join us for our Christmas Celebration on December 23rd at the 8am and 10am services.  Please wear your favorite Christmas Sweater!
URL:https://ftmrockhill.org/event/christmas-sweater-sunday/
LOCATION:Freedom Temple Ministries\, 215 E Main Street\, Rock Hill\, SC\, 29730\, United States
CATEGORIES:Flyers
ATTACH;FMTTYPE=image/jpeg:https://ftmrockhill.org/wp-content/uploads/2018/12/FTM-Christmas-2018-Flyer-scaled.jpg
GEO:34.9253772;-81.0251291
X-APPLE-STRUCTURED-LOCATION;VALUE=URI;X-ADDRESS=Freedom Temple Ministries 215 E Main Street Rock Hill SC 29730 United States;X-APPLE-RADIUS=500;X-TITLE=215 E Main Street:geo:-81.0251291,34.9253772
END:VEVENT
BEGIN:VEVENT
DTSTART;TZID=America/New_York:20181220T190000
DTEND;TZID=America/New_York:20181220T210000
DTSTAMP:20260424T113930
CREATED:20181101T150202Z
LAST-MODIFIED:20181204T214436Z
UID:28743-1545332400-1545339600@ftmrockhill.org
SUMMARY:"Wrap It Up" Gift Wrapping Session
DESCRIPTION:  \nAn enjoyable fellowship opportunity for women to bring their Christmas gifts and wrap them without wandering or peeking eyes.  Or for men to bring their gifts and receive “help” with gift wrapping.  Bring your own wrapping paper or bags.  Tissue and tape will be provided. Event will be held in the Freedom Cafe.
URL:https://ftmrockhill.org/event/wrap-it-up-gift-wrapping-session/
LOCATION:Freedom Temple Ministries\, 215 E Main Street\, Rock Hill\, SC\, 29730\, United States
CATEGORIES:Flyers
ATTACH;FMTTYPE=image/jpeg:https://ftmrockhill.org/wp-content/uploads/2018/11/FTM-Wrap-It-Up-Flyer-2-1-scaled.jpg
GEO:34.9253772;-81.0251291
X-APPLE-STRUCTURED-LOCATION;VALUE=URI;X-ADDRESS=Freedom Temple Ministries 215 E Main Street Rock Hill SC 29730 United States;X-APPLE-RADIUS=500;X-TITLE=215 E Main Street:geo:-81.0251291,34.9253772
END:VEVENT
BEGIN:VEVENT
DTSTART;TZID=America/New_York:20181215T180000
DTEND;TZID=America/New_York:20181215T200000
DTSTAMP:20260424T113930
CREATED:20181101T145552Z
LAST-MODIFIED:20181206T175147Z
UID:28741-1544896800-1544904000@ftmrockhill.org
SUMMARY:Women's Ministry Christmas Social
DESCRIPTION:Click here to register for the event\n“Tis the season to Rock that Ugly Sweater”- Come eat\, drink\, and be merry with the women of Freedom! Join us on Saturday\, December 15\, 2018 from 6:00pm-8:00pm for fun-filled activities including ornament making\, a scavenger hunt\, and Christian comedy featuring invited guest Mz. Thelma. Please bring a feminine hygiene product\, toiletry item\, or ethnic hair care product to donate to a local charity.
URL:https://ftmrockhill.org/event/womens-ministry-christmas-social/
LOCATION:Freedom Temple Ministries\, 215 E Main Street\, Rock Hill\, SC\, 29730\, United States
CATEGORIES:Flyers
ATTACH;FMTTYPE=image/jpeg:https://ftmrockhill.org/wp-content/uploads/2018/11/FTM-Christmas-Ugly-Sweater-Flyer-scaled.jpg
GEO:34.9253772;-81.0251291
X-APPLE-STRUCTURED-LOCATION;VALUE=URI;X-ADDRESS=Freedom Temple Ministries 215 E Main Street Rock Hill SC 29730 United States;X-APPLE-RADIUS=500;X-TITLE=215 E Main Street:geo:-81.0251291,34.9253772
END:VEVENT
BEGIN:VEVENT
DTSTART;TZID=America/New_York:20181202T183000
DTEND;TZID=America/New_York:20181202T203000
DTSTAMP:20260424T113930
CREATED:20181102T190019Z
LAST-MODIFIED:20181102T190019Z
UID:28778-1543775400-1543782600@ftmrockhill.org
SUMMARY:Narroway Theater "The Real Christmas Story"
DESCRIPTION:Join us at Narroway Theater to see the play “The Real Christmas Story” on December 2nd at 6:30pm.  You may purchase your tickets through Peggy Johnson\, Administrator\, (803) 327-7888.  If you’ve never been\, you are in for a treat!
URL:https://ftmrockhill.org/event/narroway-theater-the-real-christmas-story/
LOCATION:Freedom Temple Ministries\, 215 E Main Street\, Rock Hill\, SC\, 29730\, United States
CATEGORIES:Flyers
ATTACH;FMTTYPE=image/jpeg:https://ftmrockhill.org/wp-content/uploads/2018/11/Womens-Ministry-Event-Flyer.jpg
GEO:34.9253772;-81.0251291
X-APPLE-STRUCTURED-LOCATION;VALUE=URI;X-ADDRESS=Freedom Temple Ministries 215 E Main Street Rock Hill SC 29730 United States;X-APPLE-RADIUS=500;X-TITLE=215 E Main Street:geo:-81.0251291,34.9253772
END:VEVENT
BEGIN:VEVENT
DTSTART;TZID=America/New_York:20181129T080000
DTEND;TZID=America/New_York:20181202T170000
DTSTAMP:20260424T113930
CREATED:20181121T224257Z
LAST-MODIFIED:20181121T224647Z
UID:28797-1543478400-1543770000@ftmrockhill.org
SUMMARY:Christmasville
DESCRIPTION:  \nChristmasville begins this week on November 29th – December 2nd.  Freedom Montessori is hosting a “Montessori Christmas Experience on December 1st at the Freedom Center from 10am – 12pm.  Freedom Temple Ministry will be hosting “Christmas Musical on Main” on December 1st at 6:30pm.  Hope to see you there!
URL:https://ftmrockhill.org/event/christmasville/
LOCATION:Freedom Temple Ministries\, 215 E Main Street\, Rock Hill\, SC\, 29730\, United States
CATEGORIES:Flyers
ATTACH;FMTTYPE=image/jpeg:https://ftmrockhill.org/wp-content/uploads/2018/11/Christmasville-Logo.jpg
GEO:34.9253772;-81.0251291
X-APPLE-STRUCTURED-LOCATION;VALUE=URI;X-ADDRESS=Freedom Temple Ministries 215 E Main Street Rock Hill SC 29730 United States;X-APPLE-RADIUS=500;X-TITLE=215 E Main Street:geo:-81.0251291,34.9253772
END:VEVENT
BEGIN:VEVENT
DTSTART;TZID=America/New_York:20181118T150000
DTEND;TZID=America/New_York:20181118T170000
DTSTAMP:20260424T113930
CREATED:20181108T191227Z
LAST-MODIFIED:20181108T191227Z
UID:28782-1542553200-1542560400@ftmrockhill.org
SUMMARY:A Holiday Feast in Grand Style
DESCRIPTION:Please join Ms. Sherille Barber in her efforts to serve those in our community a hearty Thanksgiving dinner on November 18th at 3pm in the Freedom Center Gym.  Volunteers are needed for the day of the event.  For more information\, please contact Ms. Sherille Barber at (704) 301-0625.
URL:https://ftmrockhill.org/event/a-holiday-feast-in-grand-style/
LOCATION:Freedom Temple Ministries\, 215 E Main Street\, Rock Hill\, SC\, 29730\, United States
CATEGORIES:Flyers
ATTACH;FMTTYPE=image/jpeg:https://ftmrockhill.org/wp-content/uploads/2018/11/A-Holiday-Feast-2-scaled.jpg
ORGANIZER;CN="Unnamed Organizer":MAILTO:SBROOKS9@TOPNOTCHDESTINATIONS.COM
GEO:34.9253772;-81.0251291
X-APPLE-STRUCTURED-LOCATION;VALUE=URI;X-ADDRESS=Freedom Temple Ministries 215 E Main Street Rock Hill SC 29730 United States;X-APPLE-RADIUS=500;X-TITLE=215 E Main Street:geo:-81.0251291,34.9253772
END:VEVENT
BEGIN:VEVENT
DTSTART;TZID=America/New_York:20181105T190000
DTEND;TZID=America/New_York:20181105T210000
DTSTAMP:20260424T113930
CREATED:20181101T193506Z
LAST-MODIFIED:20181101T193636Z
UID:28772-1541444400-1541451600@ftmrockhill.org
SUMMARY:Voices of Freedom Vocal Evaluation & Orientation
DESCRIPTION:Vocal Evaluations & Orientations are being held on November 5th\, 12th\, and 19th of November\, 2018.  The Evaluations & Orientations will be held in the Freedom Cafe at 7 pm.  Please attend if you would like to be a part of the Voices of Freedom Choir.
URL:https://ftmrockhill.org/event/voices-of-freedom-vocal-evaluation-orientation/2018-11-05/
LOCATION:Freedom Temple Ministries\, 215 E Main Street\, Rock Hill\, SC\, 29730\, United States
CATEGORIES:Flyers
ATTACH;FMTTYPE=image/jpeg:https://ftmrockhill.org/wp-content/uploads/2018/11/Choir-VOCAL-EVALUATION-ORIENTATION.jpg
GEO:34.9253772;-81.0251291
X-APPLE-STRUCTURED-LOCATION;VALUE=URI;X-ADDRESS=Freedom Temple Ministries 215 E Main Street Rock Hill SC 29730 United States;X-APPLE-RADIUS=500;X-TITLE=215 E Main Street:geo:-81.0251291,34.9253772
END:VEVENT
BEGIN:VEVENT
DTSTART;TZID=America/New_York:20181019T190000
DTEND;TZID=America/New_York:20181019T220000
DTSTAMP:20260424T113930
CREATED:20181002T183624Z
LAST-MODIFIED:20181002T183624Z
UID:28551-1539975600-1539986400@ftmrockhill.org
SUMMARY:Movie Night Out @ Freedom Temple Ministries
DESCRIPTION:Join the Women’s Ministry and JOY Ministry for a Movie Night Out on October 19th at 7:00 pm.  It will be an evening of food\, fun\, and fellowship!  Bring your favorite appetizer or snack to share!
URL:https://ftmrockhill.org/event/movie-night-out-freedom-temple-ministries/
LOCATION:Freedom Temple Ministries\, 215 E Main Street\, Rock Hill\, SC\, 29730\, United States
CATEGORIES:Flyers
ATTACH;FMTTYPE=image/jpeg:https://ftmrockhill.org/wp-content/uploads/2018/10/Movie-Night.jpg
ORGANIZER;CN="Dawn Crump":MAILTO:dcrump@ftmrockhill.org
GEO:34.9253772;-81.0251291
X-APPLE-STRUCTURED-LOCATION;VALUE=URI;X-ADDRESS=Freedom Temple Ministries 215 E Main Street Rock Hill SC 29730 United States;X-APPLE-RADIUS=500;X-TITLE=215 E Main Street:geo:-81.0251291,34.9253772
END:VEVENT
BEGIN:VEVENT
DTSTART;TZID=America/New_York:20181014T080000
DTEND;TZID=America/New_York:20181014T130000
DTSTAMP:20260424T113930
CREATED:20181002T182903Z
LAST-MODIFIED:20181002T182903Z
UID:28547-1539504000-1539522000@ftmrockhill.org
SUMMARY:18th Church Anniversary
DESCRIPTION:  \nFreedom Temple Ministries will celebrate our 18th year Church Anniversary on Sunday\, October 14th.  Come join in on the celebration!
URL:https://ftmrockhill.org/event/18th-church-anniversary/
LOCATION:Freedom Temple Ministries\, 215 E Main Street\, Rock Hill\, SC\, 29730\, United States
CATEGORIES:Flyers
ATTACH;FMTTYPE=image/jpeg:https://ftmrockhill.org/wp-content/uploads/2018/10/18th-Church-Anniversary.jpg
GEO:34.9253772;-81.0251291
X-APPLE-STRUCTURED-LOCATION;VALUE=URI;X-ADDRESS=Freedom Temple Ministries 215 E Main Street Rock Hill SC 29730 United States;X-APPLE-RADIUS=500;X-TITLE=215 E Main Street:geo:-81.0251291,34.9253772
END:VEVENT
BEGIN:VEVENT
DTSTART;TZID=America/New_York:20181013T140000
DTEND;TZID=America/New_York:20181013T160000
DTSTAMP:20260424T113930
CREATED:20180912T203242Z
LAST-MODIFIED:20180912T203447Z
UID:28532-1539439200-1539446400@ftmrockhill.org
SUMMARY:2018 Dance Explosion/Dance Strong
DESCRIPTION:  \nYou are invited to join Freedom Temple Ministries in a worship experience featuring The Anointed Dancers of Freedom on October 13\, 2018 at 2:00 pm at Freedom Temple Ministries.
URL:https://ftmrockhill.org/event/2018-dance-explosiondance-strong/2018-10-13/
LOCATION:Freedom Temple Ministries\, 215 E Main Street\, Rock Hill\, SC\, 29730\, United States
CATEGORIES:Flyers
ATTACH;FMTTYPE=image/jpeg:https://ftmrockhill.org/wp-content/uploads/2018/09/Dance-Strong-Flyer.jpeg
ORGANIZER;CN="Mary Knox":MAILTO:mknox@ftmrockhill.org
GEO:34.9253772;-81.0251291
X-APPLE-STRUCTURED-LOCATION;VALUE=URI;X-ADDRESS=Freedom Temple Ministries 215 E Main Street Rock Hill SC 29730 United States;X-APPLE-RADIUS=500;X-TITLE=215 E Main Street:geo:-81.0251291,34.9253772
END:VEVENT
BEGIN:VEVENT
DTSTART;VALUE=DATE:20181001
DTEND;VALUE=DATE:20181101
DTSTAMP:20260424T113930
CREATED:20181002T184949Z
LAST-MODIFIED:20181002T184949Z
UID:28552-1538352000-1541030399@ftmrockhill.org
SUMMARY:Breast Cancer Awareness Month
DESCRIPTION:  \nOctober is Breast Cancer Awareness Month.
URL:https://ftmrockhill.org/event/breast-cancer-awareness-month/
LOCATION:Freedom Temple Ministries\, 215 E Main Street\, Rock Hill\, SC\, 29730\, United States
CATEGORIES:Flyers
ATTACH;FMTTYPE=image/jpeg:https://ftmrockhill.org/wp-content/uploads/2018/10/Breast-Cancer-Awareness-Month.jpg
GEO:34.9253772;-81.0251291
X-APPLE-STRUCTURED-LOCATION;VALUE=URI;X-ADDRESS=Freedom Temple Ministries 215 E Main Street Rock Hill SC 29730 United States;X-APPLE-RADIUS=500;X-TITLE=215 E Main Street:geo:-81.0251291,34.9253772
END:VEVENT
BEGIN:VEVENT
DTSTART;TZID=America/New_York:20180916T070000
DTEND;TZID=America/New_York:20180916T130000
DTSTAMP:20260424T113930
CREATED:20180916T000259Z
LAST-MODIFIED:20180916T000715Z
UID:28538-1537081200-1537102800@ftmrockhill.org
SUMMARY:All Services and Activities for Sunday\, September 16th are cancelled.
DESCRIPTION:  \nAll services and activities for Freedom Temple Ministries are cancelled for Sunday\, September 16\, 2018.
URL:https://ftmrockhill.org/event/cancellation-of-all-services-for-sunday-september-16th/
LOCATION:Freedom Temple Ministries\, 215 E Main Street\, Rock Hill\, SC\, 29730\, United States
GEO:34.9253772;-81.0251291
X-APPLE-STRUCTURED-LOCATION;VALUE=URI;X-ADDRESS=Freedom Temple Ministries 215 E Main Street Rock Hill SC 29730 United States;X-APPLE-RADIUS=500;X-TITLE=215 E Main Street:geo:-81.0251291,34.9253772
END:VEVENT
BEGIN:VEVENT
DTSTART;TZID=America/New_York:20180912T190000
DTEND;TZID=America/New_York:20180912T200000
DTSTAMP:20260424T113930
CREATED:20180822T173822Z
LAST-MODIFIED:20181228T204009Z
UID:28202-1536778800-1536782400@ftmrockhill.org
SUMMARY:Freedom Bible Institute/Bible Study
DESCRIPTION:  \nAre you wanting to learn more about the Bible and the teachings of Christ?  Come and join us on Wednesday nights for one hour in our small group sessions as we learn basic Bible doctrine.  Each session will be facilitated by a group leader and designed so that you will be able to ask questions and find answers in the Bible.
URL:https://ftmrockhill.org/event/freedom-bible-institutebible-study/2018-09-12/
LOCATION:Freedom Temple Ministries\, 215 E Main Street\, Rock Hill\, SC\, 29730\, United States
ATTACH;FMTTYPE=image/jpeg:https://ftmrockhill.org/wp-content/uploads/2018/08/FBI-1.jpg
GEO:34.9253772;-81.0251291
X-APPLE-STRUCTURED-LOCATION;VALUE=URI;X-ADDRESS=Freedom Temple Ministries 215 E Main Street Rock Hill SC 29730 United States;X-APPLE-RADIUS=500;X-TITLE=215 E Main Street:geo:-81.0251291,34.9253772
END:VEVENT
BEGIN:VEVENT
DTSTART;TZID=America/New_York:20180909T080000
DTEND;TZID=America/New_York:20180909T120000
DTSTAMP:20260424T113930
CREATED:20180906T142249Z
LAST-MODIFIED:20180906T143043Z
UID:28496-1536480000-1536494400@ftmrockhill.org
SUMMARY:Men's Day
DESCRIPTION:Join us for Men’s Day on September 9th at the 8am and 10am services.  Our 8am speaker is Pastor Wendell Wylie from Mt Zion Baptist Church in Blackstock\, SC.  Our 10am speaker is Robert A. Capers\, Founder & Pastor of The House of Freedom Fellowship Church in Cheraw\, SC. \n  \n 
URL:https://ftmrockhill.org/event/mens-day-4/
LOCATION:Freedom Temple Ministries\, 215 E Main Street\, Rock Hill\, SC\, 29730\, United States
CATEGORIES:Flyers
ATTACH;FMTTYPE=image/jpeg:https://ftmrockhill.org/wp-content/uploads/2018/09/Mens-Day.jpg
GEO:34.9253772;-81.0251291
X-APPLE-STRUCTURED-LOCATION;VALUE=URI;X-ADDRESS=Freedom Temple Ministries 215 E Main Street Rock Hill SC 29730 United States;X-APPLE-RADIUS=500;X-TITLE=215 E Main Street:geo:-81.0251291,34.9253772
END:VEVENT
BEGIN:VEVENT
DTSTART;TZID=America/New_York:20180905T190000
DTEND;TZID=America/New_York:20180905T200000
DTSTAMP:20260424T113930
CREATED:20180823T143905Z
LAST-MODIFIED:20180823T144834Z
UID:28420-1536174000-1536177600@ftmrockhill.org
SUMMARY:Kickoff:  Back to Christian Education Night
DESCRIPTION:  \nPlease join us for Back to Christian Education Night.  A.A.Y.M. in conjunction with the Christian Education Department has planned an exciting night of fun and fellowship for the family!
URL:https://ftmrockhill.org/event/kickoff-back-to-christian-education-night/
LOCATION:Freedom Temple Ministries\, 215 E Main Street\, Rock Hill\, SC\, 29730\, United States
CATEGORIES:Flyers
ATTACH;FMTTYPE=image/jpeg:https://ftmrockhill.org/wp-content/uploads/2018/08/KickOff-2-1.jpg
GEO:34.9253772;-81.0251291
X-APPLE-STRUCTURED-LOCATION;VALUE=URI;X-ADDRESS=Freedom Temple Ministries 215 E Main Street Rock Hill SC 29730 United States;X-APPLE-RADIUS=500;X-TITLE=215 E Main Street:geo:-81.0251291,34.9253772
END:VEVENT
END:VCALENDAR