BEGIN:VCALENDAR
VERSION:2.0
PRODID:-//Freedom Temple Ministries - ECPv6.15.20//NONSGML v1.0//EN
CALSCALE:GREGORIAN
METHOD:PUBLISH
X-ORIGINAL-URL:https://ftmrockhill.org
X-WR-CALDESC:Events for Freedom Temple Ministries
REFRESH-INTERVAL;VALUE=DURATION:PT1H
X-Robots-Tag:noindex
X-PUBLISHED-TTL:PT1H
BEGIN:VTIMEZONE
TZID:America/New_York
BEGIN:DAYLIGHT
TZOFFSETFROM:-0500
TZOFFSETTO:-0400
TZNAME:EDT
DTSTART:20170312T070000
END:DAYLIGHT
BEGIN:STANDARD
TZOFFSETFROM:-0400
TZOFFSETTO:-0500
TZNAME:EST
DTSTART:20171105T060000
END:STANDARD
BEGIN:DAYLIGHT
TZOFFSETFROM:-0500
TZOFFSETTO:-0400
TZNAME:EDT
DTSTART:20180311T070000
END:DAYLIGHT
BEGIN:STANDARD
TZOFFSETFROM:-0400
TZOFFSETTO:-0500
TZNAME:EST
DTSTART:20181104T060000
END:STANDARD
BEGIN:DAYLIGHT
TZOFFSETFROM:-0500
TZOFFSETTO:-0400
TZNAME:EDT
DTSTART:20190310T070000
END:DAYLIGHT
BEGIN:STANDARD
TZOFFSETFROM:-0400
TZOFFSETTO:-0500
TZNAME:EST
DTSTART:20191103T060000
END:STANDARD
END:VTIMEZONE
BEGIN:VEVENT
DTSTART;TZID=America/New_York:20181003T080000
DTEND;TZID=America/New_York:20181007T170000
DTSTAMP:20260424T123918
CREATED:20180907T210305Z
LAST-MODIFIED:20181011T155321Z
UID:28505-1538553600-1538931600@ftmrockhill.org
SUMMARY:Calvary Crusade 2018 Events
DESCRIPTION:  \nHow excited we are about the 2018 Calvary Crusade!  Here are some of the featured events for October 5th\, 6th and 7th.  Looking forward to seeing you there!
URL:https://ftmrockhill.org/event/calvary-crusade-2018-events/2018-10-03/
LOCATION:MELIA\, Nassau\, Bahamas
END:VEVENT
BEGIN:VEVENT
DTSTART;TZID=America/New_York:20181003T080000
DTEND;TZID=America/New_York:20181007T170000
DTSTAMP:20260424T123918
CREATED:20180515T004342Z
LAST-MODIFIED:20180601T155843Z
UID:28043-1538553600-1538931600@ftmrockhill.org
SUMMARY:Calvary Crusade 2018
DESCRIPTION:
URL:https://ftmrockhill.org/event/calvary-crusade-2018/
LOCATION:MELIA\, Nassau\, Bahamas
CATEGORIES:Flyers
ATTACH;FMTTYPE=image/jpeg:https://ftmrockhill.org/wp-content/uploads/2018/06/Calvary-Crusade-Flyer-2-SQUARE-2.jpg
ORGANIZER;CN="Unnamed Organizer":MAILTO:SBROOKS9@TOPNOTCHDESTINATIONS.COM
END:VEVENT
END:VCALENDAR